{"text_format":"2","workbook":"xlsx","n_sheets":10,"sheets":["사용승인별 현황","총괄표","대덕구","공동주택 노후현황","기본정보","Sheet1","169-0. 공동주택 건립","169-1. 세대수별","169-2. 유형별","169-3. 사용년수별"],"not_rendered":{"charts":0,"images":0,"macros":0,"external_links":1,"defined_names":32,"comments":1,"pivot_tables":0},"unopened":[],"bounds":{"document_bytes":16777216,"sheet_cells":100000,"run_cost":"one","rows_first":2000,"rows_last":500,"rows_between":2000,"halvings":0,"cell_chars":16384,"cell_head_chars":4096},"cells_cut":0,"cells_raw":0,"read":"whole","date_system":"1900"}

{"sheet":"사용승인별 현황","index":0,"n_rows":26,"n_cols":58,"rows_kept":26,"cut":false,"hidden":true,"merged":[[1,36,1,37],[1,38,1,39],[1,8,1,9],[1,54,1,55],[1,52,1,53],[1,50,1,51],[1,48,1,49],[1,18,1,19],[1,16,1,17],[1,14,1,15],[1,12,1,13],[1,10,1,11],[1,28,1,29],[1,26,1,27],[1,24,1,25],[1,22,1,23],[1,56,1,57],[1,46,1,47],[1,44,1,45],[1,42,1,43],[1,40,1,41],[3,1,3,3],[1,5,2,5],[1,6,2,6],[1,1,2,3],[1,34,1,35],[1,32,1,33],[1,30,1,31],[1,20,1,21]]}
[null,2018]
[null,"사용승인일",null,null,null,"단지","세대수",null,"종로구",null,"중구",null,"용산구",null,"성동구",null,"광진구",null,"동대문구",null,"중랑구",null,"성북구",null,"강북구",null,"도봉구",null,"노원구",null,"은평구",null,"서대문구",null,"마포구",null,"양천구",null,"강서구",null,"구로구",null,"금천구",null,"영등포구",null,"동작구",null,"관악구",null,"서초구",null,"강남구",null,"송파구",null,"강동구"]
[{"$nulls":8},"단지","세대수","단지","세대수","단지","세대수","단지","세대수","단지","세대수","단지","세대수","단지","세대수","단지","세대수","단지","세대수","단지","세대수","단지","세대수","단지","세대수","단지","세대수","단지","세대수","단지","세대수","단지","세대수","단지","세대수","단지","세대수","단지","세대수","단지","세대수","단지","세대수","단지","세대수","단지","세대수","단지","세대수","단지","세대수"]
[null,"합   계",null,null,null,{"$f":"SUM(F5:F23)","v":{"$error":"#REF!"}},{"$f":"SUM(G5:G23)","v":{"$error":"#REF!"}},null,{"$f":"SUM(I5:I23)","v":{"$error":"#REF!"}},{"$error":"#REF!"},{"$error":"#REF!"},{"$error":"#REF!"},{"$error":"#REF!"},{"$error":"#REF!"},{"$error":"#REF!"},{"$error":"#REF!"},{"$error":"#REF!"},{"$error":"#REF!"},{"$error":"#REF!"},{"$error":"#REF!"},{"$error":"#REF!"},{"$error":"#REF!"},{"$error":"#REF!"},{"$error":"#REF!"},{"$error":"#REF!"},{"$error":"#REF!"},{"$error":"#REF!"},{"$error":"#REF!"},{"$error":"#REF!"},{"$error":"#REF!"},{"$error":"#REF!"},{"$error":"#REF!"},{"$error":"#REF!"},{"$error":"#REF!"},{"$error":"#REF!"},{"$error":"#REF!"},{"$error":"#REF!"},{"$error":"#REF!"},{"$error":"#REF!"},{"$error":"#REF!"},{"$error":"#REF!"},{"$error":"#REF!"},{"$error":"#REF!"},{"$error":"#REF!"},{"$error":"#REF!"},{"$error":"#REF!"},{"$error":"#REF!"},{"$error":"#REF!"},{"$error":"#REF!"},{"$error":"#REF!"},{"$error":"#REF!"},{"$error":"#REF!"},{"$error":"#REF!"},{"$error":"#REF!"},{"$error":"#REF!"},{"$error":"#REF!"},{"$error":"#REF!"},{"$error":"#REF!"}]
[null,0,{"$f":"TODAY()","v":45650},5,{"$f":"DATE($B$1-D5,1,1)","v":"2013-01-01"},{"$f":"COUNTIFS(#REF!,\">\"&$E5,#REF!,\"<=\"&$C5,#REF!,\">=20\",#REF!,\"<>임대\")","v":{"$error":"#REF!"}},{"$f":"SUMIFS(#REF!,#REF!,\">\"&$E5,#REF!,\"<=\"&$C5,#REF!,\">=20\",#REF!,\"<>임대\")","v":{"$error":"#REF!"}},null,{"$f":"COUNTIFS(#REF!,\">\"&$E5,#REF!,\"<=\"&$C5,#REF!,'사용승인별 현황'!I$2,#REF!,\">=20\",#REF!,\"<>임대\")","v":{"$error":"#REF!"}},{"$f":"SUMIFS(#REF!,#REF!,\">\"&$E5,#REF!,\"<=\"&$C5,#REF!,'사용승인별 현황'!I$2,#REF!,\">=20\",#REF!,\"<>임대\")","v":{"$error":"#REF!"}},{"$f":"COUNTIFS(#REF!,\">\"&$E5,#REF!,\"<=\"&$C5,#REF!,'사용승인별 현황'!K$2,#REF!,\">=20\",#REF!,\"<>임대\")","v":{"$error":"#REF!"}},{"$f":"SUMIFS(#REF!,#REF!,\">\"&$E5,#REF!,\"<=\"&$C5,#REF!,'사용승인별 현황'!K$2,#REF!,\">=20\",#REF!,\"<>임대\")","v":{"$error":"#REF!"}},{"$f":"COUNTIFS(#REF!,\">\"&$E5,#REF!,\"<=\"&$C5,#REF!,'사용승인별 현황'!M$2,#REF!,\">=20\",#REF!,\"<>임대\")","v":{"$error":"#REF!"}},{"$f":"SUMIFS(#REF!,#REF!,\">\"&$E5,#REF!,\"<=\"&$C5,#REF!,'사용승인별 현황'!M$2,#REF!,\">=20\",#REF!,\"<>임대\")","v":{"$error":"#REF!"}},{"$f":"COUNTIFS(#REF!,\">\"&$E5,#REF!,\"<=\"&$C5,#REF!,'사용승인별 현황'!O$2,#REF!,\">=20\",#REF!,\"<>임대\")","v":{"$error":"#REF!"}},{"$f":"SUMIFS(#REF!,#REF!,\">\"&$E5,#REF!,\"<=\"&$C5,#REF!,'사용승인별 현황'!O$2,#REF!,\">=20\",#REF!,\"<>임대\")","v":{"$error":"#REF!"}},{"$f":"COUNTIFS(#REF!,\">\"&$E5,#REF!,\"<=\"&$C5,#REF!,'사용승인별 현황'!Q$2,#REF!,\">=20\",#REF!,\"<>임대\")","v":{"$error":"#REF!"}},{"$f":"SUMIFS(#REF!,#REF!,\">\"&$E5,#REF!,\"<=\"&$C5,#REF!,'사용승인별 현황'!Q$2,#REF!,\">=20\",#REF!,\"<>임대\")","v":{"$error":"#REF!"}},{"$f":"COUNTIFS(#REF!,\">\"&$E5,#REF!,\"<=\"&$C5,#REF!,'사용승인별 현황'!S$2,#REF!,\">=20\",#REF!,\"<>임대\")","v":{"$error":"#REF!"}},{"$f":"SUMIFS(#REF!,#REF!,\">\"&$E5,#REF!,\"<=\"&$C5,#REF!,'사용승인별 현황'!S$2,#REF!,\">=20\",#REF!,\"<>임대\")","v":{"$error":"#REF!"}},{"$f":"COUNTIFS(#REF!,\">\"&$E5,#REF!,\"<=\"&$C5,#REF!,'사용승인별 현황'!U$2,#REF!,\">=20\",#REF!,\"<>임대\")","v":{"$error":"#REF!"}},{"$f":"SUMIFS(#REF!,#REF!,\">\"&$E5,#REF!,\"<=\"&$C5,#REF!,'사용승인별 현황'!U$2,#REF!,\">=20\",#REF!,\"<>임대\")","v":{"$error":"#REF!"}},{"$f":"COUNTIFS(#REF!,\">\"&$E5,#REF!,\"<=\"&$C5,#REF!,'사용승인별 현황'!W$2,#REF!,\">=20\",#REF!,\"<>임대\")","v":{"$error":"#REF!"}},{"$f":"SUMIFS(#REF!,#REF!,\">\"&$E5,#REF!,\"<=\"&$C5,#REF!,'사용승인별 현황'!W$2,#REF!,\">=20\",#REF!,\"<>임대\")","v":{"$error":"#REF!"}},{"$f":"COUNTIFS(#REF!,\">\"&$E5,#REF!,\"<=\"&$C5,#REF!,'사용승인별 현황'!Y$2,#REF!,\">=20\",#REF!,\"<>임대\")","v":{"$error":"#REF!"}},{"$f":"SUMIFS(#REF!,#REF!,\">\"&$E5,#REF!,\"<=\"&$C5,#REF!,'사용승인별 현황'!Y$2,#REF!,\">=20\",#REF!,\"<>임대\")","v":{"$error":"#REF!"}},{"$f":"COUNTIFS(#REF!,\">\"&$E5,#REF!,\"<=\"&$C5,#REF!,'사용승인별 현황'!AA$2,#REF!,\">=20\",#REF!,\"<>임대\")","v":{"$error":"#REF!"}},{"$f":"SUMIFS(#REF!,#REF!,\">\"&$E5,#REF!,\"<=\"&$C5,#REF!,'사용승인별 현황'!AA$2,#REF!,\">=20\",#REF!,\"<>임대\")","v":{"$error":"#REF!"}},{"$f":"COUNTIFS(#REF!,\">\"&$E5,#REF!,\"<=\"&$C5,#REF!,'사용승인별 현황'!AC$2,#REF!,\">=20\",#REF!,\"<>임대\")","v":{"$error":"#REF!"}},{"$f":"SUMIFS(#REF!,#REF!,\">\"&$E5,#REF!,\"<=\"&$C5,#REF!,'사용승인별 현황'!AC$2,#REF!,\">=20\",#REF!,\"<>임대\")","v":{"$error":"#REF!"}},{"$f":"COUNTIFS(#REF!,\">\"&$E5,#REF!,\"<=\"&$C5,#REF!,'사용승인별 현황'!AE$2,#REF!,\">=20\",#REF!,\"<>임대\")","v":{"$error":"#REF!"}},{"$f":"SUMIFS(#REF!,#REF!,\">\"&$E5,#REF!,\"<=\"&$C5,#REF!,'사용승인별 현황'!AE$2,#REF!,\">=20\",#REF!,\"<>임대\")","v":{"$error":"#REF!"}},{"$f":"COUNTIFS(#REF!,\">\"&$E5,#REF!,\"<=\"&$C5,#REF!,'사용승인별 현황'!AG$2,#REF!,\">=20\",#REF!,\"<>임대\")","v":{"$error":"#REF!"}},{"$f":"SUMIFS(#REF!,#REF!,\">\"&$E5,#REF!,\"<=\"&$C5,#REF!,'사용승인별 현황'!AG$2,#REF!,\">=20\",#REF!,\"<>임대\")","v":{"$error":"#REF!"}},{"$f":"COUNTIFS(#REF!,\">\"&$E5,#REF!,\"<=\"&$C5,#REF!,'사용승인별 현황'!AI$2,#REF!,\">=20\",#REF!,\"<>임대\")","v":{"$error":"#REF!"}},{"$f":"SUMIFS(#REF!,#REF!,\">\"&$E5,#REF!,\"<=\"&$C5,#REF!,'사용승인별 현황'!AI$2,#REF!,\">=20\",#REF!,\"<>임대\")","v":{"$error":"#REF!"}},{"$f":"COUNTIFS(#REF!,\">\"&$E5,#REF!,\"<=\"&$C5,#REF!,'사용승인별 현황'!AK$2,#REF!,\">=20\",#REF!,\"<>임대\")","v":{"$error":"#REF!"}},{"$f":"SUMIFS(#REF!,#REF!,\">\"&$E5,#REF!,\"<=\"&$C5,#REF!,'사용승인별 현황'!AK$2,#REF!,\">=20\",#REF!,\"<>임대\")","v":{"$error":"#REF!"}},{"$f":"COUNTIFS(#REF!,\">\"&$E5,#REF!,\"<=\"&$C5,#REF!,'사용승인별 현황'!AM$2,#REF!,\">=20\",#REF!,\"<>임대\")","v":{"$error":"#REF!"}},{"$f":"SUMIFS(#REF!,#REF!,\">\"&$E5,#REF!,\"<=\"&$C5,#REF!,'사용승인별 현황'!AM$2,#REF!,\">=20\",#REF!,\"<>임대\")","v":{"$error":"#REF!"}},{"$f":"COUNTIFS(#REF!,\">\"&$E5,#REF!,\"<=\"&$C5,#REF!,'사용승인별 현황'!AO$2,#REF!,\">=20\",#REF!,\"<>임대\")","v":{"$error":"#REF!"}},{"$f":"SUMIFS(#REF!,#REF!,\">\"&$E5,#REF!,\"<=\"&$C5,#REF!,'사용승인별 현황'!AO$2,#REF!,\">=20\",#REF!,\"<>임대\")","v":{"$error":"#REF!"}},{"$f":"COUNTIFS(#REF!,\">\"&$E5,#REF!,\"<=\"&$C5,#REF!,'사용승인별 현황'!AQ$2,#REF!,\">=20\",#REF!,\"<>임대\")","v":{"$error":"#REF!"}},{"$f":"SUMIFS(#REF!,#REF!,\">\"&$E5,#REF!,\"<=\"&$C5,#REF!,'사용승인별 현황'!AQ$2,#REF!,\">=20\",#REF!,\"<>임대\")","v":{"$error":"#REF!"}},{"$f":"COUNTIFS(#REF!,\">\"&$E5,#REF!,\"<=\"&$C5,#REF!,'사용승인별 현황'!AS$2,#REF!,\">=20\",#REF!,\"<>임대\")","v":{"$error":"#REF!"}},{"$f":"SUMIFS(#REF!,#REF!,\">\"&$E5,#REF!,\"<=\"&$C5,#REF!,'사용승인별 현황'!AS$2,#REF!,\">=20\",#REF!,\"<>임대\")","v":{"$error":"#REF!"}},{"$f":"COUNTIFS(#REF!,\">\"&$E5,#REF!,\"<=\"&$C5,#REF!,'사용승인별 현황'!AU$2,#REF!,\">=20\",#REF!,\"<>임대\")","v":{"$error":"#REF!"}},{"$f":"SUMIFS(#REF!,#REF!,\">\"&$E5,#REF!,\"<=\"&$C5,#REF!,'사용승인별 현황'!AU$2,#REF!,\">=20\",#REF!,\"<>임대\")","v":{"$error":"#REF!"}},{"$f":"COUNTIFS(#REF!,\">\"&$E5,#REF!,\"<=\"&$C5,#REF!,'사용승인별 현황'!AW$2,#REF!,\">=20\",#REF!,\"<>임대\")","v":{"$error":"#REF!"}},{"$f":"SUMIFS(#REF!,#REF!,\">\"&$E5,#REF!,\"<=\"&$C5,#REF!,'사용승인별 현황'!AW$2,#REF!,\">=20\",#REF!,\"<>임대\")","v":{"$error":"#REF!"}},{"$f":"COUNTIFS(#REF!,\">\"&$E5,#REF!,\"<=\"&$C5,#REF!,'사용승인별 현황'!AY$2,#REF!,\">=20\",#REF!,\"<>임대\")","v":{"$error":"#REF!"}},{"$f":"SUMIFS(#REF!,#REF!,\">\"&$E5,#REF!,\"<=\"&$C5,#REF!,'사용승인별 현황'!AY$2,#REF!,\">=20\",#REF!,\"<>임대\")","v":{"$error":"#REF!"}},{"$f":"COUNTIFS(#REF!,\">\"&$E5,#REF!,\"<=\"&$C5,#REF!,'사용승인별 현황'!BA$2,#REF!,\">=20\",#REF!,\"<>임대\")","v":{"$error":"#REF!"}},{"$f":"SUMIFS(#REF!,#REF!,\">\"&$E5,#REF!,\"<=\"&$C5,#REF!,'사용승인별 현황'!BA$2,#REF!,\">=20\",#REF!,\"<>임대\")","v":{"$error":"#REF!"}},{"$f":"COUNTIFS(#REF!,\">\"&$E5,#REF!,\"<=\"&$C5,#REF!,'사용승인별 현황'!BC$2,#REF!,\">=20\",#REF!,\"<>임대\")","v":{"$error":"#REF!"}},{"$f":"SUMIFS(#REF!,#REF!,\">\"&$E5,#REF!,\"<=\"&$C5,#REF!,'사용승인별 현황'!BC$2,#REF!,\">=20\",#REF!,\"<>임대\")","v":{"$error":"#REF!"}},{"$f":"COUNTIFS(#REF!,\">\"&$E5,#REF!,\"<=\"&$C5,#REF!,'사용승인별 현황'!BE$2,#REF!,\">=20\",#REF!,\"<>임대\")","v":{"$error":"#REF!"}},{"$f":"SUMIFS(#REF!,#REF!,\">\"&$E5,#REF!,\"<=\"&$C5,#REF!,'사용승인별 현황'!BE$2,#REF!,\">=20\",#REF!,\"<>임대\")","v":{"$error":"#REF!"}}]
[null,5,{"$f":"DATE($B$1-B6,1,1)","v":41275},10,{"$f":"DATE($B$1-D6,1,1)","v":"2008-01-01"},{"$f":"COUNTIFS(#REF!,\">\"&$E6,#REF!,\"<=\"&$C6,#REF!,\">=20\",#REF!,\"<>임대\")","v":{"$error":"#REF!"}},{"$f":"SUMIFS(#REF!,#REF!,\">\"&$E6,#REF!,\"<=\"&$C6,#REF!,\">=20\",#REF!,\"<>임대\")","v":{"$error":"#REF!"}},null,{"$f":"COUNTIFS(#REF!,\">\"&$E6,#REF!,\"<=\"&$C6,#REF!,'사용승인별 현황'!I$2,#REF!,\">=20\",#REF!,\"<>임대\")","v":{"$error":"#REF!"}},{"$f":"SUMIFS(#REF!,#REF!,\">\"&$E6,#REF!,\"<=\"&$C6,#REF!,'사용승인별 현황'!I$2,#REF!,\">=20\",#REF!,\"<>임대\")","v":{"$error":"#REF!"}},{"$f":"COUNTIFS(#REF!,\">\"&$E6,#REF!,\"<=\"&$C6,#REF!,'사용승인별 현황'!K$2,#REF!,\">=20\",#REF!,\"<>임대\")","v":{"$error":"#REF!"}},{"$f":"SUMIFS(#REF!,#REF!,\">\"&$E6,#REF!,\"<=\"&$C6,#REF!,'사용승인별 현황'!K$2,#REF!,\">=20\",#REF!,\"<>임대\")","v":{"$error":"#REF!"}},{"$f":"COUNTIFS(#REF!,\">\"&$E6,#REF!,\"<=\"&$C6,#REF!,'사용승인별 현황'!M$2,#REF!,\">=20\",#REF!,\"<>임대\")","v":{"$error":"#REF!"}},{"$f":"SUMIFS(#REF!,#REF!,\">\"&$E6,#REF!,\"<=\"&$C6,#REF!,'사용승인별 현황'!M$2,#REF!,\">=20\",#REF!,\"<>임대\")","v":{"$error":"#REF!"}},{"$f":"COUNTIFS(#REF!,\">\"&$E6,#REF!,\"<=\"&$C6,#REF!,'사용승인별 현황'!O$2,#REF!,\">=20\",#REF!,\"<>임대\")","v":{"$error":"#REF!"}},{"$f":"SUMIFS(#REF!,#REF!,\">\"&$E6,#REF!,\"<=\"&$C6,#REF!,'사용승인별 현황'!O$2,#REF!,\">=20\",#REF!,\"<>임대\")","v":{"$error":"#REF!"}},{"$f":"COUNTIFS(#REF!,\">\"&$E6,#REF!,\"<=\"&$C6,#REF!,'사용승인별 현황'!Q$2,#REF!,\">=20\",#REF!,\"<>임대\")","v":{"$error":"#REF!"}},{"$f":"SUMIFS(#REF!,#REF!,\">\"&$E6,#REF!,\"<=\"&$C6,#REF!,'사용승인별 현황'!Q$2,#REF!,\">=20\",#REF!,\"<>임대\")","v":{"$error":"#REF!"}},{"$f":"COUNTIFS(#REF!,\">\"&$E6,#REF!,\"<=\"&$C6,#REF!,'사용승인별 현황'!S$2,#REF!,\">=20\",#REF!,\"<>임대\")","v":{"$error":"#REF!"}},{"$f":"SUMIFS(#REF!,#REF!,\">\"&$E6,#REF!,\"<=\"&$C6,#REF!,'사용승인별 현황'!S$2,#REF!,\">=20\",#REF!,\"<>임대\")","v":{"$error":"#REF!"}},{"$f":"COUNTIFS(#REF!,\">\"&$E6,#REF!,\"<=\"&$C6,#REF!,'사용승인별 현황'!U$2,#REF!,\">=20\",#REF!,\"<>임대\")","v":{"$error":"#REF!"}},{"$f":"SUMIFS(#REF!,#REF!,\">\"&$E6,#REF!,\"<=\"&$C6,#REF!,'사용승인별 현황'!U$2,#REF!,\">=20\",#REF!,\"<>임대\")","v":{"$error":"#REF!"}},{"$f":"COUNTIFS(#REF!,\">\"&$E6,#REF!,\"<=\"&$C6,#REF!,'사용승인별 현황'!W$2,#REF!,\">=20\",#REF!,\"<>임대\")","v":{"$error":"#REF!"}},{"$f":"SUMIFS(#REF!,#REF!,\">\"&$E6,#REF!,\"<=\"&$C6,#REF!,'사용승인별 현황'!W$2,#REF!,\">=20\",#REF!,\"<>임대\")","v":{"$error":"#REF!"}},{"$f":"COUNTIFS(#REF!,\">\"&$E6,#REF!,\"<=\"&$C6,#REF!,'사용승인별 현황'!Y$2,#REF!,\">=20\",#REF!,\"<>임대\")","v":{"$error":"#REF!"}},{"$f":"SUMIFS(#REF!,#REF!,\">\"&$E6,#REF!,\"<=\"&$C6,#REF!,'사용승인별 현황'!Y$2,#REF!,\">=20\",#REF!,\"<>임대\")","v":{"$error":"#REF!"}},{"$f":"COUNTIFS(#REF!,\">\"&$E6,#REF!,\"<=\"&$C6,#REF!,'사용승인별 현황'!AA$2,#REF!,\">=20\",#REF!,\"<>임대\")","v":{"$error":"#REF!"}},{"$f":"SUMIFS(#REF!,#REF!,\">\"&$E6,#REF!,\"<=\"&$C6,#REF!,'사용승인별 현황'!AA$2,#REF!,\">=20\",#REF!,\"<>임대\")","v":{"$error":"#REF!"}},{"$f":"COUNTIFS(#REF!,\">\"&$E6,#REF!,\"<=\"&$C6,#REF!,'사용승인별 현황'!AC$2,#REF!,\">=20\",#REF!,\"<>임대\")","v":{"$error":"#REF!"}},{"$f":"SUMIFS(#REF!,#REF!,\">\"&$E6,#REF!,\"<=\"&$C6,#REF!,'사용승인별 현황'!AC$2,#REF!,\">=20\",#REF!,\"<>임대\")","v":{"$error":"#REF!"}},{"$f":"COUNTIFS(#REF!,\">\"&$E6,#REF!,\"<=\"&$C6,#REF!,'사용승인별 현황'!AE$2,#REF!,\">=20\",#REF!,\"<>임대\")","v":{"$error":"#REF!"}},{"$f":"SUMIFS(#REF!,#REF!,\">\"&$E6,#REF!,\"<=\"&$C6,#REF!,'사용승인별 현황'!AE$2,#REF!,\">=20\",#REF!,\"<>임대\")","v":{"$error":"#REF!"}},{"$f":"COUNTIFS(#REF!,\">\"&$E6,#REF!,\"<=\"&$C6,#REF!,'사용승인별 현황'!AG$2,#REF!,\">=20\",#REF!,\"<>임대\")","v":{"$error":"#REF!"}},{"$f":"SUMIFS(#REF!,#REF!,\">\"&$E6,#REF!,\"<=\"&$C6,#REF!,'사용승인별 현황'!AG$2,#REF!,\">=20\",#REF!,\"<>임대\")","v":{"$error":"#REF!"}},{"$f":"COUNTIFS(#REF!,\">\"&$E6,#REF!,\"<=\"&$C6,#REF!,'사용승인별 현황'!AI$2,#REF!,\">=20\",#REF!,\"<>임대\")","v":{"$error":"#REF!"}},{"$f":"SUMIFS(#REF!,#REF!,\">\"&$E6,#REF!,\"<=\"&$C6,#REF!,'사용승인별 현황'!AI$2,#REF!,\">=20\",#REF!,\"<>임대\")","v":{"$error":"#REF!"}},{"$f":"COUNTIFS(#REF!,\">\"&$E6,#REF!,\"<=\"&$C6,#REF!,'사용승인별 현황'!AK$2,#REF!,\">=20\",#REF!,\"<>임대\")","v":{"$error":"#REF!"}},{"$f":"SUMIFS(#REF!,#REF!,\">\"&$E6,#REF!,\"<=\"&$C6,#REF!,'사용승인별 현황'!AK$2,#REF!,\">=20\",#REF!,\"<>임대\")","v":{"$error":"#REF!"}},{"$f":"COUNTIFS(#REF!,\">\"&$E6,#REF!,\"<=\"&$C6,#REF!,'사용승인별 현황'!AM$2,#REF!,\">=20\",#REF!,\"<>임대\")","v":{"$error":"#REF!"}},{"$f":"SUMIFS(#REF!,#REF!,\">\"&$E6,#REF!,\"<=\"&$C6,#REF!,'사용승인별 현황'!AM$2,#REF!,\">=20\",#REF!,\"<>임대\")","v":{"$error":"#REF!"}},{"$f":"COUNTIFS(#REF!,\">\"&$E6,#REF!,\"<=\"&$C6,#REF!,'사용승인별 현황'!AO$2,#REF!,\">=20\",#REF!,\"<>임대\")","v":{"$error":"#REF!"}},{"$f":"SUMIFS(#REF!,#REF!,\">\"&$E6,#REF!,\"<=\"&$C6,#REF!,'사용승인별 현황'!AO$2,#REF!,\">=20\",#REF!,\"<>임대\")","v":{"$error":"#REF!"}},{"$f":"COUNTIFS(#REF!,\">\"&$E6,#REF!,\"<=\"&$C6,#REF!,'사용승인별 현황'!AQ$2,#REF!,\">=20\",#REF!,\"<>임대\")","v":{"$error":"#REF!"}},{"$f":"SUMIFS(#REF!,#REF!,\">\"&$E6,#REF!,\"<=\"&$C6,#REF!,'사용승인별 현황'!AQ$2,#REF!,\">=20\",#REF!,\"<>임대\")","v":{"$error":"#REF!"}},{"$f":"COUNTIFS(#REF!,\">\"&$E6,#REF!,\"<=\"&$C6,#REF!,'사용승인별 현황'!AS$2,#REF!,\">=20\",#REF!,\"<>임대\")","v":{"$error":"#REF!"}},{"$f":"SUMIFS(#REF!,#REF!,\">\"&$E6,#REF!,\"<=\"&$C6,#REF!,'사용승인별 현황'!AS$2,#REF!,\">=20\",#REF!,\"<>임대\")","v":{"$error":"#REF!"}},{"$f":"COUNTIFS(#REF!,\">\"&$E6,#REF!,\"<=\"&$C6,#REF!,'사용승인별 현황'!AU$2,#REF!,\">=20\",#REF!,\"<>임대\")","v":{"$error":"#REF!"}},{"$f":"SUMIFS(#REF!,#REF!,\">\"&$E6,#REF!,\"<=\"&$C6,#REF!,'사용승인별 현황'!AU$2,#REF!,\">=20\",#REF!,\"<>임대\")","v":{"$error":"#REF!"}},{"$f":"COUNTIFS(#REF!,\">\"&$E6,#REF!,\"<=\"&$C6,#REF!,'사용승인별 현황'!AW$2,#REF!,\">=20\",#REF!,\"<>임대\")","v":{"$error":"#REF!"}},{"$f":"SUMIFS(#REF!,#REF!,\">\"&$E6,#REF!,\"<=\"&$C6,#REF!,'사용승인별 현황'!AW$2,#REF!,\">=20\",#REF!,\"<>임대\")","v":{"$error":"#REF!"}},{"$f":"COUNTIFS(#REF!,\">\"&$E6,#REF!,\"<=\"&$C6,#REF!,'사용승인별 현황'!AY$2,#REF!,\">=20\",#REF!,\"<>임대\")","v":{"$error":"#REF!"}},{"$f":"SUMIFS(#REF!,#REF!,\">\"&$E6,#REF!,\"<=\"&$C6,#REF!,'사용승인별 현황'!AY$2,#REF!,\">=20\",#REF!,\"<>임대\")","v":{"$error":"#REF!"}},{"$f":"COUNTIFS(#REF!,\">\"&$E6,#REF!,\"<=\"&$C6,#REF!,'사용승인별 현황'!BA$2,#REF!,\">=20\",#REF!,\"<>임대\")","v":{"$error":"#REF!"}},{"$f":"SUMIFS(#REF!,#REF!,\">\"&$E6,#REF!,\"<=\"&$C6,#REF!,'사용승인별 현황'!BA$2,#REF!,\">=20\",#REF!,\"<>임대\")","v":{"$error":"#REF!"}},{"$f":"COUNTIFS(#REF!,\">\"&$E6,#REF!,\"<=\"&$C6,#REF!,'사용승인별 현황'!BC$2,#REF!,\">=20\",#REF!,\"<>임대\")","v":{"$error":"#REF!"}},{"$f":"SUMIFS(#REF!,#REF!,\">\"&$E6,#REF!,\"<=\"&$C6,#REF!,'사용승인별 현황'!BC$2,#REF!,\">=20\",#REF!,\"<>임대\")","v":{"$error":"#REF!"}},{"$f":"COUNTIFS(#REF!,\">\"&$E6,#REF!,\"<=\"&$C6,#REF!,'사용승인별 현황'!BE$2,#REF!,\">=20\",#REF!,\"<>임대\")","v":{"$error":"#REF!"}},{"$f":"SUMIFS(#REF!,#REF!,\">\"&$E6,#REF!,\"<=\"&$C6,#REF!,'사용승인별 현황'!BE$2,#REF!,\">=20\",#REF!,\"<>임대\")","v":{"$error":"#REF!"}}]
[null,10,39448,15,"2003-01-01",{"$f":"COUNTIFS(#REF!,\">\"&$E7,#REF!,\"<=\"&$C7,#REF!,\">=20\",#REF!,\"<>임대\")","v":{"$error":"#REF!"}},{"$f":"SUMIFS(#REF!,#REF!,\">\"&$E7,#REF!,\"<=\"&$C7,#REF!,\">=20\",#REF!,\"<>임대\")","v":{"$error":"#REF!"}},null,{"$f":"COUNTIFS(#REF!,\">\"&$E7,#REF!,\"<=\"&$C7,#REF!,'사용승인별 현황'!I$2,#REF!,\">=20\",#REF!,\"<>임대\")","v":{"$error":"#REF!"}},{"$f":"SUMIFS(#REF!,#REF!,\">\"&$E7,#REF!,\"<=\"&$C7,#REF!,'사용승인별 현황'!I$2,#REF!,\">=20\",#REF!,\"<>임대\")","v":{"$error":"#REF!"}},{"$f":"COUNTIFS(#REF!,\">\"&$E7,#REF!,\"<=\"&$C7,#REF!,'사용승인별 현황'!K$2,#REF!,\">=20\",#REF!,\"<>임대\")","v":{"$error":"#REF!"}},{"$f":"SUMIFS(#REF!,#REF!,\">\"&$E7,#REF!,\"<=\"&$C7,#REF!,'사용승인별 현황'!K$2,#REF!,\">=20\",#REF!,\"<>임대\")","v":{"$error":"#REF!"}},{"$f":"COUNTIFS(#REF!,\">\"&$E7,#REF!,\"<=\"&$C7,#REF!,'사용승인별 현황'!M$2,#REF!,\">=20\",#REF!,\"<>임대\")","v":{"$error":"#REF!"}},{"$f":"SUMIFS(#REF!,#REF!,\">\"&$E7,#REF!,\"<=\"&$C7,#REF!,'사용승인별 현황'!M$2,#REF!,\">=20\",#REF!,\"<>임대\")","v":{"$error":"#REF!"}},{"$f":"COUNTIFS(#REF!,\">\"&$E7,#REF!,\"<=\"&$C7,#REF!,'사용승인별 현황'!O$2,#REF!,\">=20\",#REF!,\"<>임대\")","v":{"$error":"#REF!"}},{"$f":"SUMIFS(#REF!,#REF!,\">\"&$E7,#REF!,\"<=\"&$C7,#REF!,'사용승인별 현황'!O$2,#REF!,\">=20\",#REF!,\"<>임대\")","v":{"$error":"#REF!"}},{"$f":"COUNTIFS(#REF!,\">\"&$E7,#REF!,\"<=\"&$C7,#REF!,'사용승인별 현황'!Q$2,#REF!,\">=20\",#REF!,\"<>임대\")","v":{"$error":"#REF!"}},{"$f":"SUMIFS(#REF!,#REF!,\">\"&$E7,#REF!,\"<=\"&$C7,#REF!,'사용승인별 현황'!Q$2,#REF!,\">=20\",#REF!,\"<>임대\")","v":{"$error":"#REF!"}},{"$f":"COUNTIFS(#REF!,\">\"&$E7,#REF!,\"<=\"&$C7,#REF!,'사용승인별 현황'!S$2,#REF!,\">=20\",#REF!,\"<>임대\")","v":{"$error":"#REF!"}},{"$f":"SUMIFS(#REF!,#REF!,\">\"&$E7,#REF!,\"<=\"&$C7,#REF!,'사용승인별 현황'!S$2,#REF!,\">=20\",#REF!,\"<>임대\")","v":{"$error":"#REF!"}},{"$f":"COUNTIFS(#REF!,\">\"&$E7,#REF!,\"<=\"&$C7,#REF!,'사용승인별 현황'!U$2,#REF!,\">=20\",#REF!,\"<>임대\")","v":{"$error":"#REF!"}},{"$f":"SUMIFS(#REF!,#REF!,\">\"&$E7,#REF!,\"<=\"&$C7,#REF!,'사용승인별 현황'!U$2,#REF!,\">=20\",#REF!,\"<>임대\")","v":{"$error":"#REF!"}},{"$f":"COUNTIFS(#REF!,\">\"&$E7,#REF!,\"<=\"&$C7,#REF!,'사용승인별 현황'!W$2,#REF!,\">=20\",#REF!,\"<>임대\")","v":{"$error":"#REF!"}},{"$f":"SUMIFS(#REF!,#REF!,\">\"&$E7,#REF!,\"<=\"&$C7,#REF!,'사용승인별 현황'!W$2,#REF!,\">=20\",#REF!,\"<>임대\")","v":{"$error":"#REF!"}},{"$f":"COUNTIFS(#REF!,\">\"&$E7,#REF!,\"<=\"&$C7,#REF!,'사용승인별 현황'!Y$2,#REF!,\">=20\",#REF!,\"<>임대\")","v":{"$error":"#REF!"}},{"$f":"SUMIFS(#REF!,#REF!,\">\"&$E7,#REF!,\"<=\"&$C7,#REF!,'사용승인별 현황'!Y$2,#REF!,\">=20\",#REF!,\"<>임대\")","v":{"$error":"#REF!"}},{"$f":"COUNTIFS(#REF!,\">\"&$E7,#REF!,\"<=\"&$C7,#REF!,'사용승인별 현황'!AA$2,#REF!,\">=20\",#REF!,\"<>임대\")","v":{"$error":"#REF!"}},{"$f":"SUMIFS(#REF!,#REF!,\">\"&$E7,#REF!,\"<=\"&$C7,#REF!,'사용승인별 현황'!AA$2,#REF!,\">=20\",#REF!,\"<>임대\")","v":{"$error":"#REF!"}},{"$f":"COUNTIFS(#REF!,\">\"&$E7,#REF!,\"<=\"&$C7,#REF!,'사용승인별 현황'!AC$2,#REF!,\">=20\",#REF!,\"<>임대\")","v":{"$error":"#REF!"}},{"$f":"SUMIFS(#REF!,#REF!,\">\"&$E7,#REF!,\"<=\"&$C7,#REF!,'사용승인별 현황'!AC$2,#REF!,\">=20\",#REF!,\"<>임대\")","v":{"$error":"#REF!"}},{"$f":"COUNTIFS(#REF!,\">\"&$E7,#REF!,\"<=\"&$C7,#REF!,'사용승인별 현황'!AE$2,#REF!,\">=20\",#REF!,\"<>임대\")","v":{"$error":"#REF!"}},{"$f":"SUMIFS(#REF!,#REF!,\">\"&$E7,#REF!,\"<=\"&$C7,#REF!,'사용승인별 현황'!AE$2,#REF!,\">=20\",#REF!,\"<>임대\")","v":{"$error":"#REF!"}},{"$f":"COUNTIFS(#REF!,\">\"&$E7,#REF!,\"<=\"&$C7,#REF!,'사용승인별 현황'!AG$2,#REF!,\">=20\",#REF!,\"<>임대\")","v":{"$error":"#REF!"}},{"$f":"SUMIFS(#REF!,#REF!,\">\"&$E7,#REF!,\"<=\"&$C7,#REF!,'사용승인별 현황'!AG$2,#REF!,\">=20\",#REF!,\"<>임대\")","v":{"$error":"#REF!"}},{"$f":"COUNTIFS(#REF!,\">\"&$E7,#REF!,\"<=\"&$C7,#REF!,'사용승인별 현황'!AI$2,#REF!,\">=20\",#REF!,\"<>임대\")","v":{"$error":"#REF!"}},{"$f":"SUMIFS(#REF!,#REF!,\">\"&$E7,#REF!,\"<=\"&$C7,#REF!,'사용승인별 현황'!AI$2,#REF!,\">=20\",#REF!,\"<>임대\")","v":{"$error":"#REF!"}},{"$f":"COUNTIFS(#REF!,\">\"&$E7,#REF!,\"<=\"&$C7,#REF!,'사용승인별 현황'!AK$2,#REF!,\">=20\",#REF!,\"<>임대\")","v":{"$error":"#REF!"}},{"$f":"SUMIFS(#REF!,#REF!,\">\"&$E7,#REF!,\"<=\"&$C7,#REF!,'사용승인별 현황'!AK$2,#REF!,\">=20\",#REF!,\"<>임대\")","v":{"$error":"#REF!"}},{"$f":"COUNTIFS(#REF!,\">\"&$E7,#REF!,\"<=\"&$C7,#REF!,'사용승인별 현황'!AM$2,#REF!,\">=20\",#REF!,\"<>임대\")","v":{"$error":"#REF!"}},{"$f":"SUMIFS(#REF!,#REF!,\">\"&$E7,#REF!,\"<=\"&$C7,#REF!,'사용승인별 현황'!AM$2,#REF!,\">=20\",#REF!,\"<>임대\")","v":{"$error":"#REF!"}},{"$f":"COUNTIFS(#REF!,\">\"&$E7,#REF!,\"<=\"&$C7,#REF!,'사용승인별 현황'!AO$2,#REF!,\">=20\",#REF!,\"<>임대\")","v":{"$error":"#REF!"}},{"$f":"SUMIFS(#REF!,#REF!,\">\"&$E7,#REF!,\"<=\"&$C7,#REF!,'사용승인별 현황'!AO$2,#REF!,\">=20\",#REF!,\"<>임대\")","v":{"$error":"#REF!"}},{"$f":"COUNTIFS(#REF!,\">\"&$E7,#REF!,\"<=\"&$C7,#REF!,'사용승인별 현황'!AQ$2,#REF!,\">=20\",#REF!,\"<>임대\")","v":{"$error":"#REF!"}},{"$f":"SUMIFS(#REF!,#REF!,\">\"&$E7,#REF!,\"<=\"&$C7,#REF!,'사용승인별 현황'!AQ$2,#REF!,\">=20\",#REF!,\"<>임대\")","v":{"$error":"#REF!"}},{"$f":"COUNTIFS(#REF!,\">\"&$E7,#REF!,\"<=\"&$C7,#REF!,'사용승인별 현황'!AS$2,#REF!,\">=20\",#REF!,\"<>임대\")","v":{"$error":"#REF!"}},{"$f":"SUMIFS(#REF!,#REF!,\">\"&$E7,#REF!,\"<=\"&$C7,#REF!,'사용승인별 현황'!AS$2,#REF!,\">=20\",#REF!,\"<>임대\")","v":{"$error":"#REF!"}},{"$f":"COUNTIFS(#REF!,\">\"&$E7,#REF!,\"<=\"&$C7,#REF!,'사용승인별 현황'!AU$2,#REF!,\">=20\",#REF!,\"<>임대\")","v":{"$error":"#REF!"}},{"$f":"SUMIFS(#REF!,#REF!,\">\"&$E7,#REF!,\"<=\"&$C7,#REF!,'사용승인별 현황'!AU$2,#REF!,\">=20\",#REF!,\"<>임대\")","v":{"$error":"#REF!"}},{"$f":"COUNTIFS(#REF!,\">\"&$E7,#REF!,\"<=\"&$C7,#REF!,'사용승인별 현황'!AW$2,#REF!,\">=20\",#REF!,\"<>임대\")","v":{"$error":"#REF!"}},{"$f":"SUMIFS(#REF!,#REF!,\">\"&$E7,#REF!,\"<=\"&$C7,#REF!,'사용승인별 현황'!AW$2,#REF!,\">=20\",#REF!,\"<>임대\")","v":{"$error":"#REF!"}},{"$f":"COUNTIFS(#REF!,\">\"&$E7,#REF!,\"<=\"&$C7,#REF!,'사용승인별 현황'!AY$2,#REF!,\">=20\",#REF!,\"<>임대\")","v":{"$error":"#REF!"}},{"$f":"SUMIFS(#REF!,#REF!,\">\"&$E7,#REF!,\"<=\"&$C7,#REF!,'사용승인별 현황'!AY$2,#REF!,\">=20\",#REF!,\"<>임대\")","v":{"$error":"#REF!"}},{"$f":"COUNTIFS(#REF!,\">\"&$E7,#REF!,\"<=\"&$C7,#REF!,'사용승인별 현황'!BA$2,#REF!,\">=20\",#REF!,\"<>임대\")","v":{"$error":"#REF!"}},{"$f":"SUMIFS(#REF!,#REF!,\">\"&$E7,#REF!,\"<=\"&$C7,#REF!,'사용승인별 현황'!BA$2,#REF!,\">=20\",#REF!,\"<>임대\")","v":{"$error":"#REF!"}},{"$f":"COUNTIFS(#REF!,\">\"&$E7,#REF!,\"<=\"&$C7,#REF!,'사용승인별 현황'!BC$2,#REF!,\">=20\",#REF!,\"<>임대\")","v":{"$error":"#REF!"}},{"$f":"SUMIFS(#REF!,#REF!,\">\"&$E7,#REF!,\"<=\"&$C7,#REF!,'사용승인별 현황'!BC$2,#REF!,\">=20\",#REF!,\"<>임대\")","v":{"$error":"#REF!"}},{"$f":"COUNTIFS(#REF!,\">\"&$E7,#REF!,\"<=\"&$C7,#REF!,'사용승인별 현황'!BE$2,#REF!,\">=20\",#REF!,\"<>임대\")","v":{"$error":"#REF!"}},{"$f":"SUMIFS(#REF!,#REF!,\">\"&$E7,#REF!,\"<=\"&$C7,#REF!,'사용승인별 현황'!BE$2,#REF!,\">=20\",#REF!,\"<>임대\")","v":{"$error":"#REF!"}}]
[null,15,37622,20,"1998-01-01",{"$f":"COUNTIFS(#REF!,\">\"&$E8,#REF!,\"<=\"&$C8,#REF!,\">=20\",#REF!,\"<>임대\")","v":{"$error":"#REF!"}},{"$f":"SUMIFS(#REF!,#REF!,\">\"&$E8,#REF!,\"<=\"&$C8,#REF!,\">=20\",#REF!,\"<>임대\")","v":{"$error":"#REF!"}},null,{"$f":"COUNTIFS(#REF!,\">\"&$E8,#REF!,\"<=\"&$C8,#REF!,'사용승인별 현황'!I$2,#REF!,\">=20\",#REF!,\"<>임대\")","v":{"$error":"#REF!"}},{"$f":"SUMIFS(#REF!,#REF!,\">\"&$E8,#REF!,\"<=\"&$C8,#REF!,'사용승인별 현황'!I$2,#REF!,\">=20\",#REF!,\"<>임대\")","v":{"$error":"#REF!"}},{"$f":"COUNTIFS(#REF!,\">\"&$E8,#REF!,\"<=\"&$C8,#REF!,'사용승인별 현황'!K$2,#REF!,\">=20\",#REF!,\"<>임대\")","v":{"$error":"#REF!"}},{"$f":"SUMIFS(#REF!,#REF!,\">\"&$E8,#REF!,\"<=\"&$C8,#REF!,'사용승인별 현황'!K$2,#REF!,\">=20\",#REF!,\"<>임대\")","v":{"$error":"#REF!"}},{"$f":"COUNTIFS(#REF!,\">\"&$E8,#REF!,\"<=\"&$C8,#REF!,'사용승인별 현황'!M$2,#REF!,\">=20\",#REF!,\"<>임대\")","v":{"$error":"#REF!"}},{"$f":"SUMIFS(#REF!,#REF!,\">\"&$E8,#REF!,\"<=\"&$C8,#REF!,'사용승인별 현황'!M$2,#REF!,\">=20\",#REF!,\"<>임대\")","v":{"$error":"#REF!"}},{"$f":"COUNTIFS(#REF!,\">\"&$E8,#REF!,\"<=\"&$C8,#REF!,'사용승인별 현황'!O$2,#REF!,\">=20\",#REF!,\"<>임대\")","v":{"$error":"#REF!"}},{"$f":"SUMIFS(#REF!,#REF!,\">\"&$E8,#REF!,\"<=\"&$C8,#REF!,'사용승인별 현황'!O$2,#REF!,\">=20\",#REF!,\"<>임대\")","v":{"$error":"#REF!"}},{"$f":"COUNTIFS(#REF!,\">\"&$E8,#REF!,\"<=\"&$C8,#REF!,'사용승인별 현황'!Q$2,#REF!,\">=20\",#REF!,\"<>임대\")","v":{"$error":"#REF!"}},{"$f":"SUMIFS(#REF!,#REF!,\">\"&$E8,#REF!,\"<=\"&$C8,#REF!,'사용승인별 현황'!Q$2,#REF!,\">=20\",#REF!,\"<>임대\")","v":{"$error":"#REF!"}},{"$f":"COUNTIFS(#REF!,\">\"&$E8,#REF!,\"<=\"&$C8,#REF!,'사용승인별 현황'!S$2,#REF!,\">=20\",#REF!,\"<>임대\")","v":{"$error":"#REF!"}},{"$f":"SUMIFS(#REF!,#REF!,\">\"&$E8,#REF!,\"<=\"&$C8,#REF!,'사용승인별 현황'!S$2,#REF!,\">=20\",#REF!,\"<>임대\")","v":{"$error":"#REF!"}},{"$f":"COUNTIFS(#REF!,\">\"&$E8,#REF!,\"<=\"&$C8,#REF!,'사용승인별 현황'!U$2,#REF!,\">=20\",#REF!,\"<>임대\")","v":{"$error":"#REF!"}},{"$f":"SUMIFS(#REF!,#REF!,\">\"&$E8,#REF!,\"<=\"&$C8,#REF!,'사용승인별 현황'!U$2,#REF!,\">=20\",#REF!,\"<>임대\")","v":{"$error":"#REF!"}},{"$f":"COUNTIFS(#REF!,\">\"&$E8,#REF!,\"<=\"&$C8,#REF!,'사용승인별 현황'!W$2,#REF!,\">=20\",#REF!,\"<>임대\")","v":{"$error":"#REF!"}},{"$f":"SUMIFS(#REF!,#REF!,\">\"&$E8,#REF!,\"<=\"&$C8,#REF!,'사용승인별 현황'!W$2,#REF!,\">=20\",#REF!,\"<>임대\")","v":{"$error":"#REF!"}},{"$f":"COUNTIFS(#REF!,\">\"&$E8,#REF!,\"<=\"&$C8,#REF!,'사용승인별 현황'!Y$2,#REF!,\">=20\",#REF!,\"<>임대\")","v":{"$error":"#REF!"}},{"$f":"SUMIFS(#REF!,#REF!,\">\"&$E8,#REF!,\"<=\"&$C8,#REF!,'사용승인별 현황'!Y$2,#REF!,\">=20\",#REF!,\"<>임대\")","v":{"$error":"#REF!"}},{"$f":"COUNTIFS(#REF!,\">\"&$E8,#REF!,\"<=\"&$C8,#REF!,'사용승인별 현황'!AA$2,#REF!,\">=20\",#REF!,\"<>임대\")","v":{"$error":"#REF!"}},{"$f":"SUMIFS(#REF!,#REF!,\">\"&$E8,#REF!,\"<=\"&$C8,#REF!,'사용승인별 현황'!AA$2,#REF!,\">=20\",#REF!,\"<>임대\")","v":{"$error":"#REF!"}},{"$f":"COUNTIFS(#REF!,\">\"&$E8,#REF!,\"<=\"&$C8,#REF!,'사용승인별 현황'!AC$2,#REF!,\">=20\",#REF!,\"<>임대\")","v":{"$error":"#REF!"}},{"$f":"SUMIFS(#REF!,#REF!,\">\"&$E8,#REF!,\"<=\"&$C8,#REF!,'사용승인별 현황'!AC$2,#REF!,\">=20\",#REF!,\"<>임대\")","v":{"$error":"#REF!"}},{"$f":"COUNTIFS(#REF!,\">\"&$E8,#REF!,\"<=\"&$C8,#REF!,'사용승인별 현황'!AE$2,#REF!,\">=20\",#REF!,\"<>임대\")","v":{"$error":"#REF!"}},{"$f":"SUMIFS(#REF!,#REF!,\">\"&$E8,#REF!,\"<=\"&$C8,#REF!,'사용승인별 현황'!AE$2,#REF!,\">=20\",#REF!,\"<>임대\")","v":{"$error":"#REF!"}},{"$f":"COUNTIFS(#REF!,\">\"&$E8,#REF!,\"<=\"&$C8,#REF!,'사용승인별 현황'!AG$2,#REF!,\">=20\",#REF!,\"<>임대\")","v":{"$error":"#REF!"}},{"$f":"SUMIFS(#REF!,#REF!,\">\"&$E8,#REF!,\"<=\"&$C8,#REF!,'사용승인별 현황'!AG$2,#REF!,\">=20\",#REF!,\"<>임대\")","v":{"$error":"#REF!"}},{"$f":"COUNTIFS(#REF!,\">\"&$E8,#REF!,\"<=\"&$C8,#REF!,'사용승인별 현황'!AI$2,#REF!,\">=20\",#REF!,\"<>임대\")","v":{"$error":"#REF!"}},{"$f":"SUMIFS(#REF!,#REF!,\">\"&$E8,#REF!,\"<=\"&$C8,#REF!,'사용승인별 현황'!AI$2,#REF!,\">=20\",#REF!,\"<>임대\")","v":{"$error":"#REF!"}},{"$f":"COUNTIFS(#REF!,\">\"&$E8,#REF!,\"<=\"&$C8,#REF!,'사용승인별 현황'!AK$2,#REF!,\">=20\",#REF!,\"<>임대\")","v":{"$error":"#REF!"}},{"$f":"SUMIFS(#REF!,#REF!,\">\"&$E8,#REF!,\"<=\"&$C8,#REF!,'사용승인별 현황'!AK$2,#REF!,\">=20\",#REF!,\"<>임대\")","v":{"$error":"#REF!"}},{"$f":"COUNTIFS(#REF!,\">\"&$E8,#REF!,\"<=\"&$C8,#REF!,'사용승인별 현황'!AM$2,#REF!,\">=20\",#REF!,\"<>임대\")","v":{"$error":"#REF!"}},{"$f":"SUMIFS(#REF!,#REF!,\">\"&$E8,#REF!,\"<=\"&$C8,#REF!,'사용승인별 현황'!AM$2,#REF!,\">=20\",#REF!,\"<>임대\")","v":{"$error":"#REF!"}},{"$f":"COUNTIFS(#REF!,\">\"&$E8,#REF!,\"<=\"&$C8,#REF!,'사용승인별 현황'!AO$2,#REF!,\">=20\",#REF!,\"<>임대\")","v":{"$error":"#REF!"}},{"$f":"SUMIFS(#REF!,#REF!,\">\"&$E8,#REF!,\"<=\"&$C8,#REF!,'사용승인별 현황'!AO$2,#REF!,\">=20\",#REF!,\"<>임대\")","v":{"$error":"#REF!"}},{"$f":"COUNTIFS(#REF!,\">\"&$E8,#REF!,\"<=\"&$C8,#REF!,'사용승인별 현황'!AQ$2,#REF!,\">=20\",#REF!,\"<>임대\")","v":{"$error":"#REF!"}},{"$f":"SUMIFS(#REF!,#REF!,\">\"&$E8,#REF!,\"<=\"&$C8,#REF!,'사용승인별 현황'!AQ$2,#REF!,\">=20\",#REF!,\"<>임대\")","v":{"$error":"#REF!"}},{"$f":"COUNTIFS(#REF!,\">\"&$E8,#REF!,\"<=\"&$C8,#REF!,'사용승인별 현황'!AS$2,#REF!,\">=20\",#REF!,\"<>임대\")","v":{"$error":"#REF!"}},{"$f":"SUMIFS(#REF!,#REF!,\">\"&$E8,#REF!,\"<=\"&$C8,#REF!,'사용승인별 현황'!AS$2,#REF!,\">=20\",#REF!,\"<>임대\")","v":{"$error":"#REF!"}},{"$f":"COUNTIFS(#REF!,\">\"&$E8,#REF!,\"<=\"&$C8,#REF!,'사용승인별 현황'!AU$2,#REF!,\">=20\",#REF!,\"<>임대\")","v":{"$error":"#REF!"}},{"$f":"SUMIFS(#REF!,#REF!,\">\"&$E8,#REF!,\"<=\"&$C8,#REF!,'사용승인별 현황'!AU$2,#REF!,\">=20\",#REF!,\"<>임대\")","v":{"$error":"#REF!"}},{"$f":"COUNTIFS(#REF!,\">\"&$E8,#REF!,\"<=\"&$C8,#REF!,'사용승인별 현황'!AW$2,#REF!,\">=20\",#REF!,\"<>임대\")","v":{"$error":"#REF!"}},{"$f":"SUMIFS(#REF!,#REF!,\">\"&$E8,#REF!,\"<=\"&$C8,#REF!,'사용승인별 현황'!AW$2,#REF!,\">=20\",#REF!,\"<>임대\")","v":{"$error":"#REF!"}},{"$f":"COUNTIFS(#REF!,\">\"&$E8,#REF!,\"<=\"&$C8,#REF!,'사용승인별 현황'!AY$2,#REF!,\">=20\",#REF!,\"<>임대\")","v":{"$error":"#REF!"}},{"$f":"SUMIFS(#REF!,#REF!,\">\"&$E8,#REF!,\"<=\"&$C8,#REF!,'사용승인별 현황'!AY$2,#REF!,\">=20\",#REF!,\"<>임대\")","v":{"$error":"#REF!"}},{"$f":"COUNTIFS(#REF!,\">\"&$E8,#REF!,\"<=\"&$C8,#REF!,'사용승인별 현황'!BA$2,#REF!,\">=20\",#REF!,\"<>임대\")","v":{"$error":"#REF!"}},{"$f":"SUMIFS(#REF!,#REF!,\">\"&$E8,#REF!,\"<=\"&$C8,#REF!,'사용승인별 현황'!BA$2,#REF!,\">=20\",#REF!,\"<>임대\")","v":{"$error":"#REF!"}},{"$f":"COUNTIFS(#REF!,\">\"&$E8,#REF!,\"<=\"&$C8,#REF!,'사용승인별 현황'!BC$2,#REF!,\">=20\",#REF!,\"<>임대\")","v":{"$error":"#REF!"}},{"$f":"SUMIFS(#REF!,#REF!,\">\"&$E8,#REF!,\"<=\"&$C8,#REF!,'사용승인별 현황'!BC$2,#REF!,\">=20\",#REF!,\"<>임대\")","v":{"$error":"#REF!"}},{"$f":"COUNTIFS(#REF!,\">\"&$E8,#REF!,\"<=\"&$C8,#REF!,'사용승인별 현황'!BE$2,#REF!,\">=20\",#REF!,\"<>임대\")","v":{"$error":"#REF!"}},{"$f":"SUMIFS(#REF!,#REF!,\">\"&$E8,#REF!,\"<=\"&$C8,#REF!,'사용승인별 현황'!BE$2,#REF!,\">=20\",#REF!,\"<>임대\")","v":{"$error":"#REF!"}}]
[null,20,35796,25,"1993-01-01",{"$f":"COUNTIFS(#REF!,\">\"&$E9,#REF!,\"<=\"&$C9,#REF!,\">=20\",#REF!,\"<>임대\")","v":{"$error":"#REF!"}},{"$f":"SUMIFS(#REF!,#REF!,\">\"&$E9,#REF!,\"<=\"&$C9,#REF!,\">=20\",#REF!,\"<>임대\")","v":{"$error":"#REF!"}},null,{"$f":"COUNTIFS(#REF!,\">\"&$E9,#REF!,\"<=\"&$C9,#REF!,'사용승인별 현황'!I$2,#REF!,\">=20\",#REF!,\"<>임대\")","v":{"$error":"#REF!"}},{"$f":"SUMIFS(#REF!,#REF!,\">\"&$E9,#REF!,\"<=\"&$C9,#REF!,'사용승인별 현황'!I$2,#REF!,\">=20\",#REF!,\"<>임대\")","v":{"$error":"#REF!"}},{"$f":"COUNTIFS(#REF!,\">\"&$E9,#REF!,\"<=\"&$C9,#REF!,'사용승인별 현황'!K$2,#REF!,\">=20\",#REF!,\"<>임대\")","v":{"$error":"#REF!"}},{"$f":"SUMIFS(#REF!,#REF!,\">\"&$E9,#REF!,\"<=\"&$C9,#REF!,'사용승인별 현황'!K$2,#REF!,\">=20\",#REF!,\"<>임대\")","v":{"$error":"#REF!"}},{"$f":"COUNTIFS(#REF!,\">\"&$E9,#REF!,\"<=\"&$C9,#REF!,'사용승인별 현황'!M$2,#REF!,\">=20\",#REF!,\"<>임대\")","v":{"$error":"#REF!"}},{"$f":"SUMIFS(#REF!,#REF!,\">\"&$E9,#REF!,\"<=\"&$C9,#REF!,'사용승인별 현황'!M$2,#REF!,\">=20\",#REF!,\"<>임대\")","v":{"$error":"#REF!"}},{"$f":"COUNTIFS(#REF!,\">\"&$E9,#REF!,\"<=\"&$C9,#REF!,'사용승인별 현황'!O$2,#REF!,\">=20\",#REF!,\"<>임대\")","v":{"$error":"#REF!"}},{"$f":"SUMIFS(#REF!,#REF!,\">\"&$E9,#REF!,\"<=\"&$C9,#REF!,'사용승인별 현황'!O$2,#REF!,\">=20\",#REF!,\"<>임대\")","v":{"$error":"#REF!"}},{"$f":"COUNTIFS(#REF!,\">\"&$E9,#REF!,\"<=\"&$C9,#REF!,'사용승인별 현황'!Q$2,#REF!,\">=20\",#REF!,\"<>임대\")","v":{"$error":"#REF!"}},{"$f":"SUMIFS(#REF!,#REF!,\">\"&$E9,#REF!,\"<=\"&$C9,#REF!,'사용승인별 현황'!Q$2,#REF!,\">=20\",#REF!,\"<>임대\")","v":{"$error":"#REF!"}},{"$f":"COUNTIFS(#REF!,\">\"&$E9,#REF!,\"<=\"&$C9,#REF!,'사용승인별 현황'!S$2,#REF!,\">=20\",#REF!,\"<>임대\")","v":{"$error":"#REF!"}},{"$f":"SUMIFS(#REF!,#REF!,\">\"&$E9,#REF!,\"<=\"&$C9,#REF!,'사용승인별 현황'!S$2,#REF!,\">=20\",#REF!,\"<>임대\")","v":{"$error":"#REF!"}},{"$f":"COUNTIFS(#REF!,\">\"&$E9,#REF!,\"<=\"&$C9,#REF!,'사용승인별 현황'!U$2,#REF!,\">=20\",#REF!,\"<>임대\")","v":{"$error":"#REF!"}},{"$f":"SUMIFS(#REF!,#REF!,\">\"&$E9,#REF!,\"<=\"&$C9,#REF!,'사용승인별 현황'!U$2,#REF!,\">=20\",#REF!,\"<>임대\")","v":{"$error":"#REF!"}},{"$f":"COUNTIFS(#REF!,\">\"&$E9,#REF!,\"<=\"&$C9,#REF!,'사용승인별 현황'!W$2,#REF!,\">=20\",#REF!,\"<>임대\")","v":{"$error":"#REF!"}},{"$f":"SUMIFS(#REF!,#REF!,\">\"&$E9,#REF!,\"<=\"&$C9,#REF!,'사용승인별 현황'!W$2,#REF!,\">=20\",#REF!,\"<>임대\")","v":{"$error":"#REF!"}},{"$f":"COUNTIFS(#REF!,\">\"&$E9,#REF!,\"<=\"&$C9,#REF!,'사용승인별 현황'!Y$2,#REF!,\">=20\",#REF!,\"<>임대\")","v":{"$error":"#REF!"}},{"$f":"SUMIFS(#REF!,#REF!,\">\"&$E9,#REF!,\"<=\"&$C9,#REF!,'사용승인별 현황'!Y$2,#REF!,\">=20\",#REF!,\"<>임대\")","v":{"$error":"#REF!"}},{"$f":"COUNTIFS(#REF!,\">\"&$E9,#REF!,\"<=\"&$C9,#REF!,'사용승인별 현황'!AA$2,#REF!,\">=20\",#REF!,\"<>임대\")","v":{"$error":"#REF!"}},{"$f":"SUMIFS(#REF!,#REF!,\">\"&$E9,#REF!,\"<=\"&$C9,#REF!,'사용승인별 현황'!AA$2,#REF!,\">=20\",#REF!,\"<>임대\")","v":{"$error":"#REF!"}},{"$f":"COUNTIFS(#REF!,\">\"&$E9,#REF!,\"<=\"&$C9,#REF!,'사용승인별 현황'!AC$2,#REF!,\">=20\",#REF!,\"<>임대\")","v":{"$error":"#REF!"}},{"$f":"SUMIFS(#REF!,#REF!,\">\"&$E9,#REF!,\"<=\"&$C9,#REF!,'사용승인별 현황'!AC$2,#REF!,\">=20\",#REF!,\"<>임대\")","v":{"$error":"#REF!"}},{"$f":"COUNTIFS(#REF!,\">\"&$E9,#REF!,\"<=\"&$C9,#REF!,'사용승인별 현황'!AE$2,#REF!,\">=20\",#REF!,\"<>임대\")","v":{"$error":"#REF!"}},{"$f":"SUMIFS(#REF!,#REF!,\">\"&$E9,#REF!,\"<=\"&$C9,#REF!,'사용승인별 현황'!AE$2,#REF!,\">=20\",#REF!,\"<>임대\")","v":{"$error":"#REF!"}},{"$f":"COUNTIFS(#REF!,\">\"&$E9,#REF!,\"<=\"&$C9,#REF!,'사용승인별 현황'!AG$2,#REF!,\">=20\",#REF!,\"<>임대\")","v":{"$error":"#REF!"}},{"$f":"SUMIFS(#REF!,#REF!,\">\"&$E9,#REF!,\"<=\"&$C9,#REF!,'사용승인별 현황'!AG$2,#REF!,\">=20\",#REF!,\"<>임대\")","v":{"$error":"#REF!"}},{"$f":"COUNTIFS(#REF!,\">\"&$E9,#REF!,\"<=\"&$C9,#REF!,'사용승인별 현황'!AI$2,#REF!,\">=20\",#REF!,\"<>임대\")","v":{"$error":"#REF!"}},{"$f":"SUMIFS(#REF!,#REF!,\">\"&$E9,#REF!,\"<=\"&$C9,#REF!,'사용승인별 현황'!AI$2,#REF!,\">=20\",#REF!,\"<>임대\")","v":{"$error":"#REF!"}},{"$f":"COUNTIFS(#REF!,\">\"&$E9,#REF!,\"<=\"&$C9,#REF!,'사용승인별 현황'!AK$2,#REF!,\">=20\",#REF!,\"<>임대\")","v":{"$error":"#REF!"}},{"$f":"SUMIFS(#REF!,#REF!,\">\"&$E9,#REF!,\"<=\"&$C9,#REF!,'사용승인별 현황'!AK$2,#REF!,\">=20\",#REF!,\"<>임대\")","v":{"$error":"#REF!"}},{"$f":"COUNTIFS(#REF!,\">\"&$E9,#REF!,\"<=\"&$C9,#REF!,'사용승인별 현황'!AM$2,#REF!,\">=20\",#REF!,\"<>임대\")","v":{"$error":"#REF!"}},{"$f":"SUMIFS(#REF!,#REF!,\">\"&$E9,#REF!,\"<=\"&$C9,#REF!,'사용승인별 현황'!AM$2,#REF!,\">=20\",#REF!,\"<>임대\")","v":{"$error":"#REF!"}},{"$f":"COUNTIFS(#REF!,\">\"&$E9,#REF!,\"<=\"&$C9,#REF!,'사용승인별 현황'!AO$2,#REF!,\">=20\",#REF!,\"<>임대\")","v":{"$error":"#REF!"}},{"$f":"SUMIFS(#REF!,#REF!,\">\"&$E9,#REF!,\"<=\"&$C9,#REF!,'사용승인별 현황'!AO$2,#REF!,\">=20\",#REF!,\"<>임대\")","v":{"$error":"#REF!"}},{"$f":"COUNTIFS(#REF!,\">\"&$E9,#REF!,\"<=\"&$C9,#REF!,'사용승인별 현황'!AQ$2,#REF!,\">=20\",#REF!,\"<>임대\")","v":{"$error":"#REF!"}},{"$f":"SUMIFS(#REF!,#REF!,\">\"&$E9,#REF!,\"<=\"&$C9,#REF!,'사용승인별 현황'!AQ$2,#REF!,\">=20\",#REF!,\"<>임대\")","v":{"$error":"#REF!"}},{"$f":"COUNTIFS(#REF!,\">\"&$E9,#REF!,\"<=\"&$C9,#REF!,'사용승인별 현황'!AS$2,#REF!,\">=20\",#REF!,\"<>임대\")","v":{"$error":"#REF!"}},{"$f":"SUMIFS(#REF!,#REF!,\">\"&$E9,#REF!,\"<=\"&$C9,#REF!,'사용승인별 현황'!AS$2,#REF!,\">=20\",#REF!,\"<>임대\")","v":{"$error":"#REF!"}},{"$f":"COUNTIFS(#REF!,\">\"&$E9,#REF!,\"<=\"&$C9,#REF!,'사용승인별 현황'!AU$2,#REF!,\">=20\",#REF!,\"<>임대\")","v":{"$error":"#REF!"}},{"$f":"SUMIFS(#REF!,#REF!,\">\"&$E9,#REF!,\"<=\"&$C9,#REF!,'사용승인별 현황'!AU$2,#REF!,\">=20\",#REF!,\"<>임대\")","v":{"$error":"#REF!"}},{"$f":"COUNTIFS(#REF!,\">\"&$E9,#REF!,\"<=\"&$C9,#REF!,'사용승인별 현황'!AW$2,#REF!,\">=20\",#REF!,\"<>임대\")","v":{"$error":"#REF!"}},{"$f":"SUMIFS(#REF!,#REF!,\">\"&$E9,#REF!,\"<=\"&$C9,#REF!,'사용승인별 현황'!AW$2,#REF!,\">=20\",#REF!,\"<>임대\")","v":{"$error":"#REF!"}},{"$f":"COUNTIFS(#REF!,\">\"&$E9,#REF!,\"<=\"&$C9,#REF!,'사용승인별 현황'!AY$2,#REF!,\">=20\",#REF!,\"<>임대\")","v":{"$error":"#REF!"}},{"$f":"SUMIFS(#REF!,#REF!,\">\"&$E9,#REF!,\"<=\"&$C9,#REF!,'사용승인별 현황'!AY$2,#REF!,\">=20\",#REF!,\"<>임대\")","v":{"$error":"#REF!"}},{"$f":"COUNTIFS(#REF!,\">\"&$E9,#REF!,\"<=\"&$C9,#REF!,'사용승인별 현황'!BA$2,#REF!,\">=20\",#REF!,\"<>임대\")","v":{"$error":"#REF!"}},{"$f":"SUMIFS(#REF!,#REF!,\">\"&$E9,#REF!,\"<=\"&$C9,#REF!,'사용승인별 현황'!BA$2,#REF!,\">=20\",#REF!,\"<>임대\")","v":{"$error":"#REF!"}},{"$f":"COUNTIFS(#REF!,\">\"&$E9,#REF!,\"<=\"&$C9,#REF!,'사용승인별 현황'!BC$2,#REF!,\">=20\",#REF!,\"<>임대\")","v":{"$error":"#REF!"}},{"$f":"SUMIFS(#REF!,#REF!,\">\"&$E9,#REF!,\"<=\"&$C9,#REF!,'사용승인별 현황'!BC$2,#REF!,\">=20\",#REF!,\"<>임대\")","v":{"$error":"#REF!"}},{"$f":"COUNTIFS(#REF!,\">\"&$E9,#REF!,\"<=\"&$C9,#REF!,'사용승인별 현황'!BE$2,#REF!,\">=20\",#REF!,\"<>임대\")","v":{"$error":"#REF!"}},{"$f":"SUMIFS(#REF!,#REF!,\">\"&$E9,#REF!,\"<=\"&$C9,#REF!,'사용승인별 현황'!BE$2,#REF!,\">=20\",#REF!,\"<>임대\")","v":{"$error":"#REF!"}}]
[null,25,33970,30,"1988-01-01",{"$f":"COUNTIFS(#REF!,\">\"&$E10,#REF!,\"<=\"&$C10,#REF!,\">=20\",#REF!,\"<>임대\")","v":{"$error":"#REF!"}},{"$f":"SUMIFS(#REF!,#REF!,\">\"&$E10,#REF!,\"<=\"&$C10,#REF!,\">=20\",#REF!,\"<>임대\")","v":{"$error":"#REF!"}},null,{"$f":"COUNTIFS(#REF!,\">\"&$E10,#REF!,\"<=\"&$C10,#REF!,'사용승인별 현황'!I$2,#REF!,\">=20\",#REF!,\"<>임대\")","v":{"$error":"#REF!"}},{"$f":"SUMIFS(#REF!,#REF!,\">\"&$E10,#REF!,\"<=\"&$C10,#REF!,'사용승인별 현황'!I$2,#REF!,\">=20\",#REF!,\"<>임대\")","v":{"$error":"#REF!"}},{"$f":"COUNTIFS(#REF!,\">\"&$E10,#REF!,\"<=\"&$C10,#REF!,'사용승인별 현황'!K$2,#REF!,\">=20\",#REF!,\"<>임대\")","v":{"$error":"#REF!"}},{"$f":"SUMIFS(#REF!,#REF!,\">\"&$E10,#REF!,\"<=\"&$C10,#REF!,'사용승인별 현황'!K$2,#REF!,\">=20\",#REF!,\"<>임대\")","v":{"$error":"#REF!"}},{"$f":"COUNTIFS(#REF!,\">\"&$E10,#REF!,\"<=\"&$C10,#REF!,'사용승인별 현황'!M$2,#REF!,\">=20\",#REF!,\"<>임대\")","v":{"$error":"#REF!"}},{"$f":"SUMIFS(#REF!,#REF!,\">\"&$E10,#REF!,\"<=\"&$C10,#REF!,'사용승인별 현황'!M$2,#REF!,\">=20\",#REF!,\"<>임대\")","v":{"$error":"#REF!"}},{"$f":"COUNTIFS(#REF!,\">\"&$E10,#REF!,\"<=\"&$C10,#REF!,'사용승인별 현황'!O$2,#REF!,\">=20\",#REF!,\"<>임대\")","v":{"$error":"#REF!"}},{"$f":"SUMIFS(#REF!,#REF!,\">\"&$E10,#REF!,\"<=\"&$C10,#REF!,'사용승인별 현황'!O$2,#REF!,\">=20\",#REF!,\"<>임대\")","v":{"$error":"#REF!"}},{"$f":"COUNTIFS(#REF!,\">\"&$E10,#REF!,\"<=\"&$C10,#REF!,'사용승인별 현황'!Q$2,#REF!,\">=20\",#REF!,\"<>임대\")","v":{"$error":"#REF!"}},{"$f":"SUMIFS(#REF!,#REF!,\">\"&$E10,#REF!,\"<=\"&$C10,#REF!,'사용승인별 현황'!Q$2,#REF!,\">=20\",#REF!,\"<>임대\")","v":{"$error":"#REF!"}},{"$f":"COUNTIFS(#REF!,\">\"&$E10,#REF!,\"<=\"&$C10,#REF!,'사용승인별 현황'!S$2,#REF!,\">=20\",#REF!,\"<>임대\")","v":{"$error":"#REF!"}},{"$f":"SUMIFS(#REF!,#REF!,\">\"&$E10,#REF!,\"<=\"&$C10,#REF!,'사용승인별 현황'!S$2,#REF!,\">=20\",#REF!,\"<>임대\")","v":{"$error":"#REF!"}},{"$f":"COUNTIFS(#REF!,\">\"&$E10,#REF!,\"<=\"&$C10,#REF!,'사용승인별 현황'!U$2,#REF!,\">=20\",#REF!,\"<>임대\")","v":{"$error":"#REF!"}},{"$f":"SUMIFS(#REF!,#REF!,\">\"&$E10,#REF!,\"<=\"&$C10,#REF!,'사용승인별 현황'!U$2,#REF!,\">=20\",#REF!,\"<>임대\")","v":{"$error":"#REF!"}},{"$f":"COUNTIFS(#REF!,\">\"&$E10,#REF!,\"<=\"&$C10,#REF!,'사용승인별 현황'!W$2,#REF!,\">=20\",#REF!,\"<>임대\")","v":{"$error":"#REF!"}},{"$f":"SUMIFS(#REF!,#REF!,\">\"&$E10,#REF!,\"<=\"&$C10,#REF!,'사용승인별 현황'!W$2,#REF!,\">=20\",#REF!,\"<>임대\")","v":{"$error":"#REF!"}},{"$f":"COUNTIFS(#REF!,\">\"&$E10,#REF!,\"<=\"&$C10,#REF!,'사용승인별 현황'!Y$2,#REF!,\">=20\",#REF!,\"<>임대\")","v":{"$error":"#REF!"}},{"$f":"SUMIFS(#REF!,#REF!,\">\"&$E10,#REF!,\"<=\"&$C10,#REF!,'사용승인별 현황'!Y$2,#REF!,\">=20\",#REF!,\"<>임대\")","v":{"$error":"#REF!"}},{"$f":"COUNTIFS(#REF!,\">\"&$E10,#REF!,\"<=\"&$C10,#REF!,'사용승인별 현황'!AA$2,#REF!,\">=20\",#REF!,\"<>임대\")","v":{"$error":"#REF!"}},{"$f":"SUMIFS(#REF!,#REF!,\">\"&$E10,#REF!,\"<=\"&$C10,#REF!,'사용승인별 현황'!AA$2,#REF!,\">=20\",#REF!,\"<>임대\")","v":{"$error":"#REF!"}},{"$f":"COUNTIFS(#REF!,\">\"&$E10,#REF!,\"<=\"&$C10,#REF!,'사용승인별 현황'!AC$2,#REF!,\">=20\",#REF!,\"<>임대\")","v":{"$error":"#REF!"}},{"$f":"SUMIFS(#REF!,#REF!,\">\"&$E10,#REF!,\"<=\"&$C10,#REF!,'사용승인별 현황'!AC$2,#REF!,\">=20\",#REF!,\"<>임대\")","v":{"$error":"#REF!"}},{"$f":"COUNTIFS(#REF!,\">\"&$E10,#REF!,\"<=\"&$C10,#REF!,'사용승인별 현황'!AE$2,#REF!,\">=20\",#REF!,\"<>임대\")","v":{"$error":"#REF!"}},{"$f":"SUMIFS(#REF!,#REF!,\">\"&$E10,#REF!,\"<=\"&$C10,#REF!,'사용승인별 현황'!AE$2,#REF!,\">=20\",#REF!,\"<>임대\")","v":{"$error":"#REF!"}},{"$f":"COUNTIFS(#REF!,\">\"&$E10,#REF!,\"<=\"&$C10,#REF!,'사용승인별 현황'!AG$2,#REF!,\">=20\",#REF!,\"<>임대\")","v":{"$error":"#REF!"}},{"$f":"SUMIFS(#REF!,#REF!,\">\"&$E10,#REF!,\"<=\"&$C10,#REF!,'사용승인별 현황'!AG$2,#REF!,\">=20\",#REF!,\"<>임대\")","v":{"$error":"#REF!"}},{"$f":"COUNTIFS(#REF!,\">\"&$E10,#REF!,\"<=\"&$C10,#REF!,'사용승인별 현황'!AI$2,#REF!,\">=20\",#REF!,\"<>임대\")","v":{"$error":"#REF!"}},{"$f":"SUMIFS(#REF!,#REF!,\">\"&$E10,#REF!,\"<=\"&$C10,#REF!,'사용승인별 현황'!AI$2,#REF!,\">=20\",#REF!,\"<>임대\")","v":{"$error":"#REF!"}},{"$f":"COUNTIFS(#REF!,\">\"&$E10,#REF!,\"<=\"&$C10,#REF!,'사용승인별 현황'!AK$2,#REF!,\">=20\",#REF!,\"<>임대\")","v":{"$error":"#REF!"}},{"$f":"SUMIFS(#REF!,#REF!,\">\"&$E10,#REF!,\"<=\"&$C10,#REF!,'사용승인별 현황'!AK$2,#REF!,\">=20\",#REF!,\"<>임대\")","v":{"$error":"#REF!"}},{"$f":"COUNTIFS(#REF!,\">\"&$E10,#REF!,\"<=\"&$C10,#REF!,'사용승인별 현황'!AM$2,#REF!,\">=20\",#REF!,\"<>임대\")","v":{"$error":"#REF!"}},{"$f":"SUMIFS(#REF!,#REF!,\">\"&$E10,#REF!,\"<=\"&$C10,#REF!,'사용승인별 현황'!AM$2,#REF!,\">=20\",#REF!,\"<>임대\")","v":{"$error":"#REF!"}},{"$f":"COUNTIFS(#REF!,\">\"&$E10,#REF!,\"<=\"&$C10,#REF!,'사용승인별 현황'!AO$2,#REF!,\">=20\",#REF!,\"<>임대\")","v":{"$error":"#REF!"}},{"$f":"SUMIFS(#REF!,#REF!,\">\"&$E10,#REF!,\"<=\"&$C10,#REF!,'사용승인별 현황'!AO$2,#REF!,\">=20\",#REF!,\"<>임대\")","v":{"$error":"#REF!"}},{"$f":"COUNTIFS(#REF!,\">\"&$E10,#REF!,\"<=\"&$C10,#REF!,'사용승인별 현황'!AQ$2,#REF!,\">=20\",#REF!,\"<>임대\")","v":{"$error":"#REF!"}},{"$f":"SUMIFS(#REF!,#REF!,\">\"&$E10,#REF!,\"<=\"&$C10,#REF!,'사용승인별 현황'!AQ$2,#REF!,\">=20\",#REF!,\"<>임대\")","v":{"$error":"#REF!"}},{"$f":"COUNTIFS(#REF!,\">\"&$E10,#REF!,\"<=\"&$C10,#REF!,'사용승인별 현황'!AS$2,#REF!,\">=20\",#REF!,\"<>임대\")","v":{"$error":"#REF!"}},{"$f":"SUMIFS(#REF!,#REF!,\">\"&$E10,#REF!,\"<=\"&$C10,#REF!,'사용승인별 현황'!AS$2,#REF!,\">=20\",#REF!,\"<>임대\")","v":{"$error":"#REF!"}},{"$f":"COUNTIFS(#REF!,\">\"&$E10,#REF!,\"<=\"&$C10,#REF!,'사용승인별 현황'!AU$2,#REF!,\">=20\",#REF!,\"<>임대\")","v":{"$error":"#REF!"}},{"$f":"SUMIFS(#REF!,#REF!,\">\"&$E10,#REF!,\"<=\"&$C10,#REF!,'사용승인별 현황'!AU$2,#REF!,\">=20\",#REF!,\"<>임대\")","v":{"$error":"#REF!"}},{"$f":"COUNTIFS(#REF!,\">\"&$E10,#REF!,\"<=\"&$C10,#REF!,'사용승인별 현황'!AW$2,#REF!,\">=20\",#REF!,\"<>임대\")","v":{"$error":"#REF!"}},{"$f":"SUMIFS(#REF!,#REF!,\">\"&$E10,#REF!,\"<=\"&$C10,#REF!,'사용승인별 현황'!AW$2,#REF!,\">=20\",#REF!,\"<>임대\")","v":{"$error":"#REF!"}},{"$f":"COUNTIFS(#REF!,\">\"&$E10,#REF!,\"<=\"&$C10,#REF!,'사용승인별 현황'!AY$2,#REF!,\">=20\",#REF!,\"<>임대\")","v":{"$error":"#REF!"}},{"$f":"SUMIFS(#REF!,#REF!,\">\"&$E10,#REF!,\"<=\"&$C10,#REF!,'사용승인별 현황'!AY$2,#REF!,\">=20\",#REF!,\"<>임대\")","v":{"$error":"#REF!"}},{"$f":"COUNTIFS(#REF!,\">\"&$E10,#REF!,\"<=\"&$C10,#REF!,'사용승인별 현황'!BA$2,#REF!,\">=20\",#REF!,\"<>임대\")","v":{"$error":"#REF!"}},{"$f":"SUMIFS(#REF!,#REF!,\">\"&$E10,#REF!,\"<=\"&$C10,#REF!,'사용승인별 현황'!BA$2,#REF!,\">=20\",#REF!,\"<>임대\")","v":{"$error":"#REF!"}},{"$f":"COUNTIFS(#REF!,\">\"&$E10,#REF!,\"<=\"&$C10,#REF!,'사용승인별 현황'!BC$2,#REF!,\">=20\",#REF!,\"<>임대\")","v":{"$error":"#REF!"}},{"$f":"SUMIFS(#REF!,#REF!,\">\"&$E10,#REF!,\"<=\"&$C10,#REF!,'사용승인별 현황'!BC$2,#REF!,\">=20\",#REF!,\"<>임대\")","v":{"$error":"#REF!"}},{"$f":"COUNTIFS(#REF!,\">\"&$E10,#REF!,\"<=\"&$C10,#REF!,'사용승인별 현황'!BE$2,#REF!,\">=20\",#REF!,\"<>임대\")","v":{"$error":"#REF!"}},{"$f":"SUMIFS(#REF!,#REF!,\">\"&$E10,#REF!,\"<=\"&$C10,#REF!,'사용승인별 현황'!BE$2,#REF!,\">=20\",#REF!,\"<>임대\")","v":{"$error":"#REF!"}}]
[null,30,32143,35,"1983-01-01",{"$f":"COUNTIFS(#REF!,\">\"&$E11,#REF!,\"<=\"&$C11,#REF!,\">=20\",#REF!,\"<>임대\")","v":{"$error":"#REF!"}},{"$f":"SUMIFS(#REF!,#REF!,\">\"&$E11,#REF!,\"<=\"&$C11,#REF!,\">=20\",#REF!,\"<>임대\")","v":{"$error":"#REF!"}},null,{"$f":"COUNTIFS(#REF!,\">\"&$E11,#REF!,\"<=\"&$C11,#REF!,'사용승인별 현황'!I$2,#REF!,\">=20\",#REF!,\"<>임대\")","v":{"$error":"#REF!"}},{"$f":"SUMIFS(#REF!,#REF!,\">\"&$E11,#REF!,\"<=\"&$C11,#REF!,'사용승인별 현황'!I$2,#REF!,\">=20\",#REF!,\"<>임대\")","v":{"$error":"#REF!"}},{"$f":"COUNTIFS(#REF!,\">\"&$E11,#REF!,\"<=\"&$C11,#REF!,'사용승인별 현황'!K$2,#REF!,\">=20\",#REF!,\"<>임대\")","v":{"$error":"#REF!"}},{"$f":"SUMIFS(#REF!,#REF!,\">\"&$E11,#REF!,\"<=\"&$C11,#REF!,'사용승인별 현황'!K$2,#REF!,\">=20\",#REF!,\"<>임대\")","v":{"$error":"#REF!"}},{"$f":"COUNTIFS(#REF!,\">\"&$E11,#REF!,\"<=\"&$C11,#REF!,'사용승인별 현황'!M$2,#REF!,\">=20\",#REF!,\"<>임대\")","v":{"$error":"#REF!"}},{"$f":"SUMIFS(#REF!,#REF!,\">\"&$E11,#REF!,\"<=\"&$C11,#REF!,'사용승인별 현황'!M$2,#REF!,\">=20\",#REF!,\"<>임대\")","v":{"$error":"#REF!"}},{"$f":"COUNTIFS(#REF!,\">\"&$E11,#REF!,\"<=\"&$C11,#REF!,'사용승인별 현황'!O$2,#REF!,\">=20\",#REF!,\"<>임대\")","v":{"$error":"#REF!"}},{"$f":"SUMIFS(#REF!,#REF!,\">\"&$E11,#REF!,\"<=\"&$C11,#REF!,'사용승인별 현황'!O$2,#REF!,\">=20\",#REF!,\"<>임대\")","v":{"$error":"#REF!"}},{"$f":"COUNTIFS(#REF!,\">\"&$E11,#REF!,\"<=\"&$C11,#REF!,'사용승인별 현황'!Q$2,#REF!,\">=20\",#REF!,\"<>임대\")","v":{"$error":"#REF!"}},{"$f":"SUMIFS(#REF!,#REF!,\">\"&$E11,#REF!,\"<=\"&$C11,#REF!,'사용승인별 현황'!Q$2,#REF!,\">=20\",#REF!,\"<>임대\")","v":{"$error":"#REF!"}},{"$f":"COUNTIFS(#REF!,\">\"&$E11,#REF!,\"<=\"&$C11,#REF!,'사용승인별 현황'!S$2,#REF!,\">=20\",#REF!,\"<>임대\")","v":{"$error":"#REF!"}},{"$f":"SUMIFS(#REF!,#REF!,\">\"&$E11,#REF!,\"<=\"&$C11,#REF!,'사용승인별 현황'!S$2,#REF!,\">=20\",#REF!,\"<>임대\")","v":{"$error":"#REF!"}},{"$f":"COUNTIFS(#REF!,\">\"&$E11,#REF!,\"<=\"&$C11,#REF!,'사용승인별 현황'!U$2,#REF!,\">=20\",#REF!,\"<>임대\")","v":{"$error":"#REF!"}},{"$f":"SUMIFS(#REF!,#REF!,\">\"&$E11,#REF!,\"<=\"&$C11,#REF!,'사용승인별 현황'!U$2,#REF!,\">=20\",#REF!,\"<>임대\")","v":{"$error":"#REF!"}},{"$f":"COUNTIFS(#REF!,\">\"&$E11,#REF!,\"<=\"&$C11,#REF!,'사용승인별 현황'!W$2,#REF!,\">=20\",#REF!,\"<>임대\")","v":{"$error":"#REF!"}},{"$f":"SUMIFS(#REF!,#REF!,\">\"&$E11,#REF!,\"<=\"&$C11,#REF!,'사용승인별 현황'!W$2,#REF!,\">=20\",#REF!,\"<>임대\")","v":{"$error":"#REF!"}},{"$f":"COUNTIFS(#REF!,\">\"&$E11,#REF!,\"<=\"&$C11,#REF!,'사용승인별 현황'!Y$2,#REF!,\">=20\",#REF!,\"<>임대\")","v":{"$error":"#REF!"}},{"$f":"SUMIFS(#REF!,#REF!,\">\"&$E11,#REF!,\"<=\"&$C11,#REF!,'사용승인별 현황'!Y$2,#REF!,\">=20\",#REF!,\"<>임대\")","v":{"$error":"#REF!"}},{"$f":"COUNTIFS(#REF!,\">\"&$E11,#REF!,\"<=\"&$C11,#REF!,'사용승인별 현황'!AA$2,#REF!,\">=20\",#REF!,\"<>임대\")","v":{"$error":"#REF!"}},{"$f":"SUMIFS(#REF!,#REF!,\">\"&$E11,#REF!,\"<=\"&$C11,#REF!,'사용승인별 현황'!AA$2,#REF!,\">=20\",#REF!,\"<>임대\")","v":{"$error":"#REF!"}},{"$f":"COUNTIFS(#REF!,\">\"&$E11,#REF!,\"<=\"&$C11,#REF!,'사용승인별 현황'!AC$2,#REF!,\">=20\",#REF!,\"<>임대\")","v":{"$error":"#REF!"}},{"$f":"SUMIFS(#REF!,#REF!,\">\"&$E11,#REF!,\"<=\"&$C11,#REF!,'사용승인별 현황'!AC$2,#REF!,\">=20\",#REF!,\"<>임대\")","v":{"$error":"#REF!"}},{"$f":"COUNTIFS(#REF!,\">\"&$E11,#REF!,\"<=\"&$C11,#REF!,'사용승인별 현황'!AE$2,#REF!,\">=20\",#REF!,\"<>임대\")","v":{"$error":"#REF!"}},{"$f":"SUMIFS(#REF!,#REF!,\">\"&$E11,#REF!,\"<=\"&$C11,#REF!,'사용승인별 현황'!AE$2,#REF!,\">=20\",#REF!,\"<>임대\")","v":{"$error":"#REF!"}},{"$f":"COUNTIFS(#REF!,\">\"&$E11,#REF!,\"<=\"&$C11,#REF!,'사용승인별 현황'!AG$2,#REF!,\">=20\",#REF!,\"<>임대\")","v":{"$error":"#REF!"}},{"$f":"SUMIFS(#REF!,#REF!,\">\"&$E11,#REF!,\"<=\"&$C11,#REF!,'사용승인별 현황'!AG$2,#REF!,\">=20\",#REF!,\"<>임대\")","v":{"$error":"#REF!"}},{"$f":"COUNTIFS(#REF!,\">\"&$E11,#REF!,\"<=\"&$C11,#REF!,'사용승인별 현황'!AI$2,#REF!,\">=20\",#REF!,\"<>임대\")","v":{"$error":"#REF!"}},{"$f":"SUMIFS(#REF!,#REF!,\">\"&$E11,#REF!,\"<=\"&$C11,#REF!,'사용승인별 현황'!AI$2,#REF!,\">=20\",#REF!,\"<>임대\")","v":{"$error":"#REF!"}},{"$f":"COUNTIFS(#REF!,\">\"&$E11,#REF!,\"<=\"&$C11,#REF!,'사용승인별 현황'!AK$2,#REF!,\">=20\",#REF!,\"<>임대\")","v":{"$error":"#REF!"}},{"$f":"SUMIFS(#REF!,#REF!,\">\"&$E11,#REF!,\"<=\"&$C11,#REF!,'사용승인별 현황'!AK$2,#REF!,\">=20\",#REF!,\"<>임대\")","v":{"$error":"#REF!"}},{"$f":"COUNTIFS(#REF!,\">\"&$E11,#REF!,\"<=\"&$C11,#REF!,'사용승인별 현황'!AM$2,#REF!,\">=20\",#REF!,\"<>임대\")","v":{"$error":"#REF!"}},{"$f":"SUMIFS(#REF!,#REF!,\">\"&$E11,#REF!,\"<=\"&$C11,#REF!,'사용승인별 현황'!AM$2,#REF!,\">=20\",#REF!,\"<>임대\")","v":{"$error":"#REF!"}},{"$f":"COUNTIFS(#REF!,\">\"&$E11,#REF!,\"<=\"&$C11,#REF!,'사용승인별 현황'!AO$2,#REF!,\">=20\",#REF!,\"<>임대\")","v":{"$error":"#REF!"}},{"$f":"SUMIFS(#REF!,#REF!,\">\"&$E11,#REF!,\"<=\"&$C11,#REF!,'사용승인별 현황'!AO$2,#REF!,\">=20\",#REF!,\"<>임대\")","v":{"$error":"#REF!"}},{"$f":"COUNTIFS(#REF!,\">\"&$E11,#REF!,\"<=\"&$C11,#REF!,'사용승인별 현황'!AQ$2,#REF!,\">=20\",#REF!,\"<>임대\")","v":{"$error":"#REF!"}},{"$f":"SUMIFS(#REF!,#REF!,\">\"&$E11,#REF!,\"<=\"&$C11,#REF!,'사용승인별 현황'!AQ$2,#REF!,\">=20\",#REF!,\"<>임대\")","v":{"$error":"#REF!"}},{"$f":"COUNTIFS(#REF!,\">\"&$E11,#REF!,\"<=\"&$C11,#REF!,'사용승인별 현황'!AS$2,#REF!,\">=20\",#REF!,\"<>임대\")","v":{"$error":"#REF!"}},{"$f":"SUMIFS(#REF!,#REF!,\">\"&$E11,#REF!,\"<=\"&$C11,#REF!,'사용승인별 현황'!AS$2,#REF!,\">=20\",#REF!,\"<>임대\")","v":{"$error":"#REF!"}},{"$f":"COUNTIFS(#REF!,\">\"&$E11,#REF!,\"<=\"&$C11,#REF!,'사용승인별 현황'!AU$2,#REF!,\">=20\",#REF!,\"<>임대\")","v":{"$error":"#REF!"}},{"$f":"SUMIFS(#REF!,#REF!,\">\"&$E11,#REF!,\"<=\"&$C11,#REF!,'사용승인별 현황'!AU$2,#REF!,\">=20\",#REF!,\"<>임대\")","v":{"$error":"#REF!"}},{"$f":"COUNTIFS(#REF!,\">\"&$E11,#REF!,\"<=\"&$C11,#REF!,'사용승인별 현황'!AW$2,#REF!,\">=20\",#REF!,\"<>임대\")","v":{"$error":"#REF!"}},{"$f":"SUMIFS(#REF!,#REF!,\">\"&$E11,#REF!,\"<=\"&$C11,#REF!,'사용승인별 현황'!AW$2,#REF!,\">=20\",#REF!,\"<>임대\")","v":{"$error":"#REF!"}},{"$f":"COUNTIFS(#REF!,\">\"&$E11,#REF!,\"<=\"&$C11,#REF!,'사용승인별 현황'!AY$2,#REF!,\">=20\",#REF!,\"<>임대\")","v":{"$error":"#REF!"}},{"$f":"SUMIFS(#REF!,#REF!,\">\"&$E11,#REF!,\"<=\"&$C11,#REF!,'사용승인별 현황'!AY$2,#REF!,\">=20\",#REF!,\"<>임대\")","v":{"$error":"#REF!"}},{"$f":"COUNTIFS(#REF!,\">\"&$E11,#REF!,\"<=\"&$C11,#REF!,'사용승인별 현황'!BA$2,#REF!,\">=20\",#REF!,\"<>임대\")","v":{"$error":"#REF!"}},{"$f":"SUMIFS(#REF!,#REF!,\">\"&$E11,#REF!,\"<=\"&$C11,#REF!,'사용승인별 현황'!BA$2,#REF!,\">=20\",#REF!,\"<>임대\")","v":{"$error":"#REF!"}},{"$f":"COUNTIFS(#REF!,\">\"&$E11,#REF!,\"<=\"&$C11,#REF!,'사용승인별 현황'!BC$2,#REF!,\">=20\",#REF!,\"<>임대\")","v":{"$error":"#REF!"}},{"$f":"SUMIFS(#REF!,#REF!,\">\"&$E11,#REF!,\"<=\"&$C11,#REF!,'사용승인별 현황'!BC$2,#REF!,\">=20\",#REF!,\"<>임대\")","v":{"$error":"#REF!"}},{"$f":"COUNTIFS(#REF!,\">\"&$E11,#REF!,\"<=\"&$C11,#REF!,'사용승인별 현황'!BE$2,#REF!,\">=20\",#REF!,\"<>임대\")","v":{"$error":"#REF!"}},{"$f":"SUMIFS(#REF!,#REF!,\">\"&$E11,#REF!,\"<=\"&$C11,#REF!,'사용승인별 현황'!BE$2,#REF!,\">=20\",#REF!,\"<>임대\")","v":{"$error":"#REF!"}}]
[null,35,30317,40,"1978-01-01",{"$f":"COUNTIFS(#REF!,\">\"&$E12,#REF!,\"<=\"&$C12,#REF!,\">=20\",#REF!,\"<>임대\")","v":{"$error":"#REF!"}},{"$f":"SUMIFS(#REF!,#REF!,\">\"&$E12,#REF!,\"<=\"&$C12,#REF!,\">=20\",#REF!,\"<>임대\")","v":{"$error":"#REF!"}},null,{"$f":"COUNTIFS(#REF!,\">\"&$E12,#REF!,\"<=\"&$C12,#REF!,'사용승인별 현황'!I$2,#REF!,\">=20\",#REF!,\"<>임대\")","v":{"$error":"#REF!"}},{"$f":"SUMIFS(#REF!,#REF!,\">\"&$E12,#REF!,\"<=\"&$C12,#REF!,'사용승인별 현황'!I$2,#REF!,\">=20\",#REF!,\"<>임대\")","v":{"$error":"#REF!"}},{"$f":"COUNTIFS(#REF!,\">\"&$E12,#REF!,\"<=\"&$C12,#REF!,'사용승인별 현황'!K$2,#REF!,\">=20\",#REF!,\"<>임대\")","v":{"$error":"#REF!"}},{"$f":"SUMIFS(#REF!,#REF!,\">\"&$E12,#REF!,\"<=\"&$C12,#REF!,'사용승인별 현황'!K$2,#REF!,\">=20\",#REF!,\"<>임대\")","v":{"$error":"#REF!"}},{"$f":"COUNTIFS(#REF!,\">\"&$E12,#REF!,\"<=\"&$C12,#REF!,'사용승인별 현황'!M$2,#REF!,\">=20\",#REF!,\"<>임대\")","v":{"$error":"#REF!"}},{"$f":"SUMIFS(#REF!,#REF!,\">\"&$E12,#REF!,\"<=\"&$C12,#REF!,'사용승인별 현황'!M$2,#REF!,\">=20\",#REF!,\"<>임대\")","v":{"$error":"#REF!"}},{"$f":"COUNTIFS(#REF!,\">\"&$E12,#REF!,\"<=\"&$C12,#REF!,'사용승인별 현황'!O$2,#REF!,\">=20\",#REF!,\"<>임대\")","v":{"$error":"#REF!"}},{"$f":"SUMIFS(#REF!,#REF!,\">\"&$E12,#REF!,\"<=\"&$C12,#REF!,'사용승인별 현황'!O$2,#REF!,\">=20\",#REF!,\"<>임대\")","v":{"$error":"#REF!"}},{"$f":"COUNTIFS(#REF!,\">\"&$E12,#REF!,\"<=\"&$C12,#REF!,'사용승인별 현황'!Q$2,#REF!,\">=20\",#REF!,\"<>임대\")","v":{"$error":"#REF!"}},{"$f":"SUMIFS(#REF!,#REF!,\">\"&$E12,#REF!,\"<=\"&$C12,#REF!,'사용승인별 현황'!Q$2,#REF!,\">=20\",#REF!,\"<>임대\")","v":{"$error":"#REF!"}},{"$f":"COUNTIFS(#REF!,\">\"&$E12,#REF!,\"<=\"&$C12,#REF!,'사용승인별 현황'!S$2,#REF!,\">=20\",#REF!,\"<>임대\")","v":{"$error":"#REF!"}},{"$f":"SUMIFS(#REF!,#REF!,\">\"&$E12,#REF!,\"<=\"&$C12,#REF!,'사용승인별 현황'!S$2,#REF!,\">=20\",#REF!,\"<>임대\")","v":{"$error":"#REF!"}},{"$f":"COUNTIFS(#REF!,\">\"&$E12,#REF!,\"<=\"&$C12,#REF!,'사용승인별 현황'!U$2,#REF!,\">=20\",#REF!,\"<>임대\")","v":{"$error":"#REF!"}},{"$f":"SUMIFS(#REF!,#REF!,\">\"&$E12,#REF!,\"<=\"&$C12,#REF!,'사용승인별 현황'!U$2,#REF!,\">=20\",#REF!,\"<>임대\")","v":{"$error":"#REF!"}},{"$f":"COUNTIFS(#REF!,\">\"&$E12,#REF!,\"<=\"&$C12,#REF!,'사용승인별 현황'!W$2,#REF!,\">=20\",#REF!,\"<>임대\")","v":{"$error":"#REF!"}},{"$f":"SUMIFS(#REF!,#REF!,\">\"&$E12,#REF!,\"<=\"&$C12,#REF!,'사용승인별 현황'!W$2,#REF!,\">=20\",#REF!,\"<>임대\")","v":{"$error":"#REF!"}},{"$f":"COUNTIFS(#REF!,\">\"&$E12,#REF!,\"<=\"&$C12,#REF!,'사용승인별 현황'!Y$2,#REF!,\">=20\",#REF!,\"<>임대\")","v":{"$error":"#REF!"}},{"$f":"SUMIFS(#REF!,#REF!,\">\"&$E12,#REF!,\"<=\"&$C12,#REF!,'사용승인별 현황'!Y$2,#REF!,\">=20\",#REF!,\"<>임대\")","v":{"$error":"#REF!"}},{"$f":"COUNTIFS(#REF!,\">\"&$E12,#REF!,\"<=\"&$C12,#REF!,'사용승인별 현황'!AA$2,#REF!,\">=20\",#REF!,\"<>임대\")","v":{"$error":"#REF!"}},{"$f":"SUMIFS(#REF!,#REF!,\">\"&$E12,#REF!,\"<=\"&$C12,#REF!,'사용승인별 현황'!AA$2,#REF!,\">=20\",#REF!,\"<>임대\")","v":{"$error":"#REF!"}},{"$f":"COUNTIFS(#REF!,\">\"&$E12,#REF!,\"<=\"&$C12,#REF!,'사용승인별 현황'!AC$2,#REF!,\">=20\",#REF!,\"<>임대\")","v":{"$error":"#REF!"}},{"$f":"SUMIFS(#REF!,#REF!,\">\"&$E12,#REF!,\"<=\"&$C12,#REF!,'사용승인별 현황'!AC$2,#REF!,\">=20\",#REF!,\"<>임대\")","v":{"$error":"#REF!"}},{"$f":"COUNTIFS(#REF!,\">\"&$E12,#REF!,\"<=\"&$C12,#REF!,'사용승인별 현황'!AE$2,#REF!,\">=20\",#REF!,\"<>임대\")","v":{"$error":"#REF!"}},{"$f":"SUMIFS(#REF!,#REF!,\">\"&$E12,#REF!,\"<=\"&$C12,#REF!,'사용승인별 현황'!AE$2,#REF!,\">=20\",#REF!,\"<>임대\")","v":{"$error":"#REF!"}},{"$f":"COUNTIFS(#REF!,\">\"&$E12,#REF!,\"<=\"&$C12,#REF!,'사용승인별 현황'!AG$2,#REF!,\">=20\",#REF!,\"<>임대\")","v":{"$error":"#REF!"}},{"$f":"SUMIFS(#REF!,#REF!,\">\"&$E12,#REF!,\"<=\"&$C12,#REF!,'사용승인별 현황'!AG$2,#REF!,\">=20\",#REF!,\"<>임대\")","v":{"$error":"#REF!"}},{"$f":"COUNTIFS(#REF!,\">\"&$E12,#REF!,\"<=\"&$C12,#REF!,'사용승인별 현황'!AI$2,#REF!,\">=20\",#REF!,\"<>임대\")","v":{"$error":"#REF!"}},{"$f":"SUMIFS(#REF!,#REF!,\">\"&$E12,#REF!,\"<=\"&$C12,#REF!,'사용승인별 현황'!AI$2,#REF!,\">=20\",#REF!,\"<>임대\")","v":{"$error":"#REF!"}},{"$f":"COUNTIFS(#REF!,\">\"&$E12,#REF!,\"<=\"&$C12,#REF!,'사용승인별 현황'!AK$2,#REF!,\">=20\",#REF!,\"<>임대\")","v":{"$error":"#REF!"}},{"$f":"SUMIFS(#REF!,#REF!,\">\"&$E12,#REF!,\"<=\"&$C12,#REF!,'사용승인별 현황'!AK$2,#REF!,\">=20\",#REF!,\"<>임대\")","v":{"$error":"#REF!"}},{"$f":"COUNTIFS(#REF!,\">\"&$E12,#REF!,\"<=\"&$C12,#REF!,'사용승인별 현황'!AM$2,#REF!,\">=20\",#REF!,\"<>임대\")","v":{"$error":"#REF!"}},{"$f":"SUMIFS(#REF!,#REF!,\">\"&$E12,#REF!,\"<=\"&$C12,#REF!,'사용승인별 현황'!AM$2,#REF!,\">=20\",#REF!,\"<>임대\")","v":{"$error":"#REF!"}},{"$f":"COUNTIFS(#REF!,\">\"&$E12,#REF!,\"<=\"&$C12,#REF!,'사용승인별 현황'!AO$2,#REF!,\">=20\",#REF!,\"<>임대\")","v":{"$error":"#REF!"}},{"$f":"SUMIFS(#REF!,#REF!,\">\"&$E12,#REF!,\"<=\"&$C12,#REF!,'사용승인별 현황'!AO$2,#REF!,\">=20\",#REF!,\"<>임대\")","v":{"$error":"#REF!"}},{"$f":"COUNTIFS(#REF!,\">\"&$E12,#REF!,\"<=\"&$C12,#REF!,'사용승인별 현황'!AQ$2,#REF!,\">=20\",#REF!,\"<>임대\")","v":{"$error":"#REF!"}},{"$f":"SUMIFS(#REF!,#REF!,\">\"&$E12,#REF!,\"<=\"&$C12,#REF!,'사용승인별 현황'!AQ$2,#REF!,\">=20\",#REF!,\"<>임대\")","v":{"$error":"#REF!"}},{"$f":"COUNTIFS(#REF!,\">\"&$E12,#REF!,\"<=\"&$C12,#REF!,'사용승인별 현황'!AS$2,#REF!,\">=20\",#REF!,\"<>임대\")","v":{"$error":"#REF!"}},{"$f":"SUMIFS(#REF!,#REF!,\">\"&$E12,#REF!,\"<=\"&$C12,#REF!,'사용승인별 현황'!AS$2,#REF!,\">=20\",#REF!,\"<>임대\")","v":{"$error":"#REF!"}},{"$f":"COUNTIFS(#REF!,\">\"&$E12,#REF!,\"<=\"&$C12,#REF!,'사용승인별 현황'!AU$2,#REF!,\">=20\",#REF!,\"<>임대\")","v":{"$error":"#REF!"}},{"$f":"SUMIFS(#REF!,#REF!,\">\"&$E12,#REF!,\"<=\"&$C12,#REF!,'사용승인별 현황'!AU$2,#REF!,\">=20\",#REF!,\"<>임대\")","v":{"$error":"#REF!"}},{"$f":"COUNTIFS(#REF!,\">\"&$E12,#REF!,\"<=\"&$C12,#REF!,'사용승인별 현황'!AW$2,#REF!,\">=20\",#REF!,\"<>임대\")","v":{"$error":"#REF!"}},{"$f":"SUMIFS(#REF!,#REF!,\">\"&$E12,#REF!,\"<=\"&$C12,#REF!,'사용승인별 현황'!AW$2,#REF!,\">=20\",#REF!,\"<>임대\")","v":{"$error":"#REF!"}},{"$f":"COUNTIFS(#REF!,\">\"&$E12,#REF!,\"<=\"&$C12,#REF!,'사용승인별 현황'!AY$2,#REF!,\">=20\",#REF!,\"<>임대\")","v":{"$error":"#REF!"}},{"$f":"SUMIFS(#REF!,#REF!,\">\"&$E12,#REF!,\"<=\"&$C12,#REF!,'사용승인별 현황'!AY$2,#REF!,\">=20\",#REF!,\"<>임대\")","v":{"$error":"#REF!"}},{"$f":"COUNTIFS(#REF!,\">\"&$E12,#REF!,\"<=\"&$C12,#REF!,'사용승인별 현황'!BA$2,#REF!,\">=20\",#REF!,\"<>임대\")","v":{"$error":"#REF!"}},{"$f":"SUMIFS(#REF!,#REF!,\">\"&$E12,#REF!,\"<=\"&$C12,#REF!,'사용승인별 현황'!BA$2,#REF!,\">=20\",#REF!,\"<>임대\")","v":{"$error":"#REF!"}},{"$f":"COUNTIFS(#REF!,\">\"&$E12,#REF!,\"<=\"&$C12,#REF!,'사용승인별 현황'!BC$2,#REF!,\">=20\",#REF!,\"<>임대\")","v":{"$error":"#REF!"}},{"$f":"SUMIFS(#REF!,#REF!,\">\"&$E12,#REF!,\"<=\"&$C12,#REF!,'사용승인별 현황'!BC$2,#REF!,\">=20\",#REF!,\"<>임대\")","v":{"$error":"#REF!"}},{"$f":"COUNTIFS(#REF!,\">\"&$E12,#REF!,\"<=\"&$C12,#REF!,'사용승인별 현황'!BE$2,#REF!,\">=20\",#REF!,\"<>임대\")","v":{"$error":"#REF!"}},{"$f":"SUMIFS(#REF!,#REF!,\">\"&$E12,#REF!,\"<=\"&$C12,#REF!,'사용승인별 현황'!BE$2,#REF!,\">=20\",#REF!,\"<>임대\")","v":{"$error":"#REF!"}}]
[null,40,28491,45,"1973-01-01",{"$f":"COUNTIFS(#REF!,\">\"&$E13,#REF!,\"<=\"&$C13,#REF!,\">=20\",#REF!,\"<>임대\")","v":{"$error":"#REF!"}},{"$f":"SUMIFS(#REF!,#REF!,\">\"&$E13,#REF!,\"<=\"&$C13,#REF!,\">=20\",#REF!,\"<>임대\")","v":{"$error":"#REF!"}},null,{"$f":"COUNTIFS(#REF!,\">\"&$E13,#REF!,\"<=\"&$C13,#REF!,'사용승인별 현황'!I$2,#REF!,\">=20\",#REF!,\"<>임대\")","v":{"$error":"#REF!"}},{"$f":"SUMIFS(#REF!,#REF!,\">\"&$E13,#REF!,\"<=\"&$C13,#REF!,'사용승인별 현황'!I$2,#REF!,\">=20\",#REF!,\"<>임대\")","v":{"$error":"#REF!"}},{"$f":"COUNTIFS(#REF!,\">\"&$E13,#REF!,\"<=\"&$C13,#REF!,'사용승인별 현황'!K$2,#REF!,\">=20\",#REF!,\"<>임대\")","v":{"$error":"#REF!"}},{"$f":"SUMIFS(#REF!,#REF!,\">\"&$E13,#REF!,\"<=\"&$C13,#REF!,'사용승인별 현황'!K$2,#REF!,\">=20\",#REF!,\"<>임대\")","v":{"$error":"#REF!"}},{"$f":"COUNTIFS(#REF!,\">\"&$E13,#REF!,\"<=\"&$C13,#REF!,'사용승인별 현황'!M$2,#REF!,\">=20\",#REF!,\"<>임대\")","v":{"$error":"#REF!"}},{"$f":"SUMIFS(#REF!,#REF!,\">\"&$E13,#REF!,\"<=\"&$C13,#REF!,'사용승인별 현황'!M$2,#REF!,\">=20\",#REF!,\"<>임대\")","v":{"$error":"#REF!"}},{"$f":"COUNTIFS(#REF!,\">\"&$E13,#REF!,\"<=\"&$C13,#REF!,'사용승인별 현황'!O$2,#REF!,\">=20\",#REF!,\"<>임대\")","v":{"$error":"#REF!"}},{"$f":"SUMIFS(#REF!,#REF!,\">\"&$E13,#REF!,\"<=\"&$C13,#REF!,'사용승인별 현황'!O$2,#REF!,\">=20\",#REF!,\"<>임대\")","v":{"$error":"#REF!"}},{"$f":"COUNTIFS(#REF!,\">\"&$E13,#REF!,\"<=\"&$C13,#REF!,'사용승인별 현황'!Q$2,#REF!,\">=20\",#REF!,\"<>임대\")","v":{"$error":"#REF!"}},{"$f":"SUMIFS(#REF!,#REF!,\">\"&$E13,#REF!,\"<=\"&$C13,#REF!,'사용승인별 현황'!Q$2,#REF!,\">=20\",#REF!,\"<>임대\")","v":{"$error":"#REF!"}},{"$f":"COUNTIFS(#REF!,\">\"&$E13,#REF!,\"<=\"&$C13,#REF!,'사용승인별 현황'!S$2,#REF!,\">=20\",#REF!,\"<>임대\")","v":{"$error":"#REF!"}},{"$f":"SUMIFS(#REF!,#REF!,\">\"&$E13,#REF!,\"<=\"&$C13,#REF!,'사용승인별 현황'!S$2,#REF!,\">=20\",#REF!,\"<>임대\")","v":{"$error":"#REF!"}},{"$f":"COUNTIFS(#REF!,\">\"&$E13,#REF!,\"<=\"&$C13,#REF!,'사용승인별 현황'!U$2,#REF!,\">=20\",#REF!,\"<>임대\")","v":{"$error":"#REF!"}},{"$f":"SUMIFS(#REF!,#REF!,\">\"&$E13,#REF!,\"<=\"&$C13,#REF!,'사용승인별 현황'!U$2,#REF!,\">=20\",#REF!,\"<>임대\")","v":{"$error":"#REF!"}},{"$f":"COUNTIFS(#REF!,\">\"&$E13,#REF!,\"<=\"&$C13,#REF!,'사용승인별 현황'!W$2,#REF!,\">=20\",#REF!,\"<>임대\")","v":{"$error":"#REF!"}},{"$f":"SUMIFS(#REF!,#REF!,\">\"&$E13,#REF!,\"<=\"&$C13,#REF!,'사용승인별 현황'!W$2,#REF!,\">=20\",#REF!,\"<>임대\")","v":{"$error":"#REF!"}},{"$f":"COUNTIFS(#REF!,\">\"&$E13,#REF!,\"<=\"&$C13,#REF!,'사용승인별 현황'!Y$2,#REF!,\">=20\",#REF!,\"<>임대\")","v":{"$error":"#REF!"}},{"$f":"SUMIFS(#REF!,#REF!,\">\"&$E13,#REF!,\"<=\"&$C13,#REF!,'사용승인별 현황'!Y$2,#REF!,\">=20\",#REF!,\"<>임대\")","v":{"$error":"#REF!"}},{"$f":"COUNTIFS(#REF!,\">\"&$E13,#REF!,\"<=\"&$C13,#REF!,'사용승인별 현황'!AA$2,#REF!,\">=20\",#REF!,\"<>임대\")","v":{"$error":"#REF!"}},{"$f":"SUMIFS(#REF!,#REF!,\">\"&$E13,#REF!,\"<=\"&$C13,#REF!,'사용승인별 현황'!AA$2,#REF!,\">=20\",#REF!,\"<>임대\")","v":{"$error":"#REF!"}},{"$f":"COUNTIFS(#REF!,\">\"&$E13,#REF!,\"<=\"&$C13,#REF!,'사용승인별 현황'!AC$2,#REF!,\">=20\",#REF!,\"<>임대\")","v":{"$error":"#REF!"}},{"$f":"SUMIFS(#REF!,#REF!,\">\"&$E13,#REF!,\"<=\"&$C13,#REF!,'사용승인별 현황'!AC$2,#REF!,\">=20\",#REF!,\"<>임대\")","v":{"$error":"#REF!"}},{"$f":"COUNTIFS(#REF!,\">\"&$E13,#REF!,\"<=\"&$C13,#REF!,'사용승인별 현황'!AE$2,#REF!,\">=20\",#REF!,\"<>임대\")","v":{"$error":"#REF!"}},{"$f":"SUMIFS(#REF!,#REF!,\">\"&$E13,#REF!,\"<=\"&$C13,#REF!,'사용승인별 현황'!AE$2,#REF!,\">=20\",#REF!,\"<>임대\")","v":{"$error":"#REF!"}},{"$f":"COUNTIFS(#REF!,\">\"&$E13,#REF!,\"<=\"&$C13,#REF!,'사용승인별 현황'!AG$2,#REF!,\">=20\",#REF!,\"<>임대\")","v":{"$error":"#REF!"}},{"$f":"SUMIFS(#REF!,#REF!,\">\"&$E13,#REF!,\"<=\"&$C13,#REF!,'사용승인별 현황'!AG$2,#REF!,\">=20\",#REF!,\"<>임대\")","v":{"$error":"#REF!"}},{"$f":"COUNTIFS(#REF!,\">\"&$E13,#REF!,\"<=\"&$C13,#REF!,'사용승인별 현황'!AI$2,#REF!,\">=20\",#REF!,\"<>임대\")","v":{"$error":"#REF!"}},{"$f":"SUMIFS(#REF!,#REF!,\">\"&$E13,#REF!,\"<=\"&$C13,#REF!,'사용승인별 현황'!AI$2,#REF!,\">=20\",#REF!,\"<>임대\")","v":{"$error":"#REF!"}},{"$f":"COUNTIFS(#REF!,\">\"&$E13,#REF!,\"<=\"&$C13,#REF!,'사용승인별 현황'!AK$2,#REF!,\">=20\",#REF!,\"<>임대\")","v":{"$error":"#REF!"}},{"$f":"SUMIFS(#REF!,#REF!,\">\"&$E13,#REF!,\"<=\"&$C13,#REF!,'사용승인별 현황'!AK$2,#REF!,\">=20\",#REF!,\"<>임대\")","v":{"$error":"#REF!"}},{"$f":"COUNTIFS(#REF!,\">\"&$E13,#REF!,\"<=\"&$C13,#REF!,'사용승인별 현황'!AM$2,#REF!,\">=20\",#REF!,\"<>임대\")","v":{"$error":"#REF!"}},{"$f":"SUMIFS(#REF!,#REF!,\">\"&$E13,#REF!,\"<=\"&$C13,#REF!,'사용승인별 현황'!AM$2,#REF!,\">=20\",#REF!,\"<>임대\")","v":{"$error":"#REF!"}},{"$f":"COUNTIFS(#REF!,\">\"&$E13,#REF!,\"<=\"&$C13,#REF!,'사용승인별 현황'!AO$2,#REF!,\">=20\",#REF!,\"<>임대\")","v":{"$error":"#REF!"}},{"$f":"SUMIFS(#REF!,#REF!,\">\"&$E13,#REF!,\"<=\"&$C13,#REF!,'사용승인별 현황'!AO$2,#REF!,\">=20\",#REF!,\"<>임대\")","v":{"$error":"#REF!"}},{"$f":"COUNTIFS(#REF!,\">\"&$E13,#REF!,\"<=\"&$C13,#REF!,'사용승인별 현황'!AQ$2,#REF!,\">=20\",#REF!,\"<>임대\")","v":{"$error":"#REF!"}},{"$f":"SUMIFS(#REF!,#REF!,\">\"&$E13,#REF!,\"<=\"&$C13,#REF!,'사용승인별 현황'!AQ$2,#REF!,\">=20\",#REF!,\"<>임대\")","v":{"$error":"#REF!"}},{"$f":"COUNTIFS(#REF!,\">\"&$E13,#REF!,\"<=\"&$C13,#REF!,'사용승인별 현황'!AS$2,#REF!,\">=20\",#REF!,\"<>임대\")","v":{"$error":"#REF!"}},{"$f":"SUMIFS(#REF!,#REF!,\">\"&$E13,#REF!,\"<=\"&$C13,#REF!,'사용승인별 현황'!AS$2,#REF!,\">=20\",#REF!,\"<>임대\")","v":{"$error":"#REF!"}},{"$f":"COUNTIFS(#REF!,\">\"&$E13,#REF!,\"<=\"&$C13,#REF!,'사용승인별 현황'!AU$2,#REF!,\">=20\",#REF!,\"<>임대\")","v":{"$error":"#REF!"}},{"$f":"SUMIFS(#REF!,#REF!,\">\"&$E13,#REF!,\"<=\"&$C13,#REF!,'사용승인별 현황'!AU$2,#REF!,\">=20\",#REF!,\"<>임대\")","v":{"$error":"#REF!"}},{"$f":"COUNTIFS(#REF!,\">\"&$E13,#REF!,\"<=\"&$C13,#REF!,'사용승인별 현황'!AW$2,#REF!,\">=20\",#REF!,\"<>임대\")","v":{"$error":"#REF!"}},{"$f":"SUMIFS(#REF!,#REF!,\">\"&$E13,#REF!,\"<=\"&$C13,#REF!,'사용승인별 현황'!AW$2,#REF!,\">=20\",#REF!,\"<>임대\")","v":{"$error":"#REF!"}},{"$f":"COUNTIFS(#REF!,\">\"&$E13,#REF!,\"<=\"&$C13,#REF!,'사용승인별 현황'!AY$2,#REF!,\">=20\",#REF!,\"<>임대\")","v":{"$error":"#REF!"}},{"$f":"SUMIFS(#REF!,#REF!,\">\"&$E13,#REF!,\"<=\"&$C13,#REF!,'사용승인별 현황'!AY$2,#REF!,\">=20\",#REF!,\"<>임대\")","v":{"$error":"#REF!"}},{"$f":"COUNTIFS(#REF!,\">\"&$E13,#REF!,\"<=\"&$C13,#REF!,'사용승인별 현황'!BA$2,#REF!,\">=20\",#REF!,\"<>임대\")","v":{"$error":"#REF!"}},{"$f":"SUMIFS(#REF!,#REF!,\">\"&$E13,#REF!,\"<=\"&$C13,#REF!,'사용승인별 현황'!BA$2,#REF!,\">=20\",#REF!,\"<>임대\")","v":{"$error":"#REF!"}},{"$f":"COUNTIFS(#REF!,\">\"&$E13,#REF!,\"<=\"&$C13,#REF!,'사용승인별 현황'!BC$2,#REF!,\">=20\",#REF!,\"<>임대\")","v":{"$error":"#REF!"}},{"$f":"SUMIFS(#REF!,#REF!,\">\"&$E13,#REF!,\"<=\"&$C13,#REF!,'사용승인별 현황'!BC$2,#REF!,\">=20\",#REF!,\"<>임대\")","v":{"$error":"#REF!"}},{"$f":"COUNTIFS(#REF!,\">\"&$E13,#REF!,\"<=\"&$C13,#REF!,'사용승인별 현황'!BE$2,#REF!,\">=20\",#REF!,\"<>임대\")","v":{"$error":"#REF!"}},{"$f":"SUMIFS(#REF!,#REF!,\">\"&$E13,#REF!,\"<=\"&$C13,#REF!,'사용승인별 현황'!BE$2,#REF!,\">=20\",#REF!,\"<>임대\")","v":{"$error":"#REF!"}}]
[null,45,26665,50,"1968-01-01",{"$f":"COUNTIFS(#REF!,\">\"&$E14,#REF!,\"<=\"&$C14,#REF!,\">=20\",#REF!,\"<>임대\")","v":{"$error":"#REF!"}},{"$f":"SUMIFS(#REF!,#REF!,\">\"&$E14,#REF!,\"<=\"&$C14,#REF!,\">=20\",#REF!,\"<>임대\")","v":{"$error":"#REF!"}},null,{"$f":"COUNTIFS(#REF!,\">\"&$E14,#REF!,\"<=\"&$C14,#REF!,'사용승인별 현황'!I$2,#REF!,\">=20\",#REF!,\"<>임대\")","v":{"$error":"#REF!"}},{"$f":"SUMIFS(#REF!,#REF!,\">\"&$E14,#REF!,\"<=\"&$C14,#REF!,'사용승인별 현황'!I$2,#REF!,\">=20\",#REF!,\"<>임대\")","v":{"$error":"#REF!"}},{"$f":"COUNTIFS(#REF!,\">\"&$E14,#REF!,\"<=\"&$C14,#REF!,'사용승인별 현황'!K$2,#REF!,\">=20\",#REF!,\"<>임대\")","v":{"$error":"#REF!"}},{"$f":"SUMIFS(#REF!,#REF!,\">\"&$E14,#REF!,\"<=\"&$C14,#REF!,'사용승인별 현황'!K$2,#REF!,\">=20\",#REF!,\"<>임대\")","v":{"$error":"#REF!"}},{"$f":"COUNTIFS(#REF!,\">\"&$E14,#REF!,\"<=\"&$C14,#REF!,'사용승인별 현황'!M$2,#REF!,\">=20\",#REF!,\"<>임대\")","v":{"$error":"#REF!"}},{"$f":"SUMIFS(#REF!,#REF!,\">\"&$E14,#REF!,\"<=\"&$C14,#REF!,'사용승인별 현황'!M$2,#REF!,\">=20\",#REF!,\"<>임대\")","v":{"$error":"#REF!"}},{"$f":"COUNTIFS(#REF!,\">\"&$E14,#REF!,\"<=\"&$C14,#REF!,'사용승인별 현황'!O$2,#REF!,\">=20\",#REF!,\"<>임대\")","v":{"$error":"#REF!"}},{"$f":"SUMIFS(#REF!,#REF!,\">\"&$E14,#REF!,\"<=\"&$C14,#REF!,'사용승인별 현황'!O$2,#REF!,\">=20\",#REF!,\"<>임대\")","v":{"$error":"#REF!"}},{"$f":"COUNTIFS(#REF!,\">\"&$E14,#REF!,\"<=\"&$C14,#REF!,'사용승인별 현황'!Q$2,#REF!,\">=20\",#REF!,\"<>임대\")","v":{"$error":"#REF!"}},{"$f":"SUMIFS(#REF!,#REF!,\">\"&$E14,#REF!,\"<=\"&$C14,#REF!,'사용승인별 현황'!Q$2,#REF!,\">=20\",#REF!,\"<>임대\")","v":{"$error":"#REF!"}},{"$f":"COUNTIFS(#REF!,\">\"&$E14,#REF!,\"<=\"&$C14,#REF!,'사용승인별 현황'!S$2,#REF!,\">=20\",#REF!,\"<>임대\")","v":{"$error":"#REF!"}},{"$f":"SUMIFS(#REF!,#REF!,\">\"&$E14,#REF!,\"<=\"&$C14,#REF!,'사용승인별 현황'!S$2,#REF!,\">=20\",#REF!,\"<>임대\")","v":{"$error":"#REF!"}},{"$f":"COUNTIFS(#REF!,\">\"&$E14,#REF!,\"<=\"&$C14,#REF!,'사용승인별 현황'!U$2,#REF!,\">=20\",#REF!,\"<>임대\")","v":{"$error":"#REF!"}},{"$f":"SUMIFS(#REF!,#REF!,\">\"&$E14,#REF!,\"<=\"&$C14,#REF!,'사용승인별 현황'!U$2,#REF!,\">=20\",#REF!,\"<>임대\")","v":{"$error":"#REF!"}},{"$f":"COUNTIFS(#REF!,\">\"&$E14,#REF!,\"<=\"&$C14,#REF!,'사용승인별 현황'!W$2,#REF!,\">=20\",#REF!,\"<>임대\")","v":{"$error":"#REF!"}},{"$f":"SUMIFS(#REF!,#REF!,\">\"&$E14,#REF!,\"<=\"&$C14,#REF!,'사용승인별 현황'!W$2,#REF!,\">=20\",#REF!,\"<>임대\")","v":{"$error":"#REF!"}},{"$f":"COUNTIFS(#REF!,\">\"&$E14,#REF!,\"<=\"&$C14,#REF!,'사용승인별 현황'!Y$2,#REF!,\">=20\",#REF!,\"<>임대\")","v":{"$error":"#REF!"}},{"$f":"SUMIFS(#REF!,#REF!,\">\"&$E14,#REF!,\"<=\"&$C14,#REF!,'사용승인별 현황'!Y$2,#REF!,\">=20\",#REF!,\"<>임대\")","v":{"$error":"#REF!"}},{"$f":"COUNTIFS(#REF!,\">\"&$E14,#REF!,\"<=\"&$C14,#REF!,'사용승인별 현황'!AA$2,#REF!,\">=20\",#REF!,\"<>임대\")","v":{"$error":"#REF!"}},{"$f":"SUMIFS(#REF!,#REF!,\">\"&$E14,#REF!,\"<=\"&$C14,#REF!,'사용승인별 현황'!AA$2,#REF!,\">=20\",#REF!,\"<>임대\")","v":{"$error":"#REF!"}},{"$f":"COUNTIFS(#REF!,\">\"&$E14,#REF!,\"<=\"&$C14,#REF!,'사용승인별 현황'!AC$2,#REF!,\">=20\",#REF!,\"<>임대\")","v":{"$error":"#REF!"}},{"$f":"SUMIFS(#REF!,#REF!,\">\"&$E14,#REF!,\"<=\"&$C14,#REF!,'사용승인별 현황'!AC$2,#REF!,\">=20\",#REF!,\"<>임대\")","v":{"$error":"#REF!"}},{"$f":"COUNTIFS(#REF!,\">\"&$E14,#REF!,\"<=\"&$C14,#REF!,'사용승인별 현황'!AE$2,#REF!,\">=20\",#REF!,\"<>임대\")","v":{"$error":"#REF!"}},{"$f":"SUMIFS(#REF!,#REF!,\">\"&$E14,#REF!,\"<=\"&$C14,#REF!,'사용승인별 현황'!AE$2,#REF!,\">=20\",#REF!,\"<>임대\")","v":{"$error":"#REF!"}},{"$f":"COUNTIFS(#REF!,\">\"&$E14,#REF!,\"<=\"&$C14,#REF!,'사용승인별 현황'!AG$2,#REF!,\">=20\",#REF!,\"<>임대\")","v":{"$error":"#REF!"}},{"$f":"SUMIFS(#REF!,#REF!,\">\"&$E14,#REF!,\"<=\"&$C14,#REF!,'사용승인별 현황'!AG$2,#REF!,\">=20\",#REF!,\"<>임대\")","v":{"$error":"#REF!"}},{"$f":"COUNTIFS(#REF!,\">\"&$E14,#REF!,\"<=\"&$C14,#REF!,'사용승인별 현황'!AI$2,#REF!,\">=20\",#REF!,\"<>임대\")","v":{"$error":"#REF!"}},{"$f":"SUMIFS(#REF!,#REF!,\">\"&$E14,#REF!,\"<=\"&$C14,#REF!,'사용승인별 현황'!AI$2,#REF!,\">=20\",#REF!,\"<>임대\")","v":{"$error":"#REF!"}},{"$f":"COUNTIFS(#REF!,\">\"&$E14,#REF!,\"<=\"&$C14,#REF!,'사용승인별 현황'!AK$2,#REF!,\">=20\",#REF!,\"<>임대\")","v":{"$error":"#REF!"}},{"$f":"SUMIFS(#REF!,#REF!,\">\"&$E14,#REF!,\"<=\"&$C14,#REF!,'사용승인별 현황'!AK$2,#REF!,\">=20\",#REF!,\"<>임대\")","v":{"$error":"#REF!"}},{"$f":"COUNTIFS(#REF!,\">\"&$E14,#REF!,\"<=\"&$C14,#REF!,'사용승인별 현황'!AM$2,#REF!,\">=20\",#REF!,\"<>임대\")","v":{"$error":"#REF!"}},{"$f":"SUMIFS(#REF!,#REF!,\">\"&$E14,#REF!,\"<=\"&$C14,#REF!,'사용승인별 현황'!AM$2,#REF!,\">=20\",#REF!,\"<>임대\")","v":{"$error":"#REF!"}},{"$f":"COUNTIFS(#REF!,\">\"&$E14,#REF!,\"<=\"&$C14,#REF!,'사용승인별 현황'!AO$2,#REF!,\">=20\",#REF!,\"<>임대\")","v":{"$error":"#REF!"}},{"$f":"SUMIFS(#REF!,#REF!,\">\"&$E14,#REF!,\"<=\"&$C14,#REF!,'사용승인별 현황'!AO$2,#REF!,\">=20\",#REF!,\"<>임대\")","v":{"$error":"#REF!"}},{"$f":"COUNTIFS(#REF!,\">\"&$E14,#REF!,\"<=\"&$C14,#REF!,'사용승인별 현황'!AQ$2,#REF!,\">=20\",#REF!,\"<>임대\")","v":{"$error":"#REF!"}},{"$f":"SUMIFS(#REF!,#REF!,\">\"&$E14,#REF!,\"<=\"&$C14,#REF!,'사용승인별 현황'!AQ$2,#REF!,\">=20\",#REF!,\"<>임대\")","v":{"$error":"#REF!"}},{"$f":"COUNTIFS(#REF!,\">\"&$E14,#REF!,\"<=\"&$C14,#REF!,'사용승인별 현황'!AS$2,#REF!,\">=20\",#REF!,\"<>임대\")","v":{"$error":"#REF!"}},{"$f":"SUMIFS(#REF!,#REF!,\">\"&$E14,#REF!,\"<=\"&$C14,#REF!,'사용승인별 현황'!AS$2,#REF!,\">=20\",#REF!,\"<>임대\")","v":{"$error":"#REF!"}},{"$f":"COUNTIFS(#REF!,\">\"&$E14,#REF!,\"<=\"&$C14,#REF!,'사용승인별 현황'!AU$2,#REF!,\">=20\",#REF!,\"<>임대\")","v":{"$error":"#REF!"}},{"$f":"SUMIFS(#REF!,#REF!,\">\"&$E14,#REF!,\"<=\"&$C14,#REF!,'사용승인별 현황'!AU$2,#REF!,\">=20\",#REF!,\"<>임대\")","v":{"$error":"#REF!"}},{"$f":"COUNTIFS(#REF!,\">\"&$E14,#REF!,\"<=\"&$C14,#REF!,'사용승인별 현황'!AW$2,#REF!,\">=20\",#REF!,\"<>임대\")","v":{"$error":"#REF!"}},{"$f":"SUMIFS(#REF!,#REF!,\">\"&$E14,#REF!,\"<=\"&$C14,#REF!,'사용승인별 현황'!AW$2,#REF!,\">=20\",#REF!,\"<>임대\")","v":{"$error":"#REF!"}},{"$f":"COUNTIFS(#REF!,\">\"&$E14,#REF!,\"<=\"&$C14,#REF!,'사용승인별 현황'!AY$2,#REF!,\">=20\",#REF!,\"<>임대\")","v":{"$error":"#REF!"}},{"$f":"SUMIFS(#REF!,#REF!,\">\"&$E14,#REF!,\"<=\"&$C14,#REF!,'사용승인별 현황'!AY$2,#REF!,\">=20\",#REF!,\"<>임대\")","v":{"$error":"#REF!"}},{"$f":"COUNTIFS(#REF!,\">\"&$E14,#REF!,\"<=\"&$C14,#REF!,'사용승인별 현황'!BA$2,#REF!,\">=20\",#REF!,\"<>임대\")","v":{"$error":"#REF!"}},{"$f":"SUMIFS(#REF!,#REF!,\">\"&$E14,#REF!,\"<=\"&$C14,#REF!,'사용승인별 현황'!BA$2,#REF!,\">=20\",#REF!,\"<>임대\")","v":{"$error":"#REF!"}},{"$f":"COUNTIFS(#REF!,\">\"&$E14,#REF!,\"<=\"&$C14,#REF!,'사용승인별 현황'!BC$2,#REF!,\">=20\",#REF!,\"<>임대\")","v":{"$error":"#REF!"}},{"$f":"SUMIFS(#REF!,#REF!,\">\"&$E14,#REF!,\"<=\"&$C14,#REF!,'사용승인별 현황'!BC$2,#REF!,\">=20\",#REF!,\"<>임대\")","v":{"$error":"#REF!"}},{"$f":"COUNTIFS(#REF!,\">\"&$E14,#REF!,\"<=\"&$C14,#REF!,'사용승인별 현황'!BE$2,#REF!,\">=20\",#REF!,\"<>임대\")","v":{"$error":"#REF!"}},{"$f":"SUMIFS(#REF!,#REF!,\">\"&$E14,#REF!,\"<=\"&$C14,#REF!,'사용승인별 현황'!BE$2,#REF!,\">=20\",#REF!,\"<>임대\")","v":{"$error":"#REF!"}}]
[null,50,24838,55,"1963-01-01",{"$f":"COUNTIFS(#REF!,\">\"&$E15,#REF!,\"<=\"&$C15,#REF!,\">=20\",#REF!,\"<>임대\")","v":{"$error":"#REF!"}},{"$f":"SUMIFS(#REF!,#REF!,\">\"&$E15,#REF!,\"<=\"&$C15,#REF!,\">=20\",#REF!,\"<>임대\")","v":{"$error":"#REF!"}},null,{"$f":"COUNTIFS(#REF!,\">\"&$E15,#REF!,\"<=\"&$C15,#REF!,'사용승인별 현황'!I$2,#REF!,\">=20\",#REF!,\"<>임대\")","v":{"$error":"#REF!"}},{"$f":"SUMIFS(#REF!,#REF!,\">\"&$E15,#REF!,\"<=\"&$C15,#REF!,'사용승인별 현황'!I$2,#REF!,\">=20\",#REF!,\"<>임대\")","v":{"$error":"#REF!"}},{"$f":"COUNTIFS(#REF!,\">\"&$E15,#REF!,\"<=\"&$C15,#REF!,'사용승인별 현황'!K$2,#REF!,\">=20\",#REF!,\"<>임대\")","v":{"$error":"#REF!"}},{"$f":"SUMIFS(#REF!,#REF!,\">\"&$E15,#REF!,\"<=\"&$C15,#REF!,'사용승인별 현황'!K$2,#REF!,\">=20\",#REF!,\"<>임대\")","v":{"$error":"#REF!"}},{"$f":"COUNTIFS(#REF!,\">\"&$E15,#REF!,\"<=\"&$C15,#REF!,'사용승인별 현황'!M$2,#REF!,\">=20\",#REF!,\"<>임대\")","v":{"$error":"#REF!"}},{"$f":"SUMIFS(#REF!,#REF!,\">\"&$E15,#REF!,\"<=\"&$C15,#REF!,'사용승인별 현황'!M$2,#REF!,\">=20\",#REF!,\"<>임대\")","v":{"$error":"#REF!"}},{"$f":"COUNTIFS(#REF!,\">\"&$E15,#REF!,\"<=\"&$C15,#REF!,'사용승인별 현황'!O$2,#REF!,\">=20\",#REF!,\"<>임대\")","v":{"$error":"#REF!"}},{"$f":"SUMIFS(#REF!,#REF!,\">\"&$E15,#REF!,\"<=\"&$C15,#REF!,'사용승인별 현황'!O$2,#REF!,\">=20\",#REF!,\"<>임대\")","v":{"$error":"#REF!"}},{"$f":"COUNTIFS(#REF!,\">\"&$E15,#REF!,\"<=\"&$C15,#REF!,'사용승인별 현황'!Q$2,#REF!,\">=20\",#REF!,\"<>임대\")","v":{"$error":"#REF!"}},{"$f":"SUMIFS(#REF!,#REF!,\">\"&$E15,#REF!,\"<=\"&$C15,#REF!,'사용승인별 현황'!Q$2,#REF!,\">=20\",#REF!,\"<>임대\")","v":{"$error":"#REF!"}},{"$f":"COUNTIFS(#REF!,\">\"&$E15,#REF!,\"<=\"&$C15,#REF!,'사용승인별 현황'!S$2,#REF!,\">=20\",#REF!,\"<>임대\")","v":{"$error":"#REF!"}},{"$f":"SUMIFS(#REF!,#REF!,\">\"&$E15,#REF!,\"<=\"&$C15,#REF!,'사용승인별 현황'!S$2,#REF!,\">=20\",#REF!,\"<>임대\")","v":{"$error":"#REF!"}},{"$f":"COUNTIFS(#REF!,\">\"&$E15,#REF!,\"<=\"&$C15,#REF!,'사용승인별 현황'!U$2,#REF!,\">=20\",#REF!,\"<>임대\")","v":{"$error":"#REF!"}},{"$f":"SUMIFS(#REF!,#REF!,\">\"&$E15,#REF!,\"<=\"&$C15,#REF!,'사용승인별 현황'!U$2,#REF!,\">=20\",#REF!,\"<>임대\")","v":{"$error":"#REF!"}},{"$f":"COUNTIFS(#REF!,\">\"&$E15,#REF!,\"<=\"&$C15,#REF!,'사용승인별 현황'!W$2,#REF!,\">=20\",#REF!,\"<>임대\")","v":{"$error":"#REF!"}},{"$f":"SUMIFS(#REF!,#REF!,\">\"&$E15,#REF!,\"<=\"&$C15,#REF!,'사용승인별 현황'!W$2,#REF!,\">=20\",#REF!,\"<>임대\")","v":{"$error":"#REF!"}},{"$f":"COUNTIFS(#REF!,\">\"&$E15,#REF!,\"<=\"&$C15,#REF!,'사용승인별 현황'!Y$2,#REF!,\">=20\",#REF!,\"<>임대\")","v":{"$error":"#REF!"}},{"$f":"SUMIFS(#REF!,#REF!,\">\"&$E15,#REF!,\"<=\"&$C15,#REF!,'사용승인별 현황'!Y$2,#REF!,\">=20\",#REF!,\"<>임대\")","v":{"$error":"#REF!"}},{"$f":"COUNTIFS(#REF!,\">\"&$E15,#REF!,\"<=\"&$C15,#REF!,'사용승인별 현황'!AA$2,#REF!,\">=20\",#REF!,\"<>임대\")","v":{"$error":"#REF!"}},{"$f":"SUMIFS(#REF!,#REF!,\">\"&$E15,#REF!,\"<=\"&$C15,#REF!,'사용승인별 현황'!AA$2,#REF!,\">=20\",#REF!,\"<>임대\")","v":{"$error":"#REF!"}},{"$f":"COUNTIFS(#REF!,\">\"&$E15,#REF!,\"<=\"&$C15,#REF!,'사용승인별 현황'!AC$2,#REF!,\">=20\",#REF!,\"<>임대\")","v":{"$error":"#REF!"}},{"$f":"SUMIFS(#REF!,#REF!,\">\"&$E15,#REF!,\"<=\"&$C15,#REF!,'사용승인별 현황'!AC$2,#REF!,\">=20\",#REF!,\"<>임대\")","v":{"$error":"#REF!"}},{"$f":"COUNTIFS(#REF!,\">\"&$E15,#REF!,\"<=\"&$C15,#REF!,'사용승인별 현황'!AE$2,#REF!,\">=20\",#REF!,\"<>임대\")","v":{"$error":"#REF!"}},{"$f":"SUMIFS(#REF!,#REF!,\">\"&$E15,#REF!,\"<=\"&$C15,#REF!,'사용승인별 현황'!AE$2,#REF!,\">=20\",#REF!,\"<>임대\")","v":{"$error":"#REF!"}},{"$f":"COUNTIFS(#REF!,\">\"&$E15,#REF!,\"<=\"&$C15,#REF!,'사용승인별 현황'!AG$2,#REF!,\">=20\",#REF!,\"<>임대\")","v":{"$error":"#REF!"}},{"$f":"SUMIFS(#REF!,#REF!,\">\"&$E15,#REF!,\"<=\"&$C15,#REF!,'사용승인별 현황'!AG$2,#REF!,\">=20\",#REF!,\"<>임대\")","v":{"$error":"#REF!"}},{"$f":"COUNTIFS(#REF!,\">\"&$E15,#REF!,\"<=\"&$C15,#REF!,'사용승인별 현황'!AI$2,#REF!,\">=20\",#REF!,\"<>임대\")","v":{"$error":"#REF!"}},{"$f":"SUMIFS(#REF!,#REF!,\">\"&$E15,#REF!,\"<=\"&$C15,#REF!,'사용승인별 현황'!AI$2,#REF!,\">=20\",#REF!,\"<>임대\")","v":{"$error":"#REF!"}},{"$f":"COUNTIFS(#REF!,\">\"&$E15,#REF!,\"<=\"&$C15,#REF!,'사용승인별 현황'!AK$2,#REF!,\">=20\",#REF!,\"<>임대\")","v":{"$error":"#REF!"}},{"$f":"SUMIFS(#REF!,#REF!,\">\"&$E15,#REF!,\"<=\"&$C15,#REF!,'사용승인별 현황'!AK$2,#REF!,\">=20\",#REF!,\"<>임대\")","v":{"$error":"#REF!"}},{"$f":"COUNTIFS(#REF!,\">\"&$E15,#REF!,\"<=\"&$C15,#REF!,'사용승인별 현황'!AM$2,#REF!,\">=20\",#REF!,\"<>임대\")","v":{"$error":"#REF!"}},{"$f":"SUMIFS(#REF!,#REF!,\">\"&$E15,#REF!,\"<=\"&$C15,#REF!,'사용승인별 현황'!AM$2,#REF!,\">=20\",#REF!,\"<>임대\")","v":{"$error":"#REF!"}},{"$f":"COUNTIFS(#REF!,\">\"&$E15,#REF!,\"<=\"&$C15,#REF!,'사용승인별 현황'!AO$2,#REF!,\">=20\",#REF!,\"<>임대\")","v":{"$error":"#REF!"}},{"$f":"SUMIFS(#REF!,#REF!,\">\"&$E15,#REF!,\"<=\"&$C15,#REF!,'사용승인별 현황'!AO$2,#REF!,\">=20\",#REF!,\"<>임대\")","v":{"$error":"#REF!"}},{"$f":"COUNTIFS(#REF!,\">\"&$E15,#REF!,\"<=\"&$C15,#REF!,'사용승인별 현황'!AQ$2,#REF!,\">=20\",#REF!,\"<>임대\")","v":{"$error":"#REF!"}},{"$f":"SUMIFS(#REF!,#REF!,\">\"&$E15,#REF!,\"<=\"&$C15,#REF!,'사용승인별 현황'!AQ$2,#REF!,\">=20\",#REF!,\"<>임대\")","v":{"$error":"#REF!"}},{"$f":"COUNTIFS(#REF!,\">\"&$E15,#REF!,\"<=\"&$C15,#REF!,'사용승인별 현황'!AS$2,#REF!,\">=20\",#REF!,\"<>임대\")","v":{"$error":"#REF!"}},{"$f":"SUMIFS(#REF!,#REF!,\">\"&$E15,#REF!,\"<=\"&$C15,#REF!,'사용승인별 현황'!AS$2,#REF!,\">=20\",#REF!,\"<>임대\")","v":{"$error":"#REF!"}},{"$f":"COUNTIFS(#REF!,\">\"&$E15,#REF!,\"<=\"&$C15,#REF!,'사용승인별 현황'!AU$2,#REF!,\">=20\",#REF!,\"<>임대\")","v":{"$error":"#REF!"}},{"$f":"SUMIFS(#REF!,#REF!,\">\"&$E15,#REF!,\"<=\"&$C15,#REF!,'사용승인별 현황'!AU$2,#REF!,\">=20\",#REF!,\"<>임대\")","v":{"$error":"#REF!"}},{"$f":"COUNTIFS(#REF!,\">\"&$E15,#REF!,\"<=\"&$C15,#REF!,'사용승인별 현황'!AW$2,#REF!,\">=20\",#REF!,\"<>임대\")","v":{"$error":"#REF!"}},{"$f":"SUMIFS(#REF!,#REF!,\">\"&$E15,#REF!,\"<=\"&$C15,#REF!,'사용승인별 현황'!AW$2,#REF!,\">=20\",#REF!,\"<>임대\")","v":{"$error":"#REF!"}},{"$f":"COUNTIFS(#REF!,\">\"&$E15,#REF!,\"<=\"&$C15,#REF!,'사용승인별 현황'!AY$2,#REF!,\">=20\",#REF!,\"<>임대\")","v":{"$error":"#REF!"}},{"$f":"SUMIFS(#REF!,#REF!,\">\"&$E15,#REF!,\"<=\"&$C15,#REF!,'사용승인별 현황'!AY$2,#REF!,\">=20\",#REF!,\"<>임대\")","v":{"$error":"#REF!"}},{"$f":"COUNTIFS(#REF!,\">\"&$E15,#REF!,\"<=\"&$C15,#REF!,'사용승인별 현황'!BA$2,#REF!,\">=20\",#REF!,\"<>임대\")","v":{"$error":"#REF!"}},{"$f":"SUMIFS(#REF!,#REF!,\">\"&$E15,#REF!,\"<=\"&$C15,#REF!,'사용승인별 현황'!BA$2,#REF!,\">=20\",#REF!,\"<>임대\")","v":{"$error":"#REF!"}},{"$f":"COUNTIFS(#REF!,\">\"&$E15,#REF!,\"<=\"&$C15,#REF!,'사용승인별 현황'!BC$2,#REF!,\">=20\",#REF!,\"<>임대\")","v":{"$error":"#REF!"}},{"$f":"SUMIFS(#REF!,#REF!,\">\"&$E15,#REF!,\"<=\"&$C15,#REF!,'사용승인별 현황'!BC$2,#REF!,\">=20\",#REF!,\"<>임대\")","v":{"$error":"#REF!"}},{"$f":"COUNTIFS(#REF!,\">\"&$E15,#REF!,\"<=\"&$C15,#REF!,'사용승인별 현황'!BE$2,#REF!,\">=20\",#REF!,\"<>임대\")","v":{"$error":"#REF!"}},{"$f":"SUMIFS(#REF!,#REF!,\">\"&$E15,#REF!,\"<=\"&$C15,#REF!,'사용승인별 현황'!BE$2,#REF!,\">=20\",#REF!,\"<>임대\")","v":{"$error":"#REF!"}}]
[null,55,23012,60,"1958-01-01",{"$f":"COUNTIFS(#REF!,\">\"&$E16,#REF!,\"<=\"&$C16,#REF!,\">=20\",#REF!,\"<>임대\")","v":{"$error":"#REF!"}},{"$f":"SUMIFS(#REF!,#REF!,\">\"&$E16,#REF!,\"<=\"&$C16,#REF!,\">=20\",#REF!,\"<>임대\")","v":{"$error":"#REF!"}},null,{"$f":"COUNTIFS(#REF!,\">\"&$E16,#REF!,\"<=\"&$C16,#REF!,'사용승인별 현황'!I$2,#REF!,\">=20\",#REF!,\"<>임대\")","v":{"$error":"#REF!"}},{"$f":"SUMIFS(#REF!,#REF!,\">\"&$E16,#REF!,\"<=\"&$C16,#REF!,'사용승인별 현황'!I$2,#REF!,\">=20\",#REF!,\"<>임대\")","v":{"$error":"#REF!"}},{"$f":"COUNTIFS(#REF!,\">\"&$E16,#REF!,\"<=\"&$C16,#REF!,'사용승인별 현황'!K$2,#REF!,\">=20\",#REF!,\"<>임대\")","v":{"$error":"#REF!"}},{"$f":"SUMIFS(#REF!,#REF!,\">\"&$E16,#REF!,\"<=\"&$C16,#REF!,'사용승인별 현황'!K$2,#REF!,\">=20\",#REF!,\"<>임대\")","v":{"$error":"#REF!"}},{"$f":"COUNTIFS(#REF!,\">\"&$E16,#REF!,\"<=\"&$C16,#REF!,'사용승인별 현황'!M$2,#REF!,\">=20\",#REF!,\"<>임대\")","v":{"$error":"#REF!"}},{"$f":"SUMIFS(#REF!,#REF!,\">\"&$E16,#REF!,\"<=\"&$C16,#REF!,'사용승인별 현황'!M$2,#REF!,\">=20\",#REF!,\"<>임대\")","v":{"$error":"#REF!"}},{"$f":"COUNTIFS(#REF!,\">\"&$E16,#REF!,\"<=\"&$C16,#REF!,'사용승인별 현황'!O$2,#REF!,\">=20\",#REF!,\"<>임대\")","v":{"$error":"#REF!"}},{"$f":"SUMIFS(#REF!,#REF!,\">\"&$E16,#REF!,\"<=\"&$C16,#REF!,'사용승인별 현황'!O$2,#REF!,\">=20\",#REF!,\"<>임대\")","v":{"$error":"#REF!"}},{"$f":"COUNTIFS(#REF!,\">\"&$E16,#REF!,\"<=\"&$C16,#REF!,'사용승인별 현황'!Q$2,#REF!,\">=20\",#REF!,\"<>임대\")","v":{"$error":"#REF!"}},{"$f":"SUMIFS(#REF!,#REF!,\">\"&$E16,#REF!,\"<=\"&$C16,#REF!,'사용승인별 현황'!Q$2,#REF!,\">=20\",#REF!,\"<>임대\")","v":{"$error":"#REF!"}},{"$f":"COUNTIFS(#REF!,\">\"&$E16,#REF!,\"<=\"&$C16,#REF!,'사용승인별 현황'!S$2,#REF!,\">=20\",#REF!,\"<>임대\")","v":{"$error":"#REF!"}},{"$f":"SUMIFS(#REF!,#REF!,\">\"&$E16,#REF!,\"<=\"&$C16,#REF!,'사용승인별 현황'!S$2,#REF!,\">=20\",#REF!,\"<>임대\")","v":{"$error":"#REF!"}},{"$f":"COUNTIFS(#REF!,\">\"&$E16,#REF!,\"<=\"&$C16,#REF!,'사용승인별 현황'!U$2,#REF!,\">=20\",#REF!,\"<>임대\")","v":{"$error":"#REF!"}},{"$f":"SUMIFS(#REF!,#REF!,\">\"&$E16,#REF!,\"<=\"&$C16,#REF!,'사용승인별 현황'!U$2,#REF!,\">=20\",#REF!,\"<>임대\")","v":{"$error":"#REF!"}},{"$f":"COUNTIFS(#REF!,\">\"&$E16,#REF!,\"<=\"&$C16,#REF!,'사용승인별 현황'!W$2,#REF!,\">=20\",#REF!,\"<>임대\")","v":{"$error":"#REF!"}},{"$f":"SUMIFS(#REF!,#REF!,\">\"&$E16,#REF!,\"<=\"&$C16,#REF!,'사용승인별 현황'!W$2,#REF!,\">=20\",#REF!,\"<>임대\")","v":{"$error":"#REF!"}},{"$f":"COUNTIFS(#REF!,\">\"&$E16,#REF!,\"<=\"&$C16,#REF!,'사용승인별 현황'!Y$2,#REF!,\">=20\",#REF!,\"<>임대\")","v":{"$error":"#REF!"}},{"$f":"SUMIFS(#REF!,#REF!,\">\"&$E16,#REF!,\"<=\"&$C16,#REF!,'사용승인별 현황'!Y$2,#REF!,\">=20\",#REF!,\"<>임대\")","v":{"$error":"#REF!"}},{"$f":"COUNTIFS(#REF!,\">\"&$E16,#REF!,\"<=\"&$C16,#REF!,'사용승인별 현황'!AA$2,#REF!,\">=20\",#REF!,\"<>임대\")","v":{"$error":"#REF!"}},{"$f":"SUMIFS(#REF!,#REF!,\">\"&$E16,#REF!,\"<=\"&$C16,#REF!,'사용승인별 현황'!AA$2,#REF!,\">=20\",#REF!,\"<>임대\")","v":{"$error":"#REF!"}},{"$f":"COUNTIFS(#REF!,\">\"&$E16,#REF!,\"<=\"&$C16,#REF!,'사용승인별 현황'!AC$2,#REF!,\">=20\",#REF!,\"<>임대\")","v":{"$error":"#REF!"}},{"$f":"SUMIFS(#REF!,#REF!,\">\"&$E16,#REF!,\"<=\"&$C16,#REF!,'사용승인별 현황'!AC$2,#REF!,\">=20\",#REF!,\"<>임대\")","v":{"$error":"#REF!"}},{"$f":"COUNTIFS(#REF!,\">\"&$E16,#REF!,\"<=\"&$C16,#REF!,'사용승인별 현황'!AE$2,#REF!,\">=20\",#REF!,\"<>임대\")","v":{"$error":"#REF!"}},{"$f":"SUMIFS(#REF!,#REF!,\">\"&$E16,#REF!,\"<=\"&$C16,#REF!,'사용승인별 현황'!AE$2,#REF!,\">=20\",#REF!,\"<>임대\")","v":{"$error":"#REF!"}},{"$f":"COUNTIFS(#REF!,\">\"&$E16,#REF!,\"<=\"&$C16,#REF!,'사용승인별 현황'!AG$2,#REF!,\">=20\",#REF!,\"<>임대\")","v":{"$error":"#REF!"}},{"$f":"SUMIFS(#REF!,#REF!,\">\"&$E16,#REF!,\"<=\"&$C16,#REF!,'사용승인별 현황'!AG$2,#REF!,\">=20\",#REF!,\"<>임대\")","v":{"$error":"#REF!"}},{"$f":"COUNTIFS(#REF!,\">\"&$E16,#REF!,\"<=\"&$C16,#REF!,'사용승인별 현황'!AI$2,#REF!,\">=20\",#REF!,\"<>임대\")","v":{"$error":"#REF!"}},{"$f":"SUMIFS(#REF!,#REF!,\">\"&$E16,#REF!,\"<=\"&$C16,#REF!,'사용승인별 현황'!AI$2,#REF!,\">=20\",#REF!,\"<>임대\")","v":{"$error":"#REF!"}},{"$f":"COUNTIFS(#REF!,\">\"&$E16,#REF!,\"<=\"&$C16,#REF!,'사용승인별 현황'!AK$2,#REF!,\">=20\",#REF!,\"<>임대\")","v":{"$error":"#REF!"}},{"$f":"SUMIFS(#REF!,#REF!,\">\"&$E16,#REF!,\"<=\"&$C16,#REF!,'사용승인별 현황'!AK$2,#REF!,\">=20\",#REF!,\"<>임대\")","v":{"$error":"#REF!"}},{"$f":"COUNTIFS(#REF!,\">\"&$E16,#REF!,\"<=\"&$C16,#REF!,'사용승인별 현황'!AM$2,#REF!,\">=20\",#REF!,\"<>임대\")","v":{"$error":"#REF!"}},{"$f":"SUMIFS(#REF!,#REF!,\">\"&$E16,#REF!,\"<=\"&$C16,#REF!,'사용승인별 현황'!AM$2,#REF!,\">=20\",#REF!,\"<>임대\")","v":{"$error":"#REF!"}},{"$f":"COUNTIFS(#REF!,\">\"&$E16,#REF!,\"<=\"&$C16,#REF!,'사용승인별 현황'!AO$2,#REF!,\">=20\",#REF!,\"<>임대\")","v":{"$error":"#REF!"}},{"$f":"SUMIFS(#REF!,#REF!,\">\"&$E16,#REF!,\"<=\"&$C16,#REF!,'사용승인별 현황'!AO$2,#REF!,\">=20\",#REF!,\"<>임대\")","v":{"$error":"#REF!"}},{"$f":"COUNTIFS(#REF!,\">\"&$E16,#REF!,\"<=\"&$C16,#REF!,'사용승인별 현황'!AQ$2,#REF!,\">=20\",#REF!,\"<>임대\")","v":{"$error":"#REF!"}},{"$f":"SUMIFS(#REF!,#REF!,\">\"&$E16,#REF!,\"<=\"&$C16,#REF!,'사용승인별 현황'!AQ$2,#REF!,\">=20\",#REF!,\"<>임대\")","v":{"$error":"#REF!"}},{"$f":"COUNTIFS(#REF!,\">\"&$E16,#REF!,\"<=\"&$C16,#REF!,'사용승인별 현황'!AS$2,#REF!,\">=20\",#REF!,\"<>임대\")","v":{"$error":"#REF!"}},{"$f":"SUMIFS(#REF!,#REF!,\">\"&$E16,#REF!,\"<=\"&$C16,#REF!,'사용승인별 현황'!AS$2,#REF!,\">=20\",#REF!,\"<>임대\")","v":{"$error":"#REF!"}},{"$f":"COUNTIFS(#REF!,\">\"&$E16,#REF!,\"<=\"&$C16,#REF!,'사용승인별 현황'!AU$2,#REF!,\">=20\",#REF!,\"<>임대\")","v":{"$error":"#REF!"}},{"$f":"SUMIFS(#REF!,#REF!,\">\"&$E16,#REF!,\"<=\"&$C16,#REF!,'사용승인별 현황'!AU$2,#REF!,\">=20\",#REF!,\"<>임대\")","v":{"$error":"#REF!"}},{"$f":"COUNTIFS(#REF!,\">\"&$E16,#REF!,\"<=\"&$C16,#REF!,'사용승인별 현황'!AW$2,#REF!,\">=20\",#REF!,\"<>임대\")","v":{"$error":"#REF!"}},{"$f":"SUMIFS(#REF!,#REF!,\">\"&$E16,#REF!,\"<=\"&$C16,#REF!,'사용승인별 현황'!AW$2,#REF!,\">=20\",#REF!,\"<>임대\")","v":{"$error":"#REF!"}},{"$f":"COUNTIFS(#REF!,\">\"&$E16,#REF!,\"<=\"&$C16,#REF!,'사용승인별 현황'!AY$2,#REF!,\">=20\",#REF!,\"<>임대\")","v":{"$error":"#REF!"}},{"$f":"SUMIFS(#REF!,#REF!,\">\"&$E16,#REF!,\"<=\"&$C16,#REF!,'사용승인별 현황'!AY$2,#REF!,\">=20\",#REF!,\"<>임대\")","v":{"$error":"#REF!"}},{"$f":"COUNTIFS(#REF!,\">\"&$E16,#REF!,\"<=\"&$C16,#REF!,'사용승인별 현황'!BA$2,#REF!,\">=20\",#REF!,\"<>임대\")","v":{"$error":"#REF!"}},{"$f":"SUMIFS(#REF!,#REF!,\">\"&$E16,#REF!,\"<=\"&$C16,#REF!,'사용승인별 현황'!BA$2,#REF!,\">=20\",#REF!,\"<>임대\")","v":{"$error":"#REF!"}},{"$f":"COUNTIFS(#REF!,\">\"&$E16,#REF!,\"<=\"&$C16,#REF!,'사용승인별 현황'!BC$2,#REF!,\">=20\",#REF!,\"<>임대\")","v":{"$error":"#REF!"}},{"$f":"SUMIFS(#REF!,#REF!,\">\"&$E16,#REF!,\"<=\"&$C16,#REF!,'사용승인별 현황'!BC$2,#REF!,\">=20\",#REF!,\"<>임대\")","v":{"$error":"#REF!"}},{"$f":"COUNTIFS(#REF!,\">\"&$E16,#REF!,\"<=\"&$C16,#REF!,'사용승인별 현황'!BE$2,#REF!,\">=20\",#REF!,\"<>임대\")","v":{"$error":"#REF!"}},{"$f":"SUMIFS(#REF!,#REF!,\">\"&$E16,#REF!,\"<=\"&$C16,#REF!,'사용승인별 현황'!BE$2,#REF!,\">=20\",#REF!,\"<>임대\")","v":{"$error":"#REF!"}}]
[null,60,21186,65,"1953-01-01",{"$f":"COUNTIFS(#REF!,\">\"&$E17,#REF!,\"<=\"&$C17,#REF!,\">=20\",#REF!,\"<>임대\")","v":{"$error":"#REF!"}},{"$f":"SUMIFS(#REF!,#REF!,\">\"&$E17,#REF!,\"<=\"&$C17,#REF!,\">=20\",#REF!,\"<>임대\")","v":{"$error":"#REF!"}},null,{"$f":"COUNTIFS(#REF!,\">\"&$E17,#REF!,\"<=\"&$C17,#REF!,'사용승인별 현황'!I$2,#REF!,\">=20\",#REF!,\"<>임대\")","v":{"$error":"#REF!"}},{"$f":"SUMIFS(#REF!,#REF!,\">\"&$E17,#REF!,\"<=\"&$C17,#REF!,'사용승인별 현황'!I$2,#REF!,\">=20\",#REF!,\"<>임대\")","v":{"$error":"#REF!"}},{"$f":"COUNTIFS(#REF!,\">\"&$E17,#REF!,\"<=\"&$C17,#REF!,'사용승인별 현황'!K$2,#REF!,\">=20\",#REF!,\"<>임대\")","v":{"$error":"#REF!"}},{"$f":"SUMIFS(#REF!,#REF!,\">\"&$E17,#REF!,\"<=\"&$C17,#REF!,'사용승인별 현황'!K$2,#REF!,\">=20\",#REF!,\"<>임대\")","v":{"$error":"#REF!"}},{"$f":"COUNTIFS(#REF!,\">\"&$E17,#REF!,\"<=\"&$C17,#REF!,'사용승인별 현황'!M$2,#REF!,\">=20\",#REF!,\"<>임대\")","v":{"$error":"#REF!"}},{"$f":"SUMIFS(#REF!,#REF!,\">\"&$E17,#REF!,\"<=\"&$C17,#REF!,'사용승인별 현황'!M$2,#REF!,\">=20\",#REF!,\"<>임대\")","v":{"$error":"#REF!"}},{"$f":"COUNTIFS(#REF!,\">\"&$E17,#REF!,\"<=\"&$C17,#REF!,'사용승인별 현황'!O$2,#REF!,\">=20\",#REF!,\"<>임대\")","v":{"$error":"#REF!"}},{"$f":"SUMIFS(#REF!,#REF!,\">\"&$E17,#REF!,\"<=\"&$C17,#REF!,'사용승인별 현황'!O$2,#REF!,\">=20\",#REF!,\"<>임대\")","v":{"$error":"#REF!"}},{"$f":"COUNTIFS(#REF!,\">\"&$E17,#REF!,\"<=\"&$C17,#REF!,'사용승인별 현황'!Q$2,#REF!,\">=20\",#REF!,\"<>임대\")","v":{"$error":"#REF!"}},{"$f":"SUMIFS(#REF!,#REF!,\">\"&$E17,#REF!,\"<=\"&$C17,#REF!,'사용승인별 현황'!Q$2,#REF!,\">=20\",#REF!,\"<>임대\")","v":{"$error":"#REF!"}},{"$f":"COUNTIFS(#REF!,\">\"&$E17,#REF!,\"<=\"&$C17,#REF!,'사용승인별 현황'!S$2,#REF!,\">=20\",#REF!,\"<>임대\")","v":{"$error":"#REF!"}},{"$f":"SUMIFS(#REF!,#REF!,\">\"&$E17,#REF!,\"<=\"&$C17,#REF!,'사용승인별 현황'!S$2,#REF!,\">=20\",#REF!,\"<>임대\")","v":{"$error":"#REF!"}},{"$f":"COUNTIFS(#REF!,\">\"&$E17,#REF!,\"<=\"&$C17,#REF!,'사용승인별 현황'!U$2,#REF!,\">=20\",#REF!,\"<>임대\")","v":{"$error":"#REF!"}},{"$f":"SUMIFS(#REF!,#REF!,\">\"&$E17,#REF!,\"<=\"&$C17,#REF!,'사용승인별 현황'!U$2,#REF!,\">=20\",#REF!,\"<>임대\")","v":{"$error":"#REF!"}},{"$f":"COUNTIFS(#REF!,\">\"&$E17,#REF!,\"<=\"&$C17,#REF!,'사용승인별 현황'!W$2,#REF!,\">=20\",#REF!,\"<>임대\")","v":{"$error":"#REF!"}},{"$f":"SUMIFS(#REF!,#REF!,\">\"&$E17,#REF!,\"<=\"&$C17,#REF!,'사용승인별 현황'!W$2,#REF!,\">=20\",#REF!,\"<>임대\")","v":{"$error":"#REF!"}},{"$f":"COUNTIFS(#REF!,\">\"&$E17,#REF!,\"<=\"&$C17,#REF!,'사용승인별 현황'!Y$2,#REF!,\">=20\",#REF!,\"<>임대\")","v":{"$error":"#REF!"}},{"$f":"SUMIFS(#REF!,#REF!,\">\"&$E17,#REF!,\"<=\"&$C17,#REF!,'사용승인별 현황'!Y$2,#REF!,\">=20\",#REF!,\"<>임대\")","v":{"$error":"#REF!"}},{"$f":"COUNTIFS(#REF!,\">\"&$E17,#REF!,\"<=\"&$C17,#REF!,'사용승인별 현황'!AA$2,#REF!,\">=20\",#REF!,\"<>임대\")","v":{"$error":"#REF!"}},{"$f":"SUMIFS(#REF!,#REF!,\">\"&$E17,#REF!,\"<=\"&$C17,#REF!,'사용승인별 현황'!AA$2,#REF!,\">=20\",#REF!,\"<>임대\")","v":{"$error":"#REF!"}},{"$f":"COUNTIFS(#REF!,\">\"&$E17,#REF!,\"<=\"&$C17,#REF!,'사용승인별 현황'!AC$2,#REF!,\">=20\",#REF!,\"<>임대\")","v":{"$error":"#REF!"}},{"$f":"SUMIFS(#REF!,#REF!,\">\"&$E17,#REF!,\"<=\"&$C17,#REF!,'사용승인별 현황'!AC$2,#REF!,\">=20\",#REF!,\"<>임대\")","v":{"$error":"#REF!"}},{"$f":"COUNTIFS(#REF!,\">\"&$E17,#REF!,\"<=\"&$C17,#REF!,'사용승인별 현황'!AE$2,#REF!,\">=20\",#REF!,\"<>임대\")","v":{"$error":"#REF!"}},{"$f":"SUMIFS(#REF!,#REF!,\">\"&$E17,#REF!,\"<=\"&$C17,#REF!,'사용승인별 현황'!AE$2,#REF!,\">=20\",#REF!,\"<>임대\")","v":{"$error":"#REF!"}},{"$f":"COUNTIFS(#REF!,\">\"&$E17,#REF!,\"<=\"&$C17,#REF!,'사용승인별 현황'!AG$2,#REF!,\">=20\",#REF!,\"<>임대\")","v":{"$error":"#REF!"}},{"$f":"SUMIFS(#REF!,#REF!,\">\"&$E17,#REF!,\"<=\"&$C17,#REF!,'사용승인별 현황'!AG$2,#REF!,\">=20\",#REF!,\"<>임대\")","v":{"$error":"#REF!"}},{"$f":"COUNTIFS(#REF!,\">\"&$E17,#REF!,\"<=\"&$C17,#REF!,'사용승인별 현황'!AI$2,#REF!,\">=20\",#REF!,\"<>임대\")","v":{"$error":"#REF!"}},{"$f":"SUMIFS(#REF!,#REF!,\">\"&$E17,#REF!,\"<=\"&$C17,#REF!,'사용승인별 현황'!AI$2,#REF!,\">=20\",#REF!,\"<>임대\")","v":{"$error":"#REF!"}},{"$f":"COUNTIFS(#REF!,\">\"&$E17,#REF!,\"<=\"&$C17,#REF!,'사용승인별 현황'!AK$2,#REF!,\">=20\",#REF!,\"<>임대\")","v":{"$error":"#REF!"}},{"$f":"SUMIFS(#REF!,#REF!,\">\"&$E17,#REF!,\"<=\"&$C17,#REF!,'사용승인별 현황'!AK$2,#REF!,\">=20\",#REF!,\"<>임대\")","v":{"$error":"#REF!"}},{"$f":"COUNTIFS(#REF!,\">\"&$E17,#REF!,\"<=\"&$C17,#REF!,'사용승인별 현황'!AM$2,#REF!,\">=20\",#REF!,\"<>임대\")","v":{"$error":"#REF!"}},{"$f":"SUMIFS(#REF!,#REF!,\">\"&$E17,#REF!,\"<=\"&$C17,#REF!,'사용승인별 현황'!AM$2,#REF!,\">=20\",#REF!,\"<>임대\")","v":{"$error":"#REF!"}},{"$f":"COUNTIFS(#REF!,\">\"&$E17,#REF!,\"<=\"&$C17,#REF!,'사용승인별 현황'!AO$2,#REF!,\">=20\",#REF!,\"<>임대\")","v":{"$error":"#REF!"}},{"$f":"SUMIFS(#REF!,#REF!,\">\"&$E17,#REF!,\"<=\"&$C17,#REF!,'사용승인별 현황'!AO$2,#REF!,\">=20\",#REF!,\"<>임대\")","v":{"$error":"#REF!"}},{"$f":"COUNTIFS(#REF!,\">\"&$E17,#REF!,\"<=\"&$C17,#REF!,'사용승인별 현황'!AQ$2,#REF!,\">=20\",#REF!,\"<>임대\")","v":{"$error":"#REF!"}},{"$f":"SUMIFS(#REF!,#REF!,\">\"&$E17,#REF!,\"<=\"&$C17,#REF!,'사용승인별 현황'!AQ$2,#REF!,\">=20\",#REF!,\"<>임대\")","v":{"$error":"#REF!"}},{"$f":"COUNTIFS(#REF!,\">\"&$E17,#REF!,\"<=\"&$C17,#REF!,'사용승인별 현황'!AS$2,#REF!,\">=20\",#REF!,\"<>임대\")","v":{"$error":"#REF!"}},{"$f":"SUMIFS(#REF!,#REF!,\">\"&$E17,#REF!,\"<=\"&$C17,#REF!,'사용승인별 현황'!AS$2,#REF!,\">=20\",#REF!,\"<>임대\")","v":{"$error":"#REF!"}},{"$f":"COUNTIFS(#REF!,\">\"&$E17,#REF!,\"<=\"&$C17,#REF!,'사용승인별 현황'!AU$2,#REF!,\">=20\",#REF!,\"<>임대\")","v":{"$error":"#REF!"}},{"$f":"SUMIFS(#REF!,#REF!,\">\"&$E17,#REF!,\"<=\"&$C17,#REF!,'사용승인별 현황'!AU$2,#REF!,\">=20\",#REF!,\"<>임대\")","v":{"$error":"#REF!"}},{"$f":"COUNTIFS(#REF!,\">\"&$E17,#REF!,\"<=\"&$C17,#REF!,'사용승인별 현황'!AW$2,#REF!,\">=20\",#REF!,\"<>임대\")","v":{"$error":"#REF!"}},{"$f":"SUMIFS(#REF!,#REF!,\">\"&$E17,#REF!,\"<=\"&$C17,#REF!,'사용승인별 현황'!AW$2,#REF!,\">=20\",#REF!,\"<>임대\")","v":{"$error":"#REF!"}},{"$f":"COUNTIFS(#REF!,\">\"&$E17,#REF!,\"<=\"&$C17,#REF!,'사용승인별 현황'!AY$2,#REF!,\">=20\",#REF!,\"<>임대\")","v":{"$error":"#REF!"}},{"$f":"SUMIFS(#REF!,#REF!,\">\"&$E17,#REF!,\"<=\"&$C17,#REF!,'사용승인별 현황'!AY$2,#REF!,\">=20\",#REF!,\"<>임대\")","v":{"$error":"#REF!"}},{"$f":"COUNTIFS(#REF!,\">\"&$E17,#REF!,\"<=\"&$C17,#REF!,'사용승인별 현황'!BA$2,#REF!,\">=20\",#REF!,\"<>임대\")","v":{"$error":"#REF!"}},{"$f":"SUMIFS(#REF!,#REF!,\">\"&$E17,#REF!,\"<=\"&$C17,#REF!,'사용승인별 현황'!BA$2,#REF!,\">=20\",#REF!,\"<>임대\")","v":{"$error":"#REF!"}},{"$f":"COUNTIFS(#REF!,\">\"&$E17,#REF!,\"<=\"&$C17,#REF!,'사용승인별 현황'!BC$2,#REF!,\">=20\",#REF!,\"<>임대\")","v":{"$error":"#REF!"}},{"$f":"SUMIFS(#REF!,#REF!,\">\"&$E17,#REF!,\"<=\"&$C17,#REF!,'사용승인별 현황'!BC$2,#REF!,\">=20\",#REF!,\"<>임대\")","v":{"$error":"#REF!"}},{"$f":"COUNTIFS(#REF!,\">\"&$E17,#REF!,\"<=\"&$C17,#REF!,'사용승인별 현황'!BE$2,#REF!,\">=20\",#REF!,\"<>임대\")","v":{"$error":"#REF!"}},{"$f":"SUMIFS(#REF!,#REF!,\">\"&$E17,#REF!,\"<=\"&$C17,#REF!,'사용승인별 현황'!BE$2,#REF!,\">=20\",#REF!,\"<>임대\")","v":{"$error":"#REF!"}}]
[null,65,19360,70,"1948-01-01",{"$f":"COUNTIFS(#REF!,\">\"&$E18,#REF!,\"<=\"&$C18,#REF!,\">=20\",#REF!,\"<>임대\")","v":{"$error":"#REF!"}},{"$f":"SUMIFS(#REF!,#REF!,\">\"&$E18,#REF!,\"<=\"&$C18,#REF!,\">=20\",#REF!,\"<>임대\")","v":{"$error":"#REF!"}},null,{"$f":"COUNTIFS(#REF!,\">\"&$E18,#REF!,\"<=\"&$C18,#REF!,'사용승인별 현황'!I$2,#REF!,\">=20\",#REF!,\"<>임대\")","v":{"$error":"#REF!"}},{"$f":"SUMIFS(#REF!,#REF!,\">\"&$E18,#REF!,\"<=\"&$C18,#REF!,'사용승인별 현황'!I$2,#REF!,\">=20\",#REF!,\"<>임대\")","v":{"$error":"#REF!"}},{"$f":"COUNTIFS(#REF!,\">\"&$E18,#REF!,\"<=\"&$C18,#REF!,'사용승인별 현황'!K$2,#REF!,\">=20\",#REF!,\"<>임대\")","v":{"$error":"#REF!"}},{"$f":"SUMIFS(#REF!,#REF!,\">\"&$E18,#REF!,\"<=\"&$C18,#REF!,'사용승인별 현황'!K$2,#REF!,\">=20\",#REF!,\"<>임대\")","v":{"$error":"#REF!"}},{"$f":"COUNTIFS(#REF!,\">\"&$E18,#REF!,\"<=\"&$C18,#REF!,'사용승인별 현황'!M$2,#REF!,\">=20\",#REF!,\"<>임대\")","v":{"$error":"#REF!"}},{"$f":"SUMIFS(#REF!,#REF!,\">\"&$E18,#REF!,\"<=\"&$C18,#REF!,'사용승인별 현황'!M$2,#REF!,\">=20\",#REF!,\"<>임대\")","v":{"$error":"#REF!"}},{"$f":"COUNTIFS(#REF!,\">\"&$E18,#REF!,\"<=\"&$C18,#REF!,'사용승인별 현황'!O$2,#REF!,\">=20\",#REF!,\"<>임대\")","v":{"$error":"#REF!"}},{"$f":"SUMIFS(#REF!,#REF!,\">\"&$E18,#REF!,\"<=\"&$C18,#REF!,'사용승인별 현황'!O$2,#REF!,\">=20\",#REF!,\"<>임대\")","v":{"$error":"#REF!"}},{"$f":"COUNTIFS(#REF!,\">\"&$E18,#REF!,\"<=\"&$C18,#REF!,'사용승인별 현황'!Q$2,#REF!,\">=20\",#REF!,\"<>임대\")","v":{"$error":"#REF!"}},{"$f":"SUMIFS(#REF!,#REF!,\">\"&$E18,#REF!,\"<=\"&$C18,#REF!,'사용승인별 현황'!Q$2,#REF!,\">=20\",#REF!,\"<>임대\")","v":{"$error":"#REF!"}},{"$f":"COUNTIFS(#REF!,\">\"&$E18,#REF!,\"<=\"&$C18,#REF!,'사용승인별 현황'!S$2,#REF!,\">=20\",#REF!,\"<>임대\")","v":{"$error":"#REF!"}},{"$f":"SUMIFS(#REF!,#REF!,\">\"&$E18,#REF!,\"<=\"&$C18,#REF!,'사용승인별 현황'!S$2,#REF!,\">=20\",#REF!,\"<>임대\")","v":{"$error":"#REF!"}},{"$f":"COUNTIFS(#REF!,\">\"&$E18,#REF!,\"<=\"&$C18,#REF!,'사용승인별 현황'!U$2,#REF!,\">=20\",#REF!,\"<>임대\")","v":{"$error":"#REF!"}},{"$f":"SUMIFS(#REF!,#REF!,\">\"&$E18,#REF!,\"<=\"&$C18,#REF!,'사용승인별 현황'!U$2,#REF!,\">=20\",#REF!,\"<>임대\")","v":{"$error":"#REF!"}},{"$f":"COUNTIFS(#REF!,\">\"&$E18,#REF!,\"<=\"&$C18,#REF!,'사용승인별 현황'!W$2,#REF!,\">=20\",#REF!,\"<>임대\")","v":{"$error":"#REF!"}},{"$f":"SUMIFS(#REF!,#REF!,\">\"&$E18,#REF!,\"<=\"&$C18,#REF!,'사용승인별 현황'!W$2,#REF!,\">=20\",#REF!,\"<>임대\")","v":{"$error":"#REF!"}},{"$f":"COUNTIFS(#REF!,\">\"&$E18,#REF!,\"<=\"&$C18,#REF!,'사용승인별 현황'!Y$2,#REF!,\">=20\",#REF!,\"<>임대\")","v":{"$error":"#REF!"}},{"$f":"SUMIFS(#REF!,#REF!,\">\"&$E18,#REF!,\"<=\"&$C18,#REF!,'사용승인별 현황'!Y$2,#REF!,\">=20\",#REF!,\"<>임대\")","v":{"$error":"#REF!"}},{"$f":"COUNTIFS(#REF!,\">\"&$E18,#REF!,\"<=\"&$C18,#REF!,'사용승인별 현황'!AA$2,#REF!,\">=20\",#REF!,\"<>임대\")","v":{"$error":"#REF!"}},{"$f":"SUMIFS(#REF!,#REF!,\">\"&$E18,#REF!,\"<=\"&$C18,#REF!,'사용승인별 현황'!AA$2,#REF!,\">=20\",#REF!,\"<>임대\")","v":{"$error":"#REF!"}},{"$f":"COUNTIFS(#REF!,\">\"&$E18,#REF!,\"<=\"&$C18,#REF!,'사용승인별 현황'!AC$2,#REF!,\">=20\",#REF!,\"<>임대\")","v":{"$error":"#REF!"}},{"$f":"SUMIFS(#REF!,#REF!,\">\"&$E18,#REF!,\"<=\"&$C18,#REF!,'사용승인별 현황'!AC$2,#REF!,\">=20\",#REF!,\"<>임대\")","v":{"$error":"#REF!"}},{"$f":"COUNTIFS(#REF!,\">\"&$E18,#REF!,\"<=\"&$C18,#REF!,'사용승인별 현황'!AE$2,#REF!,\">=20\",#REF!,\"<>임대\")","v":{"$error":"#REF!"}},{"$f":"SUMIFS(#REF!,#REF!,\">\"&$E18,#REF!,\"<=\"&$C18,#REF!,'사용승인별 현황'!AE$2,#REF!,\">=20\",#REF!,\"<>임대\")","v":{"$error":"#REF!"}},{"$f":"COUNTIFS(#REF!,\">\"&$E18,#REF!,\"<=\"&$C18,#REF!,'사용승인별 현황'!AG$2,#REF!,\">=20\",#REF!,\"<>임대\")","v":{"$error":"#REF!"}},{"$f":"SUMIFS(#REF!,#REF!,\">\"&$E18,#REF!,\"<=\"&$C18,#REF!,'사용승인별 현황'!AG$2,#REF!,\">=20\",#REF!,\"<>임대\")","v":{"$error":"#REF!"}},{"$f":"COUNTIFS(#REF!,\">\"&$E18,#REF!,\"<=\"&$C18,#REF!,'사용승인별 현황'!AI$2,#REF!,\">=20\",#REF!,\"<>임대\")","v":{"$error":"#REF!"}},{"$f":"SUMIFS(#REF!,#REF!,\">\"&$E18,#REF!,\"<=\"&$C18,#REF!,'사용승인별 현황'!AI$2,#REF!,\">=20\",#REF!,\"<>임대\")","v":{"$error":"#REF!"}},{"$f":"COUNTIFS(#REF!,\">\"&$E18,#REF!,\"<=\"&$C18,#REF!,'사용승인별 현황'!AK$2,#REF!,\">=20\",#REF!,\"<>임대\")","v":{"$error":"#REF!"}},{"$f":"SUMIFS(#REF!,#REF!,\">\"&$E18,#REF!,\"<=\"&$C18,#REF!,'사용승인별 현황'!AK$2,#REF!,\">=20\",#REF!,\"<>임대\")","v":{"$error":"#REF!"}},{"$f":"COUNTIFS(#REF!,\">\"&$E18,#REF!,\"<=\"&$C18,#REF!,'사용승인별 현황'!AM$2,#REF!,\">=20\",#REF!,\"<>임대\")","v":{"$error":"#REF!"}},{"$f":"SUMIFS(#REF!,#REF!,\">\"&$E18,#REF!,\"<=\"&$C18,#REF!,'사용승인별 현황'!AM$2,#REF!,\">=20\",#REF!,\"<>임대\")","v":{"$error":"#REF!"}},{"$f":"COUNTIFS(#REF!,\">\"&$E18,#REF!,\"<=\"&$C18,#REF!,'사용승인별 현황'!AO$2,#REF!,\">=20\",#REF!,\"<>임대\")","v":{"$error":"#REF!"}},{"$f":"SUMIFS(#REF!,#REF!,\">\"&$E18,#REF!,\"<=\"&$C18,#REF!,'사용승인별 현황'!AO$2,#REF!,\">=20\",#REF!,\"<>임대\")","v":{"$error":"#REF!"}},{"$f":"COUNTIFS(#REF!,\">\"&$E18,#REF!,\"<=\"&$C18,#REF!,'사용승인별 현황'!AQ$2,#REF!,\">=20\",#REF!,\"<>임대\")","v":{"$error":"#REF!"}},{"$f":"SUMIFS(#REF!,#REF!,\">\"&$E18,#REF!,\"<=\"&$C18,#REF!,'사용승인별 현황'!AQ$2,#REF!,\">=20\",#REF!,\"<>임대\")","v":{"$error":"#REF!"}},{"$f":"COUNTIFS(#REF!,\">\"&$E18,#REF!,\"<=\"&$C18,#REF!,'사용승인별 현황'!AS$2,#REF!,\">=20\",#REF!,\"<>임대\")","v":{"$error":"#REF!"}},{"$f":"SUMIFS(#REF!,#REF!,\">\"&$E18,#REF!,\"<=\"&$C18,#REF!,'사용승인별 현황'!AS$2,#REF!,\">=20\",#REF!,\"<>임대\")","v":{"$error":"#REF!"}},{"$f":"COUNTIFS(#REF!,\">\"&$E18,#REF!,\"<=\"&$C18,#REF!,'사용승인별 현황'!AU$2,#REF!,\">=20\",#REF!,\"<>임대\")","v":{"$error":"#REF!"}},{"$f":"SUMIFS(#REF!,#REF!,\">\"&$E18,#REF!,\"<=\"&$C18,#REF!,'사용승인별 현황'!AU$2,#REF!,\">=20\",#REF!,\"<>임대\")","v":{"$error":"#REF!"}},{"$f":"COUNTIFS(#REF!,\">\"&$E18,#REF!,\"<=\"&$C18,#REF!,'사용승인별 현황'!AW$2,#REF!,\">=20\",#REF!,\"<>임대\")","v":{"$error":"#REF!"}},{"$f":"SUMIFS(#REF!,#REF!,\">\"&$E18,#REF!,\"<=\"&$C18,#REF!,'사용승인별 현황'!AW$2,#REF!,\">=20\",#REF!,\"<>임대\")","v":{"$error":"#REF!"}},{"$f":"COUNTIFS(#REF!,\">\"&$E18,#REF!,\"<=\"&$C18,#REF!,'사용승인별 현황'!AY$2,#REF!,\">=20\",#REF!,\"<>임대\")","v":{"$error":"#REF!"}},{"$f":"SUMIFS(#REF!,#REF!,\">\"&$E18,#REF!,\"<=\"&$C18,#REF!,'사용승인별 현황'!AY$2,#REF!,\">=20\",#REF!,\"<>임대\")","v":{"$error":"#REF!"}},{"$f":"COUNTIFS(#REF!,\">\"&$E18,#REF!,\"<=\"&$C18,#REF!,'사용승인별 현황'!BA$2,#REF!,\">=20\",#REF!,\"<>임대\")","v":{"$error":"#REF!"}},{"$f":"SUMIFS(#REF!,#REF!,\">\"&$E18,#REF!,\"<=\"&$C18,#REF!,'사용승인별 현황'!BA$2,#REF!,\">=20\",#REF!,\"<>임대\")","v":{"$error":"#REF!"}},{"$f":"COUNTIFS(#REF!,\">\"&$E18,#REF!,\"<=\"&$C18,#REF!,'사용승인별 현황'!BC$2,#REF!,\">=20\",#REF!,\"<>임대\")","v":{"$error":"#REF!"}},{"$f":"SUMIFS(#REF!,#REF!,\">\"&$E18,#REF!,\"<=\"&$C18,#REF!,'사용승인별 현황'!BC$2,#REF!,\">=20\",#REF!,\"<>임대\")","v":{"$error":"#REF!"}},{"$f":"COUNTIFS(#REF!,\">\"&$E18,#REF!,\"<=\"&$C18,#REF!,'사용승인별 현황'!BE$2,#REF!,\">=20\",#REF!,\"<>임대\")","v":{"$error":"#REF!"}},{"$f":"SUMIFS(#REF!,#REF!,\">\"&$E18,#REF!,\"<=\"&$C18,#REF!,'사용승인별 현황'!BE$2,#REF!,\">=20\",#REF!,\"<>임대\")","v":{"$error":"#REF!"}}]
[null,70,17533,75,"1943-01-01",{"$f":"COUNTIFS(#REF!,\">\"&$E19,#REF!,\"<=\"&$C19,#REF!,\">=20\",#REF!,\"<>임대\")","v":{"$error":"#REF!"}},{"$f":"SUMIFS(#REF!,#REF!,\">\"&$E19,#REF!,\"<=\"&$C19,#REF!,\">=20\",#REF!,\"<>임대\")","v":{"$error":"#REF!"}},null,{"$f":"COUNTIFS(#REF!,\">\"&$E19,#REF!,\"<=\"&$C19,#REF!,'사용승인별 현황'!I$2,#REF!,\">=20\",#REF!,\"<>임대\")","v":{"$error":"#REF!"}},{"$f":"SUMIFS(#REF!,#REF!,\">\"&$E19,#REF!,\"<=\"&$C19,#REF!,'사용승인별 현황'!I$2,#REF!,\">=20\",#REF!,\"<>임대\")","v":{"$error":"#REF!"}},{"$f":"COUNTIFS(#REF!,\">\"&$E19,#REF!,\"<=\"&$C19,#REF!,'사용승인별 현황'!K$2,#REF!,\">=20\",#REF!,\"<>임대\")","v":{"$error":"#REF!"}},{"$f":"SUMIFS(#REF!,#REF!,\">\"&$E19,#REF!,\"<=\"&$C19,#REF!,'사용승인별 현황'!K$2,#REF!,\">=20\",#REF!,\"<>임대\")","v":{"$error":"#REF!"}},{"$f":"COUNTIFS(#REF!,\">\"&$E19,#REF!,\"<=\"&$C19,#REF!,'사용승인별 현황'!M$2,#REF!,\">=20\",#REF!,\"<>임대\")","v":{"$error":"#REF!"}},{"$f":"SUMIFS(#REF!,#REF!,\">\"&$E19,#REF!,\"<=\"&$C19,#REF!,'사용승인별 현황'!M$2,#REF!,\">=20\",#REF!,\"<>임대\")","v":{"$error":"#REF!"}},{"$f":"COUNTIFS(#REF!,\">\"&$E19,#REF!,\"<=\"&$C19,#REF!,'사용승인별 현황'!O$2,#REF!,\">=20\",#REF!,\"<>임대\")","v":{"$error":"#REF!"}},{"$f":"SUMIFS(#REF!,#REF!,\">\"&$E19,#REF!,\"<=\"&$C19,#REF!,'사용승인별 현황'!O$2,#REF!,\">=20\",#REF!,\"<>임대\")","v":{"$error":"#REF!"}},{"$f":"COUNTIFS(#REF!,\">\"&$E19,#REF!,\"<=\"&$C19,#REF!,'사용승인별 현황'!Q$2,#REF!,\">=20\",#REF!,\"<>임대\")","v":{"$error":"#REF!"}},{"$f":"SUMIFS(#REF!,#REF!,\">\"&$E19,#REF!,\"<=\"&$C19,#REF!,'사용승인별 현황'!Q$2,#REF!,\">=20\",#REF!,\"<>임대\")","v":{"$error":"#REF!"}},{"$f":"COUNTIFS(#REF!,\">\"&$E19,#REF!,\"<=\"&$C19,#REF!,'사용승인별 현황'!S$2,#REF!,\">=20\",#REF!,\"<>임대\")","v":{"$error":"#REF!"}},{"$f":"SUMIFS(#REF!,#REF!,\">\"&$E19,#REF!,\"<=\"&$C19,#REF!,'사용승인별 현황'!S$2,#REF!,\">=20\",#REF!,\"<>임대\")","v":{"$error":"#REF!"}},{"$f":"COUNTIFS(#REF!,\">\"&$E19,#REF!,\"<=\"&$C19,#REF!,'사용승인별 현황'!U$2,#REF!,\">=20\",#REF!,\"<>임대\")","v":{"$error":"#REF!"}},{"$f":"SUMIFS(#REF!,#REF!,\">\"&$E19,#REF!,\"<=\"&$C19,#REF!,'사용승인별 현황'!U$2,#REF!,\">=20\",#REF!,\"<>임대\")","v":{"$error":"#REF!"}},{"$f":"COUNTIFS(#REF!,\">\"&$E19,#REF!,\"<=\"&$C19,#REF!,'사용승인별 현황'!W$2,#REF!,\">=20\",#REF!,\"<>임대\")","v":{"$error":"#REF!"}},{"$f":"SUMIFS(#REF!,#REF!,\">\"&$E19,#REF!,\"<=\"&$C19,#REF!,'사용승인별 현황'!W$2,#REF!,\">=20\",#REF!,\"<>임대\")","v":{"$error":"#REF!"}},{"$f":"COUNTIFS(#REF!,\">\"&$E19,#REF!,\"<=\"&$C19,#REF!,'사용승인별 현황'!Y$2,#REF!,\">=20\",#REF!,\"<>임대\")","v":{"$error":"#REF!"}},{"$f":"SUMIFS(#REF!,#REF!,\">\"&$E19,#REF!,\"<=\"&$C19,#REF!,'사용승인별 현황'!Y$2,#REF!,\">=20\",#REF!,\"<>임대\")","v":{"$error":"#REF!"}},{"$f":"COUNTIFS(#REF!,\">\"&$E19,#REF!,\"<=\"&$C19,#REF!,'사용승인별 현황'!AA$2,#REF!,\">=20\",#REF!,\"<>임대\")","v":{"$error":"#REF!"}},{"$f":"SUMIFS(#REF!,#REF!,\">\"&$E19,#REF!,\"<=\"&$C19,#REF!,'사용승인별 현황'!AA$2,#REF!,\">=20\",#REF!,\"<>임대\")","v":{"$error":"#REF!"}},{"$f":"COUNTIFS(#REF!,\">\"&$E19,#REF!,\"<=\"&$C19,#REF!,'사용승인별 현황'!AC$2,#REF!,\">=20\",#REF!,\"<>임대\")","v":{"$error":"#REF!"}},{"$f":"SUMIFS(#REF!,#REF!,\">\"&$E19,#REF!,\"<=\"&$C19,#REF!,'사용승인별 현황'!AC$2,#REF!,\">=20\",#REF!,\"<>임대\")","v":{"$error":"#REF!"}},{"$f":"COUNTIFS(#REF!,\">\"&$E19,#REF!,\"<=\"&$C19,#REF!,'사용승인별 현황'!AE$2,#REF!,\">=20\",#REF!,\"<>임대\")","v":{"$error":"#REF!"}},{"$f":"SUMIFS(#REF!,#REF!,\">\"&$E19,#REF!,\"<=\"&$C19,#REF!,'사용승인별 현황'!AE$2,#REF!,\">=20\",#REF!,\"<>임대\")","v":{"$error":"#REF!"}},{"$f":"COUNTIFS(#REF!,\">\"&$E19,#REF!,\"<=\"&$C19,#REF!,'사용승인별 현황'!AG$2,#REF!,\">=20\",#REF!,\"<>임대\")","v":{"$error":"#REF!"}},{"$f":"SUMIFS(#REF!,#REF!,\">\"&$E19,#REF!,\"<=\"&$C19,#REF!,'사용승인별 현황'!AG$2,#REF!,\">=20\",#REF!,\"<>임대\")","v":{"$error":"#REF!"}},{"$f":"COUNTIFS(#REF!,\">\"&$E19,#REF!,\"<=\"&$C19,#REF!,'사용승인별 현황'!AI$2,#REF!,\">=20\",#REF!,\"<>임대\")","v":{"$error":"#REF!"}},{"$f":"SUMIFS(#REF!,#REF!,\">\"&$E19,#REF!,\"<=\"&$C19,#REF!,'사용승인별 현황'!AI$2,#REF!,\">=20\",#REF!,\"<>임대\")","v":{"$error":"#REF!"}},{"$f":"COUNTIFS(#REF!,\">\"&$E19,#REF!,\"<=\"&$C19,#REF!,'사용승인별 현황'!AK$2,#REF!,\">=20\",#REF!,\"<>임대\")","v":{"$error":"#REF!"}},{"$f":"SUMIFS(#REF!,#REF!,\">\"&$E19,#REF!,\"<=\"&$C19,#REF!,'사용승인별 현황'!AK$2,#REF!,\">=20\",#REF!,\"<>임대\")","v":{"$error":"#REF!"}},{"$f":"COUNTIFS(#REF!,\">\"&$E19,#REF!,\"<=\"&$C19,#REF!,'사용승인별 현황'!AM$2,#REF!,\">=20\",#REF!,\"<>임대\")","v":{"$error":"#REF!"}},{"$f":"SUMIFS(#REF!,#REF!,\">\"&$E19,#REF!,\"<=\"&$C19,#REF!,'사용승인별 현황'!AM$2,#REF!,\">=20\",#REF!,\"<>임대\")","v":{"$error":"#REF!"}},{"$f":"COUNTIFS(#REF!,\">\"&$E19,#REF!,\"<=\"&$C19,#REF!,'사용승인별 현황'!AO$2,#REF!,\">=20\",#REF!,\"<>임대\")","v":{"$error":"#REF!"}},{"$f":"SUMIFS(#REF!,#REF!,\">\"&$E19,#REF!,\"<=\"&$C19,#REF!,'사용승인별 현황'!AO$2,#REF!,\">=20\",#REF!,\"<>임대\")","v":{"$error":"#REF!"}},{"$f":"COUNTIFS(#REF!,\">\"&$E19,#REF!,\"<=\"&$C19,#REF!,'사용승인별 현황'!AQ$2,#REF!,\">=20\",#REF!,\"<>임대\")","v":{"$error":"#REF!"}},{"$f":"SUMIFS(#REF!,#REF!,\">\"&$E19,#REF!,\"<=\"&$C19,#REF!,'사용승인별 현황'!AQ$2,#REF!,\">=20\",#REF!,\"<>임대\")","v":{"$error":"#REF!"}},{"$f":"COUNTIFS(#REF!,\">\"&$E19,#REF!,\"<=\"&$C19,#REF!,'사용승인별 현황'!AS$2,#REF!,\">=20\",#REF!,\"<>임대\")","v":{"$error":"#REF!"}},{"$f":"SUMIFS(#REF!,#REF!,\">\"&$E19,#REF!,\"<=\"&$C19,#REF!,'사용승인별 현황'!AS$2,#REF!,\">=20\",#REF!,\"<>임대\")","v":{"$error":"#REF!"}},{"$f":"COUNTIFS(#REF!,\">\"&$E19,#REF!,\"<=\"&$C19,#REF!,'사용승인별 현황'!AU$2,#REF!,\">=20\",#REF!,\"<>임대\")","v":{"$error":"#REF!"}},{"$f":"SUMIFS(#REF!,#REF!,\">\"&$E19,#REF!,\"<=\"&$C19,#REF!,'사용승인별 현황'!AU$2,#REF!,\">=20\",#REF!,\"<>임대\")","v":{"$error":"#REF!"}},{"$f":"COUNTIFS(#REF!,\">\"&$E19,#REF!,\"<=\"&$C19,#REF!,'사용승인별 현황'!AW$2,#REF!,\">=20\",#REF!,\"<>임대\")","v":{"$error":"#REF!"}},{"$f":"SUMIFS(#REF!,#REF!,\">\"&$E19,#REF!,\"<=\"&$C19,#REF!,'사용승인별 현황'!AW$2,#REF!,\">=20\",#REF!,\"<>임대\")","v":{"$error":"#REF!"}},{"$f":"COUNTIFS(#REF!,\">\"&$E19,#REF!,\"<=\"&$C19,#REF!,'사용승인별 현황'!AY$2,#REF!,\">=20\",#REF!,\"<>임대\")","v":{"$error":"#REF!"}},{"$f":"SUMIFS(#REF!,#REF!,\">\"&$E19,#REF!,\"<=\"&$C19,#REF!,'사용승인별 현황'!AY$2,#REF!,\">=20\",#REF!,\"<>임대\")","v":{"$error":"#REF!"}},{"$f":"COUNTIFS(#REF!,\">\"&$E19,#REF!,\"<=\"&$C19,#REF!,'사용승인별 현황'!BA$2,#REF!,\">=20\",#REF!,\"<>임대\")","v":{"$error":"#REF!"}},{"$f":"SUMIFS(#REF!,#REF!,\">\"&$E19,#REF!,\"<=\"&$C19,#REF!,'사용승인별 현황'!BA$2,#REF!,\">=20\",#REF!,\"<>임대\")","v":{"$error":"#REF!"}},{"$f":"COUNTIFS(#REF!,\">\"&$E19,#REF!,\"<=\"&$C19,#REF!,'사용승인별 현황'!BC$2,#REF!,\">=20\",#REF!,\"<>임대\")","v":{"$error":"#REF!"}},{"$f":"SUMIFS(#REF!,#REF!,\">\"&$E19,#REF!,\"<=\"&$C19,#REF!,'사용승인별 현황'!BC$2,#REF!,\">=20\",#REF!,\"<>임대\")","v":{"$error":"#REF!"}},{"$f":"COUNTIFS(#REF!,\">\"&$E19,#REF!,\"<=\"&$C19,#REF!,'사용승인별 현황'!BE$2,#REF!,\">=20\",#REF!,\"<>임대\")","v":{"$error":"#REF!"}},{"$f":"SUMIFS(#REF!,#REF!,\">\"&$E19,#REF!,\"<=\"&$C19,#REF!,'사용승인별 현황'!BE$2,#REF!,\">=20\",#REF!,\"<>임대\")","v":{"$error":"#REF!"}}]
[null,75,15707,80,"1938-01-01",{"$f":"COUNTIFS(#REF!,\">\"&$E20,#REF!,\"<=\"&$C20,#REF!,\">=20\",#REF!,\"<>임대\")","v":{"$error":"#REF!"}},{"$f":"SUMIFS(#REF!,#REF!,\">\"&$E20,#REF!,\"<=\"&$C20,#REF!,\">=20\",#REF!,\"<>임대\")","v":{"$error":"#REF!"}},null,{"$f":"COUNTIFS(#REF!,\">\"&$E20,#REF!,\"<=\"&$C20,#REF!,'사용승인별 현황'!I$2,#REF!,\">=20\",#REF!,\"<>임대\")","v":{"$error":"#REF!"}},{"$f":"SUMIFS(#REF!,#REF!,\">\"&$E20,#REF!,\"<=\"&$C20,#REF!,'사용승인별 현황'!I$2,#REF!,\">=20\",#REF!,\"<>임대\")","v":{"$error":"#REF!"}},{"$f":"COUNTIFS(#REF!,\">\"&$E20,#REF!,\"<=\"&$C20,#REF!,'사용승인별 현황'!K$2,#REF!,\">=20\",#REF!,\"<>임대\")","v":{"$error":"#REF!"}},{"$f":"SUMIFS(#REF!,#REF!,\">\"&$E20,#REF!,\"<=\"&$C20,#REF!,'사용승인별 현황'!K$2,#REF!,\">=20\",#REF!,\"<>임대\")","v":{"$error":"#REF!"}},{"$f":"COUNTIFS(#REF!,\">\"&$E20,#REF!,\"<=\"&$C20,#REF!,'사용승인별 현황'!M$2,#REF!,\">=20\",#REF!,\"<>임대\")","v":{"$error":"#REF!"}},{"$f":"SUMIFS(#REF!,#REF!,\">\"&$E20,#REF!,\"<=\"&$C20,#REF!,'사용승인별 현황'!M$2,#REF!,\">=20\",#REF!,\"<>임대\")","v":{"$error":"#REF!"}},{"$f":"COUNTIFS(#REF!,\">\"&$E20,#REF!,\"<=\"&$C20,#REF!,'사용승인별 현황'!O$2,#REF!,\">=20\",#REF!,\"<>임대\")","v":{"$error":"#REF!"}},{"$f":"SUMIFS(#REF!,#REF!,\">\"&$E20,#REF!,\"<=\"&$C20,#REF!,'사용승인별 현황'!O$2,#REF!,\">=20\",#REF!,\"<>임대\")","v":{"$error":"#REF!"}},{"$f":"COUNTIFS(#REF!,\">\"&$E20,#REF!,\"<=\"&$C20,#REF!,'사용승인별 현황'!Q$2,#REF!,\">=20\",#REF!,\"<>임대\")","v":{"$error":"#REF!"}},{"$f":"SUMIFS(#REF!,#REF!,\">\"&$E20,#REF!,\"<=\"&$C20,#REF!,'사용승인별 현황'!Q$2,#REF!,\">=20\",#REF!,\"<>임대\")","v":{"$error":"#REF!"}},{"$f":"COUNTIFS(#REF!,\">\"&$E20,#REF!,\"<=\"&$C20,#REF!,'사용승인별 현황'!S$2,#REF!,\">=20\",#REF!,\"<>임대\")","v":{"$error":"#REF!"}},{"$f":"SUMIFS(#REF!,#REF!,\">\"&$E20,#REF!,\"<=\"&$C20,#REF!,'사용승인별 현황'!S$2,#REF!,\">=20\",#REF!,\"<>임대\")","v":{"$error":"#REF!"}},{"$f":"COUNTIFS(#REF!,\">\"&$E20,#REF!,\"<=\"&$C20,#REF!,'사용승인별 현황'!U$2,#REF!,\">=20\",#REF!,\"<>임대\")","v":{"$error":"#REF!"}},{"$f":"SUMIFS(#REF!,#REF!,\">\"&$E20,#REF!,\"<=\"&$C20,#REF!,'사용승인별 현황'!U$2,#REF!,\">=20\",#REF!,\"<>임대\")","v":{"$error":"#REF!"}},{"$f":"COUNTIFS(#REF!,\">\"&$E20,#REF!,\"<=\"&$C20,#REF!,'사용승인별 현황'!W$2,#REF!,\">=20\",#REF!,\"<>임대\")","v":{"$error":"#REF!"}},{"$f":"SUMIFS(#REF!,#REF!,\">\"&$E20,#REF!,\"<=\"&$C20,#REF!,'사용승인별 현황'!W$2,#REF!,\">=20\",#REF!,\"<>임대\")","v":{"$error":"#REF!"}},{"$f":"COUNTIFS(#REF!,\">\"&$E20,#REF!,\"<=\"&$C20,#REF!,'사용승인별 현황'!Y$2,#REF!,\">=20\",#REF!,\"<>임대\")","v":{"$error":"#REF!"}},{"$f":"SUMIFS(#REF!,#REF!,\">\"&$E20,#REF!,\"<=\"&$C20,#REF!,'사용승인별 현황'!Y$2,#REF!,\">=20\",#REF!,\"<>임대\")","v":{"$error":"#REF!"}},{"$f":"COUNTIFS(#REF!,\">\"&$E20,#REF!,\"<=\"&$C20,#REF!,'사용승인별 현황'!AA$2,#REF!,\">=20\",#REF!,\"<>임대\")","v":{"$error":"#REF!"}},{"$f":"SUMIFS(#REF!,#REF!,\">\"&$E20,#REF!,\"<=\"&$C20,#REF!,'사용승인별 현황'!AA$2,#REF!,\">=20\",#REF!,\"<>임대\")","v":{"$error":"#REF!"}},{"$f":"COUNTIFS(#REF!,\">\"&$E20,#REF!,\"<=\"&$C20,#REF!,'사용승인별 현황'!AC$2,#REF!,\">=20\",#REF!,\"<>임대\")","v":{"$error":"#REF!"}},{"$f":"SUMIFS(#REF!,#REF!,\">\"&$E20,#REF!,\"<=\"&$C20,#REF!,'사용승인별 현황'!AC$2,#REF!,\">=20\",#REF!,\"<>임대\")","v":{"$error":"#REF!"}},{"$f":"COUNTIFS(#REF!,\">\"&$E20,#REF!,\"<=\"&$C20,#REF!,'사용승인별 현황'!AE$2,#REF!,\">=20\",#REF!,\"<>임대\")","v":{"$error":"#REF!"}},{"$f":"SUMIFS(#REF!,#REF!,\">\"&$E20,#REF!,\"<=\"&$C20,#REF!,'사용승인별 현황'!AE$2,#REF!,\">=20\",#REF!,\"<>임대\")","v":{"$error":"#REF!"}},{"$f":"COUNTIFS(#REF!,\">\"&$E20,#REF!,\"<=\"&$C20,#REF!,'사용승인별 현황'!AG$2,#REF!,\">=20\",#REF!,\"<>임대\")","v":{"$error":"#REF!"}},{"$f":"SUMIFS(#REF!,#REF!,\">\"&$E20,#REF!,\"<=\"&$C20,#REF!,'사용승인별 현황'!AG$2,#REF!,\">=20\",#REF!,\"<>임대\")","v":{"$error":"#REF!"}},{"$f":"COUNTIFS(#REF!,\">\"&$E20,#REF!,\"<=\"&$C20,#REF!,'사용승인별 현황'!AI$2,#REF!,\">=20\",#REF!,\"<>임대\")","v":{"$error":"#REF!"}},{"$f":"SUMIFS(#REF!,#REF!,\">\"&$E20,#REF!,\"<=\"&$C20,#REF!,'사용승인별 현황'!AI$2,#REF!,\">=20\",#REF!,\"<>임대\")","v":{"$error":"#REF!"}},{"$f":"COUNTIFS(#REF!,\">\"&$E20,#REF!,\"<=\"&$C20,#REF!,'사용승인별 현황'!AK$2,#REF!,\">=20\",#REF!,\"<>임대\")","v":{"$error":"#REF!"}},{"$f":"SUMIFS(#REF!,#REF!,\">\"&$E20,#REF!,\"<=\"&$C20,#REF!,'사용승인별 현황'!AK$2,#REF!,\">=20\",#REF!,\"<>임대\")","v":{"$error":"#REF!"}},{"$f":"COUNTIFS(#REF!,\">\"&$E20,#REF!,\"<=\"&$C20,#REF!,'사용승인별 현황'!AM$2,#REF!,\">=20\",#REF!,\"<>임대\")","v":{"$error":"#REF!"}},{"$f":"SUMIFS(#REF!,#REF!,\">\"&$E20,#REF!,\"<=\"&$C20,#REF!,'사용승인별 현황'!AM$2,#REF!,\">=20\",#REF!,\"<>임대\")","v":{"$error":"#REF!"}},{"$f":"COUNTIFS(#REF!,\">\"&$E20,#REF!,\"<=\"&$C20,#REF!,'사용승인별 현황'!AO$2,#REF!,\">=20\",#REF!,\"<>임대\")","v":{"$error":"#REF!"}},{"$f":"SUMIFS(#REF!,#REF!,\">\"&$E20,#REF!,\"<=\"&$C20,#REF!,'사용승인별 현황'!AO$2,#REF!,\">=20\",#REF!,\"<>임대\")","v":{"$error":"#REF!"}},{"$f":"COUNTIFS(#REF!,\">\"&$E20,#REF!,\"<=\"&$C20,#REF!,'사용승인별 현황'!AQ$2,#REF!,\">=20\",#REF!,\"<>임대\")","v":{"$error":"#REF!"}},{"$f":"SUMIFS(#REF!,#REF!,\">\"&$E20,#REF!,\"<=\"&$C20,#REF!,'사용승인별 현황'!AQ$2,#REF!,\">=20\",#REF!,\"<>임대\")","v":{"$error":"#REF!"}},{"$f":"COUNTIFS(#REF!,\">\"&$E20,#REF!,\"<=\"&$C20,#REF!,'사용승인별 현황'!AS$2,#REF!,\">=20\",#REF!,\"<>임대\")","v":{"$error":"#REF!"}},{"$f":"SUMIFS(#REF!,#REF!,\">\"&$E20,#REF!,\"<=\"&$C20,#REF!,'사용승인별 현황'!AS$2,#REF!,\">=20\",#REF!,\"<>임대\")","v":{"$error":"#REF!"}},{"$f":"COUNTIFS(#REF!,\">\"&$E20,#REF!,\"<=\"&$C20,#REF!,'사용승인별 현황'!AU$2,#REF!,\">=20\",#REF!,\"<>임대\")","v":{"$error":"#REF!"}},{"$f":"SUMIFS(#REF!,#REF!,\">\"&$E20,#REF!,\"<=\"&$C20,#REF!,'사용승인별 현황'!AU$2,#REF!,\">=20\",#REF!,\"<>임대\")","v":{"$error":"#REF!"}},{"$f":"COUNTIFS(#REF!,\">\"&$E20,#REF!,\"<=\"&$C20,#REF!,'사용승인별 현황'!AW$2,#REF!,\">=20\",#REF!,\"<>임대\")","v":{"$error":"#REF!"}},{"$f":"SUMIFS(#REF!,#REF!,\">\"&$E20,#REF!,\"<=\"&$C20,#REF!,'사용승인별 현황'!AW$2,#REF!,\">=20\",#REF!,\"<>임대\")","v":{"$error":"#REF!"}},{"$f":"COUNTIFS(#REF!,\">\"&$E20,#REF!,\"<=\"&$C20,#REF!,'사용승인별 현황'!AY$2,#REF!,\">=20\",#REF!,\"<>임대\")","v":{"$error":"#REF!"}},{"$f":"SUMIFS(#REF!,#REF!,\">\"&$E20,#REF!,\"<=\"&$C20,#REF!,'사용승인별 현황'!AY$2,#REF!,\">=20\",#REF!,\"<>임대\")","v":{"$error":"#REF!"}},{"$f":"COUNTIFS(#REF!,\">\"&$E20,#REF!,\"<=\"&$C20,#REF!,'사용승인별 현황'!BA$2,#REF!,\">=20\",#REF!,\"<>임대\")","v":{"$error":"#REF!"}},{"$f":"SUMIFS(#REF!,#REF!,\">\"&$E20,#REF!,\"<=\"&$C20,#REF!,'사용승인별 현황'!BA$2,#REF!,\">=20\",#REF!,\"<>임대\")","v":{"$error":"#REF!"}},{"$f":"COUNTIFS(#REF!,\">\"&$E20,#REF!,\"<=\"&$C20,#REF!,'사용승인별 현황'!BC$2,#REF!,\">=20\",#REF!,\"<>임대\")","v":{"$error":"#REF!"}},{"$f":"SUMIFS(#REF!,#REF!,\">\"&$E20,#REF!,\"<=\"&$C20,#REF!,'사용승인별 현황'!BC$2,#REF!,\">=20\",#REF!,\"<>임대\")","v":{"$error":"#REF!"}},{"$f":"COUNTIFS(#REF!,\">\"&$E20,#REF!,\"<=\"&$C20,#REF!,'사용승인별 현황'!BE$2,#REF!,\">=20\",#REF!,\"<>임대\")","v":{"$error":"#REF!"}},{"$f":"SUMIFS(#REF!,#REF!,\">\"&$E20,#REF!,\"<=\"&$C20,#REF!,'사용승인별 현황'!BE$2,#REF!,\">=20\",#REF!,\"<>임대\")","v":{"$error":"#REF!"}}]
[null,80,13881,85,"1933-01-01",{"$f":"COUNTIFS(#REF!,\">\"&$E21,#REF!,\"<=\"&$C21,#REF!,\">=20\",#REF!,\"<>임대\")","v":{"$error":"#REF!"}},{"$f":"SUMIFS(#REF!,#REF!,\">\"&$E21,#REF!,\"<=\"&$C21,#REF!,\">=20\",#REF!,\"<>임대\")","v":{"$error":"#REF!"}},null,{"$f":"COUNTIFS(#REF!,\">\"&$E21,#REF!,\"<=\"&$C21,#REF!,'사용승인별 현황'!I$2,#REF!,\">=20\",#REF!,\"<>임대\")","v":{"$error":"#REF!"}},{"$f":"SUMIFS(#REF!,#REF!,\">\"&$E21,#REF!,\"<=\"&$C21,#REF!,'사용승인별 현황'!I$2,#REF!,\">=20\",#REF!,\"<>임대\")","v":{"$error":"#REF!"}},{"$f":"COUNTIFS(#REF!,\">\"&$E21,#REF!,\"<=\"&$C21,#REF!,'사용승인별 현황'!K$2,#REF!,\">=20\",#REF!,\"<>임대\")","v":{"$error":"#REF!"}},{"$f":"SUMIFS(#REF!,#REF!,\">\"&$E21,#REF!,\"<=\"&$C21,#REF!,'사용승인별 현황'!K$2,#REF!,\">=20\",#REF!,\"<>임대\")","v":{"$error":"#REF!"}},{"$f":"COUNTIFS(#REF!,\">\"&$E21,#REF!,\"<=\"&$C21,#REF!,'사용승인별 현황'!M$2,#REF!,\">=20\",#REF!,\"<>임대\")","v":{"$error":"#REF!"}},{"$f":"SUMIFS(#REF!,#REF!,\">\"&$E21,#REF!,\"<=\"&$C21,#REF!,'사용승인별 현황'!M$2,#REF!,\">=20\",#REF!,\"<>임대\")","v":{"$error":"#REF!"}},{"$f":"COUNTIFS(#REF!,\">\"&$E21,#REF!,\"<=\"&$C21,#REF!,'사용승인별 현황'!O$2,#REF!,\">=20\",#REF!,\"<>임대\")","v":{"$error":"#REF!"}},{"$f":"SUMIFS(#REF!,#REF!,\">\"&$E21,#REF!,\"<=\"&$C21,#REF!,'사용승인별 현황'!O$2,#REF!,\">=20\",#REF!,\"<>임대\")","v":{"$error":"#REF!"}},{"$f":"COUNTIFS(#REF!,\">\"&$E21,#REF!,\"<=\"&$C21,#REF!,'사용승인별 현황'!Q$2,#REF!,\">=20\",#REF!,\"<>임대\")","v":{"$error":"#REF!"}},{"$f":"SUMIFS(#REF!,#REF!,\">\"&$E21,#REF!,\"<=\"&$C21,#REF!,'사용승인별 현황'!Q$2,#REF!,\">=20\",#REF!,\"<>임대\")","v":{"$error":"#REF!"}},{"$f":"COUNTIFS(#REF!,\">\"&$E21,#REF!,\"<=\"&$C21,#REF!,'사용승인별 현황'!S$2,#REF!,\">=20\",#REF!,\"<>임대\")","v":{"$error":"#REF!"}},{"$f":"SUMIFS(#REF!,#REF!,\">\"&$E21,#REF!,\"<=\"&$C21,#REF!,'사용승인별 현황'!S$2,#REF!,\">=20\",#REF!,\"<>임대\")","v":{"$error":"#REF!"}},{"$f":"COUNTIFS(#REF!,\">\"&$E21,#REF!,\"<=\"&$C21,#REF!,'사용승인별 현황'!U$2,#REF!,\">=20\",#REF!,\"<>임대\")","v":{"$error":"#REF!"}},{"$f":"SUMIFS(#REF!,#REF!,\">\"&$E21,#REF!,\"<=\"&$C21,#REF!,'사용승인별 현황'!U$2,#REF!,\">=20\",#REF!,\"<>임대\")","v":{"$error":"#REF!"}},{"$f":"COUNTIFS(#REF!,\">\"&$E21,#REF!,\"<=\"&$C21,#REF!,'사용승인별 현황'!W$2,#REF!,\">=20\",#REF!,\"<>임대\")","v":{"$error":"#REF!"}},{"$f":"SUMIFS(#REF!,#REF!,\">\"&$E21,#REF!,\"<=\"&$C21,#REF!,'사용승인별 현황'!W$2,#REF!,\">=20\",#REF!,\"<>임대\")","v":{"$error":"#REF!"}},{"$f":"COUNTIFS(#REF!,\">\"&$E21,#REF!,\"<=\"&$C21,#REF!,'사용승인별 현황'!Y$2,#REF!,\">=20\",#REF!,\"<>임대\")","v":{"$error":"#REF!"}},{"$f":"SUMIFS(#REF!,#REF!,\">\"&$E21,#REF!,\"<=\"&$C21,#REF!,'사용승인별 현황'!Y$2,#REF!,\">=20\",#REF!,\"<>임대\")","v":{"$error":"#REF!"}},{"$f":"COUNTIFS(#REF!,\">\"&$E21,#REF!,\"<=\"&$C21,#REF!,'사용승인별 현황'!AA$2,#REF!,\">=20\",#REF!,\"<>임대\")","v":{"$error":"#REF!"}},{"$f":"SUMIFS(#REF!,#REF!,\">\"&$E21,#REF!,\"<=\"&$C21,#REF!,'사용승인별 현황'!AA$2,#REF!,\">=20\",#REF!,\"<>임대\")","v":{"$error":"#REF!"}},{"$f":"COUNTIFS(#REF!,\">\"&$E21,#REF!,\"<=\"&$C21,#REF!,'사용승인별 현황'!AC$2,#REF!,\">=20\",#REF!,\"<>임대\")","v":{"$error":"#REF!"}},{"$f":"SUMIFS(#REF!,#REF!,\">\"&$E21,#REF!,\"<=\"&$C21,#REF!,'사용승인별 현황'!AC$2,#REF!,\">=20\",#REF!,\"<>임대\")","v":{"$error":"#REF!"}},{"$f":"COUNTIFS(#REF!,\">\"&$E21,#REF!,\"<=\"&$C21,#REF!,'사용승인별 현황'!AE$2,#REF!,\">=20\",#REF!,\"<>임대\")","v":{"$error":"#REF!"}},{"$f":"SUMIFS(#REF!,#REF!,\">\"&$E21,#REF!,\"<=\"&$C21,#REF!,'사용승인별 현황'!AE$2,#REF!,\">=20\",#REF!,\"<>임대\")","v":{"$error":"#REF!"}},{"$f":"COUNTIFS(#REF!,\">\"&$E21,#REF!,\"<=\"&$C21,#REF!,'사용승인별 현황'!AG$2,#REF!,\">=20\",#REF!,\"<>임대\")","v":{"$error":"#REF!"}},{"$f":"SUMIFS(#REF!,#REF!,\">\"&$E21,#REF!,\"<=\"&$C21,#REF!,'사용승인별 현황'!AG$2,#REF!,\">=20\",#REF!,\"<>임대\")","v":{"$error":"#REF!"}},{"$f":"COUNTIFS(#REF!,\">\"&$E21,#REF!,\"<=\"&$C21,#REF!,'사용승인별 현황'!AI$2,#REF!,\">=20\",#REF!,\"<>임대\")","v":{"$error":"#REF!"}},{"$f":"SUMIFS(#REF!,#REF!,\">\"&$E21,#REF!,\"<=\"&$C21,#REF!,'사용승인별 현황'!AI$2,#REF!,\">=20\",#REF!,\"<>임대\")","v":{"$error":"#REF!"}},{"$f":"COUNTIFS(#REF!,\">\"&$E21,#REF!,\"<=\"&$C21,#REF!,'사용승인별 현황'!AK$2,#REF!,\">=20\",#REF!,\"<>임대\")","v":{"$error":"#REF!"}},{"$f":"SUMIFS(#REF!,#REF!,\">\"&$E21,#REF!,\"<=\"&$C21,#REF!,'사용승인별 현황'!AK$2,#REF!,\">=20\",#REF!,\"<>임대\")","v":{"$error":"#REF!"}},{"$f":"COUNTIFS(#REF!,\">\"&$E21,#REF!,\"<=\"&$C21,#REF!,'사용승인별 현황'!AM$2,#REF!,\">=20\",#REF!,\"<>임대\")","v":{"$error":"#REF!"}},{"$f":"SUMIFS(#REF!,#REF!,\">\"&$E21,#REF!,\"<=\"&$C21,#REF!,'사용승인별 현황'!AM$2,#REF!,\">=20\",#REF!,\"<>임대\")","v":{"$error":"#REF!"}},{"$f":"COUNTIFS(#REF!,\">\"&$E21,#REF!,\"<=\"&$C21,#REF!,'사용승인별 현황'!AO$2,#REF!,\">=20\",#REF!,\"<>임대\")","v":{"$error":"#REF!"}},{"$f":"SUMIFS(#REF!,#REF!,\">\"&$E21,#REF!,\"<=\"&$C21,#REF!,'사용승인별 현황'!AO$2,#REF!,\">=20\",#REF!,\"<>임대\")","v":{"$error":"#REF!"}},{"$f":"COUNTIFS(#REF!,\">\"&$E21,#REF!,\"<=\"&$C21,#REF!,'사용승인별 현황'!AQ$2,#REF!,\">=20\",#REF!,\"<>임대\")","v":{"$error":"#REF!"}},{"$f":"SUMIFS(#REF!,#REF!,\">\"&$E21,#REF!,\"<=\"&$C21,#REF!,'사용승인별 현황'!AQ$2,#REF!,\">=20\",#REF!,\"<>임대\")","v":{"$error":"#REF!"}},{"$f":"COUNTIFS(#REF!,\">\"&$E21,#REF!,\"<=\"&$C21,#REF!,'사용승인별 현황'!AS$2,#REF!,\">=20\",#REF!,\"<>임대\")","v":{"$error":"#REF!"}},{"$f":"SUMIFS(#REF!,#REF!,\">\"&$E21,#REF!,\"<=\"&$C21,#REF!,'사용승인별 현황'!AS$2,#REF!,\">=20\",#REF!,\"<>임대\")","v":{"$error":"#REF!"}},{"$f":"COUNTIFS(#REF!,\">\"&$E21,#REF!,\"<=\"&$C21,#REF!,'사용승인별 현황'!AU$2,#REF!,\">=20\",#REF!,\"<>임대\")","v":{"$error":"#REF!"}},{"$f":"SUMIFS(#REF!,#REF!,\">\"&$E21,#REF!,\"<=\"&$C21,#REF!,'사용승인별 현황'!AU$2,#REF!,\">=20\",#REF!,\"<>임대\")","v":{"$error":"#REF!"}},{"$f":"COUNTIFS(#REF!,\">\"&$E21,#REF!,\"<=\"&$C21,#REF!,'사용승인별 현황'!AW$2,#REF!,\">=20\",#REF!,\"<>임대\")","v":{"$error":"#REF!"}},{"$f":"SUMIFS(#REF!,#REF!,\">\"&$E21,#REF!,\"<=\"&$C21,#REF!,'사용승인별 현황'!AW$2,#REF!,\">=20\",#REF!,\"<>임대\")","v":{"$error":"#REF!"}},{"$f":"COUNTIFS(#REF!,\">\"&$E21,#REF!,\"<=\"&$C21,#REF!,'사용승인별 현황'!AY$2,#REF!,\">=20\",#REF!,\"<>임대\")","v":{"$error":"#REF!"}},{"$f":"SUMIFS(#REF!,#REF!,\">\"&$E21,#REF!,\"<=\"&$C21,#REF!,'사용승인별 현황'!AY$2,#REF!,\">=20\",#REF!,\"<>임대\")","v":{"$error":"#REF!"}},{"$f":"COUNTIFS(#REF!,\">\"&$E21,#REF!,\"<=\"&$C21,#REF!,'사용승인별 현황'!BA$2,#REF!,\">=20\",#REF!,\"<>임대\")","v":{"$error":"#REF!"}},{"$f":"SUMIFS(#REF!,#REF!,\">\"&$E21,#REF!,\"<=\"&$C21,#REF!,'사용승인별 현황'!BA$2,#REF!,\">=20\",#REF!,\"<>임대\")","v":{"$error":"#REF!"}},{"$f":"COUNTIFS(#REF!,\">\"&$E21,#REF!,\"<=\"&$C21,#REF!,'사용승인별 현황'!BC$2,#REF!,\">=20\",#REF!,\"<>임대\")","v":{"$error":"#REF!"}},{"$f":"SUMIFS(#REF!,#REF!,\">\"&$E21,#REF!,\"<=\"&$C21,#REF!,'사용승인별 현황'!BC$2,#REF!,\">=20\",#REF!,\"<>임대\")","v":{"$error":"#REF!"}},{"$f":"COUNTIFS(#REF!,\">\"&$E21,#REF!,\"<=\"&$C21,#REF!,'사용승인별 현황'!BE$2,#REF!,\">=20\",#REF!,\"<>임대\")","v":{"$error":"#REF!"}},{"$f":"SUMIFS(#REF!,#REF!,\">\"&$E21,#REF!,\"<=\"&$C21,#REF!,'사용승인별 현황'!BE$2,#REF!,\">=20\",#REF!,\"<>임대\")","v":{"$error":"#REF!"}}]
[null,85,12055,90,"1928-01-01",{"$f":"COUNTIFS(#REF!,\">\"&$E22,#REF!,\"<=\"&$C22,#REF!,\">=20\",#REF!,\"<>임대\")","v":{"$error":"#REF!"}},{"$f":"SUMIFS(#REF!,#REF!,\">\"&$E22,#REF!,\"<=\"&$C22,#REF!,\">=20\",#REF!,\"<>임대\")","v":{"$error":"#REF!"}},null,{"$f":"COUNTIFS(#REF!,\">\"&$E22,#REF!,\"<=\"&$C22,#REF!,'사용승인별 현황'!I$2,#REF!,\">=20\",#REF!,\"<>임대\")","v":{"$error":"#REF!"}},{"$f":"SUMIFS(#REF!,#REF!,\">\"&$E22,#REF!,\"<=\"&$C22,#REF!,'사용승인별 현황'!I$2,#REF!,\">=20\",#REF!,\"<>임대\")","v":{"$error":"#REF!"}},{"$f":"COUNTIFS(#REF!,\">\"&$E22,#REF!,\"<=\"&$C22,#REF!,'사용승인별 현황'!K$2,#REF!,\">=20\",#REF!,\"<>임대\")","v":{"$error":"#REF!"}},{"$f":"SUMIFS(#REF!,#REF!,\">\"&$E22,#REF!,\"<=\"&$C22,#REF!,'사용승인별 현황'!K$2,#REF!,\">=20\",#REF!,\"<>임대\")","v":{"$error":"#REF!"}},{"$f":"COUNTIFS(#REF!,\">\"&$E22,#REF!,\"<=\"&$C22,#REF!,'사용승인별 현황'!M$2,#REF!,\">=20\",#REF!,\"<>임대\")","v":{"$error":"#REF!"}},{"$f":"SUMIFS(#REF!,#REF!,\">\"&$E22,#REF!,\"<=\"&$C22,#REF!,'사용승인별 현황'!M$2,#REF!,\">=20\",#REF!,\"<>임대\")","v":{"$error":"#REF!"}},{"$f":"COUNTIFS(#REF!,\">\"&$E22,#REF!,\"<=\"&$C22,#REF!,'사용승인별 현황'!O$2,#REF!,\">=20\",#REF!,\"<>임대\")","v":{"$error":"#REF!"}},{"$f":"SUMIFS(#REF!,#REF!,\">\"&$E22,#REF!,\"<=\"&$C22,#REF!,'사용승인별 현황'!O$2,#REF!,\">=20\",#REF!,\"<>임대\")","v":{"$error":"#REF!"}},{"$f":"COUNTIFS(#REF!,\">\"&$E22,#REF!,\"<=\"&$C22,#REF!,'사용승인별 현황'!Q$2,#REF!,\">=20\",#REF!,\"<>임대\")","v":{"$error":"#REF!"}},{"$f":"SUMIFS(#REF!,#REF!,\">\"&$E22,#REF!,\"<=\"&$C22,#REF!,'사용승인별 현황'!Q$2,#REF!,\">=20\",#REF!,\"<>임대\")","v":{"$error":"#REF!"}},{"$f":"COUNTIFS(#REF!,\">\"&$E22,#REF!,\"<=\"&$C22,#REF!,'사용승인별 현황'!S$2,#REF!,\">=20\",#REF!,\"<>임대\")","v":{"$error":"#REF!"}},{"$f":"SUMIFS(#REF!,#REF!,\">\"&$E22,#REF!,\"<=\"&$C22,#REF!,'사용승인별 현황'!S$2,#REF!,\">=20\",#REF!,\"<>임대\")","v":{"$error":"#REF!"}},{"$f":"COUNTIFS(#REF!,\">\"&$E22,#REF!,\"<=\"&$C22,#REF!,'사용승인별 현황'!U$2,#REF!,\">=20\",#REF!,\"<>임대\")","v":{"$error":"#REF!"}},{"$f":"SUMIFS(#REF!,#REF!,\">\"&$E22,#REF!,\"<=\"&$C22,#REF!,'사용승인별 현황'!U$2,#REF!,\">=20\",#REF!,\"<>임대\")","v":{"$error":"#REF!"}},{"$f":"COUNTIFS(#REF!,\">\"&$E22,#REF!,\"<=\"&$C22,#REF!,'사용승인별 현황'!W$2,#REF!,\">=20\",#REF!,\"<>임대\")","v":{"$error":"#REF!"}},{"$f":"SUMIFS(#REF!,#REF!,\">\"&$E22,#REF!,\"<=\"&$C22,#REF!,'사용승인별 현황'!W$2,#REF!,\">=20\",#REF!,\"<>임대\")","v":{"$error":"#REF!"}},{"$f":"COUNTIFS(#REF!,\">\"&$E22,#REF!,\"<=\"&$C22,#REF!,'사용승인별 현황'!Y$2,#REF!,\">=20\",#REF!,\"<>임대\")","v":{"$error":"#REF!"}},{"$f":"SUMIFS(#REF!,#REF!,\">\"&$E22,#REF!,\"<=\"&$C22,#REF!,'사용승인별 현황'!Y$2,#REF!,\">=20\",#REF!,\"<>임대\")","v":{"$error":"#REF!"}},{"$f":"COUNTIFS(#REF!,\">\"&$E22,#REF!,\"<=\"&$C22,#REF!,'사용승인별 현황'!AA$2,#REF!,\">=20\",#REF!,\"<>임대\")","v":{"$error":"#REF!"}},{"$f":"SUMIFS(#REF!,#REF!,\">\"&$E22,#REF!,\"<=\"&$C22,#REF!,'사용승인별 현황'!AA$2,#REF!,\">=20\",#REF!,\"<>임대\")","v":{"$error":"#REF!"}},{"$f":"COUNTIFS(#REF!,\">\"&$E22,#REF!,\"<=\"&$C22,#REF!,'사용승인별 현황'!AC$2,#REF!,\">=20\",#REF!,\"<>임대\")","v":{"$error":"#REF!"}},{"$f":"SUMIFS(#REF!,#REF!,\">\"&$E22,#REF!,\"<=\"&$C22,#REF!,'사용승인별 현황'!AC$2,#REF!,\">=20\",#REF!,\"<>임대\")","v":{"$error":"#REF!"}},{"$f":"COUNTIFS(#REF!,\">\"&$E22,#REF!,\"<=\"&$C22,#REF!,'사용승인별 현황'!AE$2,#REF!,\">=20\",#REF!,\"<>임대\")","v":{"$error":"#REF!"}},{"$f":"SUMIFS(#REF!,#REF!,\">\"&$E22,#REF!,\"<=\"&$C22,#REF!,'사용승인별 현황'!AE$2,#REF!,\">=20\",#REF!,\"<>임대\")","v":{"$error":"#REF!"}},{"$f":"COUNTIFS(#REF!,\">\"&$E22,#REF!,\"<=\"&$C22,#REF!,'사용승인별 현황'!AG$2,#REF!,\">=20\",#REF!,\"<>임대\")","v":{"$error":"#REF!"}},{"$f":"SUMIFS(#REF!,#REF!,\">\"&$E22,#REF!,\"<=\"&$C22,#REF!,'사용승인별 현황'!AG$2,#REF!,\">=20\",#REF!,\"<>임대\")","v":{"$error":"#REF!"}},{"$f":"COUNTIFS(#REF!,\">\"&$E22,#REF!,\"<=\"&$C22,#REF!,'사용승인별 현황'!AI$2,#REF!,\">=20\",#REF!,\"<>임대\")","v":{"$error":"#REF!"}},{"$f":"SUMIFS(#REF!,#REF!,\">\"&$E22,#REF!,\"<=\"&$C22,#REF!,'사용승인별 현황'!AI$2,#REF!,\">=20\",#REF!,\"<>임대\")","v":{"$error":"#REF!"}},{"$f":"COUNTIFS(#REF!,\">\"&$E22,#REF!,\"<=\"&$C22,#REF!,'사용승인별 현황'!AK$2,#REF!,\">=20\",#REF!,\"<>임대\")","v":{"$error":"#REF!"}},{"$f":"SUMIFS(#REF!,#REF!,\">\"&$E22,#REF!,\"<=\"&$C22,#REF!,'사용승인별 현황'!AK$2,#REF!,\">=20\",#REF!,\"<>임대\")","v":{"$error":"#REF!"}},{"$f":"COUNTIFS(#REF!,\">\"&$E22,#REF!,\"<=\"&$C22,#REF!,'사용승인별 현황'!AM$2,#REF!,\">=20\",#REF!,\"<>임대\")","v":{"$error":"#REF!"}},{"$f":"SUMIFS(#REF!,#REF!,\">\"&$E22,#REF!,\"<=\"&$C22,#REF!,'사용승인별 현황'!AM$2,#REF!,\">=20\",#REF!,\"<>임대\")","v":{"$error":"#REF!"}},{"$f":"COUNTIFS(#REF!,\">\"&$E22,#REF!,\"<=\"&$C22,#REF!,'사용승인별 현황'!AO$2,#REF!,\">=20\",#REF!,\"<>임대\")","v":{"$error":"#REF!"}},{"$f":"SUMIFS(#REF!,#REF!,\">\"&$E22,#REF!,\"<=\"&$C22,#REF!,'사용승인별 현황'!AO$2,#REF!,\">=20\",#REF!,\"<>임대\")","v":{"$error":"#REF!"}},{"$f":"COUNTIFS(#REF!,\">\"&$E22,#REF!,\"<=\"&$C22,#REF!,'사용승인별 현황'!AQ$2,#REF!,\">=20\",#REF!,\"<>임대\")","v":{"$error":"#REF!"}},{"$f":"SUMIFS(#REF!,#REF!,\">\"&$E22,#REF!,\"<=\"&$C22,#REF!,'사용승인별 현황'!AQ$2,#REF!,\">=20\",#REF!,\"<>임대\")","v":{"$error":"#REF!"}},{"$f":"COUNTIFS(#REF!,\">\"&$E22,#REF!,\"<=\"&$C22,#REF!,'사용승인별 현황'!AS$2,#REF!,\">=20\",#REF!,\"<>임대\")","v":{"$error":"#REF!"}},{"$f":"SUMIFS(#REF!,#REF!,\">\"&$E22,#REF!,\"<=\"&$C22,#REF!,'사용승인별 현황'!AS$2,#REF!,\">=20\",#REF!,\"<>임대\")","v":{"$error":"#REF!"}},{"$f":"COUNTIFS(#REF!,\">\"&$E22,#REF!,\"<=\"&$C22,#REF!,'사용승인별 현황'!AU$2,#REF!,\">=20\",#REF!,\"<>임대\")","v":{"$error":"#REF!"}},{"$f":"SUMIFS(#REF!,#REF!,\">\"&$E22,#REF!,\"<=\"&$C22,#REF!,'사용승인별 현황'!AU$2,#REF!,\">=20\",#REF!,\"<>임대\")","v":{"$error":"#REF!"}},{"$f":"COUNTIFS(#REF!,\">\"&$E22,#REF!,\"<=\"&$C22,#REF!,'사용승인별 현황'!AW$2,#REF!,\">=20\",#REF!,\"<>임대\")","v":{"$error":"#REF!"}},{"$f":"SUMIFS(#REF!,#REF!,\">\"&$E22,#REF!,\"<=\"&$C22,#REF!,'사용승인별 현황'!AW$2,#REF!,\">=20\",#REF!,\"<>임대\")","v":{"$error":"#REF!"}},{"$f":"COUNTIFS(#REF!,\">\"&$E22,#REF!,\"<=\"&$C22,#REF!,'사용승인별 현황'!AY$2,#REF!,\">=20\",#REF!,\"<>임대\")","v":{"$error":"#REF!"}},{"$f":"SUMIFS(#REF!,#REF!,\">\"&$E22,#REF!,\"<=\"&$C22,#REF!,'사용승인별 현황'!AY$2,#REF!,\">=20\",#REF!,\"<>임대\")","v":{"$error":"#REF!"}},{"$f":"COUNTIFS(#REF!,\">\"&$E22,#REF!,\"<=\"&$C22,#REF!,'사용승인별 현황'!BA$2,#REF!,\">=20\",#REF!,\"<>임대\")","v":{"$error":"#REF!"}},{"$f":"SUMIFS(#REF!,#REF!,\">\"&$E22,#REF!,\"<=\"&$C22,#REF!,'사용승인별 현황'!BA$2,#REF!,\">=20\",#REF!,\"<>임대\")","v":{"$error":"#REF!"}},{"$f":"COUNTIFS(#REF!,\">\"&$E22,#REF!,\"<=\"&$C22,#REF!,'사용승인별 현황'!BC$2,#REF!,\">=20\",#REF!,\"<>임대\")","v":{"$error":"#REF!"}},{"$f":"SUMIFS(#REF!,#REF!,\">\"&$E22,#REF!,\"<=\"&$C22,#REF!,'사용승인별 현황'!BC$2,#REF!,\">=20\",#REF!,\"<>임대\")","v":{"$error":"#REF!"}},{"$f":"COUNTIFS(#REF!,\">\"&$E22,#REF!,\"<=\"&$C22,#REF!,'사용승인별 현황'!BE$2,#REF!,\">=20\",#REF!,\"<>임대\")","v":{"$error":"#REF!"}},{"$f":"SUMIFS(#REF!,#REF!,\">\"&$E22,#REF!,\"<=\"&$C22,#REF!,'사용승인별 현황'!BE$2,#REF!,\">=20\",#REF!,\"<>임대\")","v":{"$error":"#REF!"}}]
[null,90,10228,95,"1923-01-01",{"$f":"COUNTIFS(#REF!,\">\"&$E23,#REF!,\"<=\"&$C23,#REF!,\">=20\",#REF!,\"<>임대\")","v":{"$error":"#REF!"}},{"$f":"SUMIFS(#REF!,#REF!,\">\"&$E23,#REF!,\"<=\"&$C23,#REF!,\">=20\",#REF!,\"<>임대\")","v":{"$error":"#REF!"}},null,{"$f":"COUNTIFS(#REF!,\">\"&$E23,#REF!,\"<=\"&$C23,#REF!,'사용승인별 현황'!I$2,#REF!,\">=20\",#REF!,\"<>임대\")","v":{"$error":"#REF!"}},{"$f":"SUMIFS(#REF!,#REF!,\">\"&$E23,#REF!,\"<=\"&$C23,#REF!,'사용승인별 현황'!I$2,#REF!,\">=20\",#REF!,\"<>임대\")","v":{"$error":"#REF!"}},{"$f":"COUNTIFS(#REF!,\">\"&$E23,#REF!,\"<=\"&$C23,#REF!,'사용승인별 현황'!K$2,#REF!,\">=20\",#REF!,\"<>임대\")","v":{"$error":"#REF!"}},{"$f":"SUMIFS(#REF!,#REF!,\">\"&$E23,#REF!,\"<=\"&$C23,#REF!,'사용승인별 현황'!K$2,#REF!,\">=20\",#REF!,\"<>임대\")","v":{"$error":"#REF!"}},{"$f":"COUNTIFS(#REF!,\">\"&$E23,#REF!,\"<=\"&$C23,#REF!,'사용승인별 현황'!M$2,#REF!,\">=20\",#REF!,\"<>임대\")","v":{"$error":"#REF!"}},{"$f":"SUMIFS(#REF!,#REF!,\">\"&$E23,#REF!,\"<=\"&$C23,#REF!,'사용승인별 현황'!M$2,#REF!,\">=20\",#REF!,\"<>임대\")","v":{"$error":"#REF!"}},{"$f":"COUNTIFS(#REF!,\">\"&$E23,#REF!,\"<=\"&$C23,#REF!,'사용승인별 현황'!O$2,#REF!,\">=20\",#REF!,\"<>임대\")","v":{"$error":"#REF!"}},{"$f":"SUMIFS(#REF!,#REF!,\">\"&$E23,#REF!,\"<=\"&$C23,#REF!,'사용승인별 현황'!O$2,#REF!,\">=20\",#REF!,\"<>임대\")","v":{"$error":"#REF!"}},{"$f":"COUNTIFS(#REF!,\">\"&$E23,#REF!,\"<=\"&$C23,#REF!,'사용승인별 현황'!Q$2,#REF!,\">=20\",#REF!,\"<>임대\")","v":{"$error":"#REF!"}},{"$f":"SUMIFS(#REF!,#REF!,\">\"&$E23,#REF!,\"<=\"&$C23,#REF!,'사용승인별 현황'!Q$2,#REF!,\">=20\",#REF!,\"<>임대\")","v":{"$error":"#REF!"}},{"$f":"COUNTIFS(#REF!,\">\"&$E23,#REF!,\"<=\"&$C23,#REF!,'사용승인별 현황'!S$2,#REF!,\">=20\",#REF!,\"<>임대\")","v":{"$error":"#REF!"}},{"$f":"SUMIFS(#REF!,#REF!,\">\"&$E23,#REF!,\"<=\"&$C23,#REF!,'사용승인별 현황'!S$2,#REF!,\">=20\",#REF!,\"<>임대\")","v":{"$error":"#REF!"}},{"$f":"COUNTIFS(#REF!,\">\"&$E23,#REF!,\"<=\"&$C23,#REF!,'사용승인별 현황'!U$2,#REF!,\">=20\",#REF!,\"<>임대\")","v":{"$error":"#REF!"}},{"$f":"SUMIFS(#REF!,#REF!,\">\"&$E23,#REF!,\"<=\"&$C23,#REF!,'사용승인별 현황'!U$2,#REF!,\">=20\",#REF!,\"<>임대\")","v":{"$error":"#REF!"}},{"$f":"COUNTIFS(#REF!,\">\"&$E23,#REF!,\"<=\"&$C23,#REF!,'사용승인별 현황'!W$2,#REF!,\">=20\",#REF!,\"<>임대\")","v":{"$error":"#REF!"}},{"$f":"SUMIFS(#REF!,#REF!,\">\"&$E23,#REF!,\"<=\"&$C23,#REF!,'사용승인별 현황'!W$2,#REF!,\">=20\",#REF!,\"<>임대\")","v":{"$error":"#REF!"}},{"$f":"COUNTIFS(#REF!,\">\"&$E23,#REF!,\"<=\"&$C23,#REF!,'사용승인별 현황'!Y$2,#REF!,\">=20\",#REF!,\"<>임대\")","v":{"$error":"#REF!"}},{"$f":"SUMIFS(#REF!,#REF!,\">\"&$E23,#REF!,\"<=\"&$C23,#REF!,'사용승인별 현황'!Y$2,#REF!,\">=20\",#REF!,\"<>임대\")","v":{"$error":"#REF!"}},{"$f":"COUNTIFS(#REF!,\">\"&$E23,#REF!,\"<=\"&$C23,#REF!,'사용승인별 현황'!AA$2,#REF!,\">=20\",#REF!,\"<>임대\")","v":{"$error":"#REF!"}},{"$f":"SUMIFS(#REF!,#REF!,\">\"&$E23,#REF!,\"<=\"&$C23,#REF!,'사용승인별 현황'!AA$2,#REF!,\">=20\",#REF!,\"<>임대\")","v":{"$error":"#REF!"}},{"$f":"COUNTIFS(#REF!,\">\"&$E23,#REF!,\"<=\"&$C23,#REF!,'사용승인별 현황'!AC$2,#REF!,\">=20\",#REF!,\"<>임대\")","v":{"$error":"#REF!"}},{"$f":"SUMIFS(#REF!,#REF!,\">\"&$E23,#REF!,\"<=\"&$C23,#REF!,'사용승인별 현황'!AC$2,#REF!,\">=20\",#REF!,\"<>임대\")","v":{"$error":"#REF!"}},{"$f":"COUNTIFS(#REF!,\">\"&$E23,#REF!,\"<=\"&$C23,#REF!,'사용승인별 현황'!AE$2,#REF!,\">=20\",#REF!,\"<>임대\")","v":{"$error":"#REF!"}},{"$f":"SUMIFS(#REF!,#REF!,\">\"&$E23,#REF!,\"<=\"&$C23,#REF!,'사용승인별 현황'!AE$2,#REF!,\">=20\",#REF!,\"<>임대\")","v":{"$error":"#REF!"}},{"$f":"COUNTIFS(#REF!,\">\"&$E23,#REF!,\"<=\"&$C23,#REF!,'사용승인별 현황'!AG$2,#REF!,\">=20\",#REF!,\"<>임대\")","v":{"$error":"#REF!"}},{"$f":"SUMIFS(#REF!,#REF!,\">\"&$E23,#REF!,\"<=\"&$C23,#REF!,'사용승인별 현황'!AG$2,#REF!,\">=20\",#REF!,\"<>임대\")","v":{"$error":"#REF!"}},{"$f":"COUNTIFS(#REF!,\">\"&$E23,#REF!,\"<=\"&$C23,#REF!,'사용승인별 현황'!AI$2,#REF!,\">=20\",#REF!,\"<>임대\")","v":{"$error":"#REF!"}},{"$f":"SUMIFS(#REF!,#REF!,\">\"&$E23,#REF!,\"<=\"&$C23,#REF!,'사용승인별 현황'!AI$2,#REF!,\">=20\",#REF!,\"<>임대\")","v":{"$error":"#REF!"}},{"$f":"COUNTIFS(#REF!,\">\"&$E23,#REF!,\"<=\"&$C23,#REF!,'사용승인별 현황'!AK$2,#REF!,\">=20\",#REF!,\"<>임대\")","v":{"$error":"#REF!"}},{"$f":"SUMIFS(#REF!,#REF!,\">\"&$E23,#REF!,\"<=\"&$C23,#REF!,'사용승인별 현황'!AK$2,#REF!,\">=20\",#REF!,\"<>임대\")","v":{"$error":"#REF!"}},{"$f":"COUNTIFS(#REF!,\">\"&$E23,#REF!,\"<=\"&$C23,#REF!,'사용승인별 현황'!AM$2,#REF!,\">=20\",#REF!,\"<>임대\")","v":{"$error":"#REF!"}},{"$f":"SUMIFS(#REF!,#REF!,\">\"&$E23,#REF!,\"<=\"&$C23,#REF!,'사용승인별 현황'!AM$2,#REF!,\">=20\",#REF!,\"<>임대\")","v":{"$error":"#REF!"}},{"$f":"COUNTIFS(#REF!,\">\"&$E23,#REF!,\"<=\"&$C23,#REF!,'사용승인별 현황'!AO$2,#REF!,\">=20\",#REF!,\"<>임대\")","v":{"$error":"#REF!"}},{"$f":"SUMIFS(#REF!,#REF!,\">\"&$E23,#REF!,\"<=\"&$C23,#REF!,'사용승인별 현황'!AO$2,#REF!,\">=20\",#REF!,\"<>임대\")","v":{"$error":"#REF!"}},{"$f":"COUNTIFS(#REF!,\">\"&$E23,#REF!,\"<=\"&$C23,#REF!,'사용승인별 현황'!AQ$2,#REF!,\">=20\",#REF!,\"<>임대\")","v":{"$error":"#REF!"}},{"$f":"SUMIFS(#REF!,#REF!,\">\"&$E23,#REF!,\"<=\"&$C23,#REF!,'사용승인별 현황'!AQ$2,#REF!,\">=20\",#REF!,\"<>임대\")","v":{"$error":"#REF!"}},{"$f":"COUNTIFS(#REF!,\">\"&$E23,#REF!,\"<=\"&$C23,#REF!,'사용승인별 현황'!AS$2,#REF!,\">=20\",#REF!,\"<>임대\")","v":{"$error":"#REF!"}},{"$f":"SUMIFS(#REF!,#REF!,\">\"&$E23,#REF!,\"<=\"&$C23,#REF!,'사용승인별 현황'!AS$2,#REF!,\">=20\",#REF!,\"<>임대\")","v":{"$error":"#REF!"}},{"$f":"COUNTIFS(#REF!,\">\"&$E23,#REF!,\"<=\"&$C23,#REF!,'사용승인별 현황'!AU$2,#REF!,\">=20\",#REF!,\"<>임대\")","v":{"$error":"#REF!"}},{"$f":"SUMIFS(#REF!,#REF!,\">\"&$E23,#REF!,\"<=\"&$C23,#REF!,'사용승인별 현황'!AU$2,#REF!,\">=20\",#REF!,\"<>임대\")","v":{"$error":"#REF!"}},{"$f":"COUNTIFS(#REF!,\">\"&$E23,#REF!,\"<=\"&$C23,#REF!,'사용승인별 현황'!AW$2,#REF!,\">=20\",#REF!,\"<>임대\")","v":{"$error":"#REF!"}},{"$f":"SUMIFS(#REF!,#REF!,\">\"&$E23,#REF!,\"<=\"&$C23,#REF!,'사용승인별 현황'!AW$2,#REF!,\">=20\",#REF!,\"<>임대\")","v":{"$error":"#REF!"}},{"$f":"COUNTIFS(#REF!,\">\"&$E23,#REF!,\"<=\"&$C23,#REF!,'사용승인별 현황'!AY$2,#REF!,\">=20\",#REF!,\"<>임대\")","v":{"$error":"#REF!"}},{"$f":"SUMIFS(#REF!,#REF!,\">\"&$E23,#REF!,\"<=\"&$C23,#REF!,'사용승인별 현황'!AY$2,#REF!,\">=20\",#REF!,\"<>임대\")","v":{"$error":"#REF!"}},{"$f":"COUNTIFS(#REF!,\">\"&$E23,#REF!,\"<=\"&$C23,#REF!,'사용승인별 현황'!BA$2,#REF!,\">=20\",#REF!,\"<>임대\")","v":{"$error":"#REF!"}},{"$f":"SUMIFS(#REF!,#REF!,\">\"&$E23,#REF!,\"<=\"&$C23,#REF!,'사용승인별 현황'!BA$2,#REF!,\">=20\",#REF!,\"<>임대\")","v":{"$error":"#REF!"}},{"$f":"COUNTIFS(#REF!,\">\"&$E23,#REF!,\"<=\"&$C23,#REF!,'사용승인별 현황'!BC$2,#REF!,\">=20\",#REF!,\"<>임대\")","v":{"$error":"#REF!"}},{"$f":"SUMIFS(#REF!,#REF!,\">\"&$E23,#REF!,\"<=\"&$C23,#REF!,'사용승인별 현황'!BC$2,#REF!,\">=20\",#REF!,\"<>임대\")","v":{"$error":"#REF!"}},{"$f":"COUNTIFS(#REF!,\">\"&$E23,#REF!,\"<=\"&$C23,#REF!,'사용승인별 현황'!BE$2,#REF!,\">=20\",#REF!,\"<>임대\")","v":{"$error":"#REF!"}},{"$f":"SUMIFS(#REF!,#REF!,\">\"&$E23,#REF!,\"<=\"&$C23,#REF!,'사용승인별 현황'!BE$2,#REF!,\">=20\",#REF!,\"<>임대\")","v":{"$error":"#REF!"}}]
[]
[null," 1. 임대단지 제외"]
[null," 2. 20세대 이상 단지만 해당"]

{"sheet":"총괄표","index":1,"n_rows":37,"n_cols":23,"rows_kept":37,"cut":false,"hidden":false,"merged":[[36,2,45,12],[5,2,9,2],[10,2,14,2],[2,1,4,1],[2,3,4,3],[2,4,4,4],[2,5,4,5],[5,1,8,1],[2,2,4,2],[3,7,3,9],[3,10,4,10],[3,11,4,11],[3,12,4,12],[15,2,19,2],[20,2,24,2],[25,2,29,2],[30,2,34,2],[3,22,4,22],[2,7,2,15],[2,16,2,22],[2,6,4,6],[3,15,4,15],[3,16,3,18],[3,13,4,13],[3,14,4,14],[3,19,4,19],[3,20,4,20],[3,21,4,21]]}
[null,null,"  대전시 공동주택(분양) 현황 2024. 6. 30.기준"]
[]
[null,"구분","구분","유형","단지수","동수","세대수\n(A)","의무관리대상 단지수",{"$nulls":8},"임의관리대상 단지수"]
[{"$nulls":7},"소        계",null,null,"3,000세대이상","2,000세대이상\n3,000세대미만","1,000세대이상\n2,000세대미만","500세대이상\n1,000세대미만","300세대이상\n500세대미만","300세대미만","소          계",null,null,"150세대이상","100세대이상\n150세대미만","50세대이상\n100세대미만","50세대미만"]
[{"$nulls":7},"단지수","동수","세대수(A1)",{"$nulls":6},"단지수","동수","세대수(A2)"]
[null,"총  계 ","총  계 ","계",{"$f":"E11+E16+E21+E26+E31","v":1098},{"$f":"F11+F16+F21+F26+F31","v":5100},392525,475,{"$f":"I11+I16+I21+I26+I31","v":3849},335722,2,11,86,179,75,122,623,1251,56803,37,89,184,313]
[null,null,null,"아파트",{"$f":"E12+E17+E22+E27+E32","v":776},{"$f":"F12+F17+F22+F27+F32","v":4456},372633,444,3825,{"$f":"J12+J17+J22+J27+J32","v":331145},2,0,17,65,20,35,{"$f":"Q12+Q17+Q22+Q27+Q32","v":332},631,41488,35,69,36,136]
[null,null,null,"주상복합",{"$f":"E13+E18+E23+E28+E33","v":146},143,13654,31,24,{"$f":"J13+J18+J23+J28+J33","v":4577},0,0,0,0,3,28,115,119,9077,2,16,73,24]
[null,null,null,"연립",{"$f":"E14+E19+E24+E29+E34","v":105},245,3994,0,0,{"$f":"J14+J19+J24+J29+J34","v":0},0,0,0,0,0,{"$f":"P14+P19+P24+P29+P34","v":0},{"$f":"Q14+Q19+Q24+Q29+Q34","v":105},{"$f":"R14+R19+R24+R29+R34","v":245},3994,0,3,16,86]
[null,null,null,"다세대",{"$f":"E15+E20+E25+E30+E35","v":71},256,2244,0,0,{"$f":"J15+J20+J25+J30+J35","v":0},0,0,0,0,0,0,71,256,2244,0,1,3,67]
[null,"종로구","동구","계",{"$f":"SUM(H11,Q11)","v":224},{"$f":"SUM(I11,R11)","v":923},{"$f":"SUM(J11,S11)","v":56575},{"$f":"SUM(H12:H15)","v":69},{"$f":"SUM(I12:I15)","v":576},49252,0,3,12,26,13,15,155,{"$f":"SUM(R12:R15)","v":347},{"$f":"SUM(S12:S15)","v":7323},{"$f":"SUM(T12:T15)","v":0},{"$f":"SUM(U12:U15)","v":17},{"$f":"SUM(V12:V15)","v":28},{"$f":"SUM(W12:W15)","v":110}]
[null,"종로구",null,"아파트",126,655,53214,69,576,49252,0,3,12,26,13,15,57,79,3962,0,16,15,26]
[null,"종로구",null,"주상복합",12,12,578,null,null,null,0,0,0,0,0,0,12,12,578,0,0,6,6]
[null,"종로구",null,"연립",35,65,1173,null,null,null,0,0,0,0,0,0,35,65,1173,0,0,5,30]
[null,"종로구",null,"다세대",51,191,1610,null,null,null,0,0,0,0,0,0,51,191,1610,0,1,2,48]
[null,"중구","중구","계",173,714,54869,{"$f":"SUM(H17:H20)","v":74},{"$f":"SUM(I17:I20)","v":515},45171,0,2,7,25,9,31,99,199,9698,9,17,27,46]
[null,"중구",null,"아파트",116,594,49503,{"$f":"K17+L17+M17+N17+O17+P17","v":69},506,43468,null,2,7,25,9,26,{"$f":"T17+U17+V17+W17","v":47},88,6035,7,10,10,20]
[null,"중구",null,"주상복합",27,31,4009,{"$f":"K18+L18+M18+N18+O18+P18","v":5},9,1703,{"$nulls":5},5,{"$f":"T18+U18+V18+W18","v":22},22,2306,2,4,13,3]
[null,"중구",null,"연립",30,89,1357,0,{"$nulls":8},30,89,1357,null,3,4,23]
[null,"중구",null,"다세대",0,0,0,0,{"$nulls":8},0]
[null,"용산구","서구","계",284,1439,127074,{"$f":"SUM(H22:H25)","v":143},{"$f":"SUM(I22:I25)","v":1207},116720,0,5,39,49,21,29,141,232,10354,4,23,63,51]
[null,"용산구",null,"아파트",169,1283,117811,{"$f":"K22+L22+M22+N22+O22+P22","v":129},1193,114037,null,5,39,49,21,15,{"$f":"T22+U22+V22+W22","v":40},90,3774,4,11,14,11]
[null,"용산구",null,"주상복합",86,88,8184,{"$f":"K23+L23+M23+N23+O23+P23","v":14},14,2683,{"$nulls":5},14,{"$f":"T23+U23+V23+W23","v":72},74,5501,null,12,45,15]
[null,"용산구",null,"연립",19,40,747,0,{"$nulls":8},19,40,747,null,null,4,15]
[null,"용산구",null,"다세대",10,28,332,0,{"$nulls":8},10,28,332,null,null,null,10]
[null,"성동구","유성구","계",253,1418,108695,{"$f":"SUM(H27:H30)","v":139},{"$f":"SUM(I27:I30)","v":1180},89427,2,0,17,65,20,35,114,238,19268,15,26,36,37]
[null,"성동구",null,"아파트",{"$f":"H27+Q27","v":234},1408,108066,{"$f":"K27+L27+M27+N27+O27+P27","v":128},1180,89427,2,0,17,65,17,27,{"$f":"T27+U27+V27+W27","v":106},228,18639,15,26,28,37]
[null,"성동구",null,"주상복합",{"$f":"H28+Q28","v":19},10,629,{"$f":"K28+L28+M28+N28+O28+P28","v":11},{"$nulls":6},3,8,{"$f":"T28+U28+V28+W28","v":8},10,629,null,null,8]
[null,"성동구",null,"연립",{"$f":"H29+Q29","v":0},0,0,0,{"$nulls":8},0]
[null,"성동구",null,"다세대",{"$f":"H30+Q30","v":0},0,0,0,{"$nulls":8},0]
[null,"광진구","대덕구","계",164,606,45312,{"$f":"SUM(H32:H35)","v":50},{"$f":"SUM(I32:I35)","v":371},35152,0,1,11,14,12,12,114,235,10160,9,6,30,69]
[null,"광진구",null,"아파트",131,516,44039,{"$f":"K32+L32+M32+N32+O32+P32","v":49},370,34961,null,1,11,14,12,11,{"$f":"T32+U32+V32+W32","v":82},146,9078,9,6,25,42]
[null,"광진구",null,"주상복합",2,2,254,{"$f":"K33+L33+M33+N33+O33+P33","v":1},1,191,{"$nulls":5},1,{"$f":"T33+U33+V33+W33","v":1},1,63,null,null,1]
[null,"광진구",null,"연립",21,51,717,0,{"$nulls":8},21,51,717,null,null,3,18]
[null,"광진구",null,"다세대",10,37,302,0,{"$nulls":8},10,37,302,null,null,1,9]
[]
[null,null,"※ 의무관리대상 공동주택 산정기준\n\n공동주택관리법 시행령 제2조(의무관리대상 공동주택의 범위)에 따라, 분양세대를 기준으로 \n\n   1. 300세대 이상의 공동주택\n   2. 150세대 이상으로서 승강기가 설치된 공동주택\n   3. 150세대 이상으로서 중앙집중식 난방방식(지역난방방식을 포함한다)의 공동주택\n   4. 「건축법」 제11조에 따른 건축허가를 받아 주택 외의 시설과 주택을 동일건축물로 건축한 건축물로서 주택이 150세대 이상인 건축물"]

{"sheet":"대덕구","index":2,"n_rows":169,"n_cols":19,"rows_kept":169,"cut":false,"hidden":false,"merged":[[2,1,2,17],[2,18,4,18],[3,1,4,1],[3,2,4,2],[3,3,4,3],[3,4,4,4],[3,5,4,5],[3,6,4,6],[3,7,4,7],[3,9,3,11],[3,12,4,12],[3,13,4,13],[3,14,4,14],[3,15,4,15],[3,16,3,17],[3,8,4,8]]}
[null," 공동주택(분양) 현황(2024.9.30. 기준)"]
[]
[null,"기    본    사    항",{"$nulls":16},"비고"]
[null,"NO","주택유형","입주\n유형","단지명","도로명주소","법정동주소","동","층","세대수",null,null,"의무관리\n임의관리","자치관리\n위탁관리","사용승인일","연면적(㎡)","관리사무소"]
[{"$nulls":9},"합 계","분양","임대",{"$nulls":4},"전화번호","FAX 번호"]
[null,1,"아파트","분양","금강아파트","대전광역시 대덕구 대전로 1247(대화동)","대전광역시 대덕구 대화동 27-7",2,5,{"$f":"K6+L6","v":90},90,null,"비의무",null,"1978-08-04",5981.91]
[null,2,"연립주택","분양","신진연립","대전광역시 대덕구 신탄진동로35번길 63(신탄진동)","대전광역시 대덕구 신탄진동 122-17",3,"2~3",31,31,null,"비의무",null,"1978-11-21",1283.33]
[null,3,"아파트","분양","대화아파트","대전광역시 대덕구 대화로 53(대화동)","대전광역시 대덕구 대화동 40-67",1,5,50,50,null,"비의무",null,"1979-03-30",2911]
[null,4,"아파트","분양","흥일아파트","대전광역시 대덕구 송촌남로 50(송촌동)","대전광역시 대덕구 송촌동 291-9",1,6,40,40,null,"비의무",null,"1979-05-30",2244.25]
[null,5,"연립주택","분양","세림연립","대전광역시 대덕구 덕암북로96번길 22-14(덕암동)","대전광역시 대덕구 덕암동 15-3",3,2,28,28,null,"비의무",null,"1979-06-26",1909.18]
[null,6,"아파트","분양","신생연립","대전광역시 대덕구 대덕대로1601번길 15(석봉동)","대전광역시 대덕구 석봉동 202-2",2,4,30,30,null,"비의무",null,"1979-10-29",2070.2600000000002]
[null,7,"연립주택","분양","한국담배인삼공사(사옥아파트)","대전광역시 대덕구 평촌1길 35(평촌동)","대전광역시 대덕구 평촌동 182",7,"3~4",96,96,null,"비의무",null,"1980-01-01",7920.19]
[null,8,"아파트","분양","정림APT","대전광역시 대덕구 덕암로148번안길 95(평촌동)","대전광역시 대덕구 평촌동 535-4",3,4,36,36,null,"비의무",null,"1980-07-24",2932.8]
[null,9,"아파트","분양","대청아파트","대전광역시 대덕구 신탄진동로48번길 17(신탄진동)","대전광역시 대덕구 신탄진동 163-1",2,3,48,48,null,"비의무",null,"1980-11-03",3979.02]
[null,10,"아파트","분양","태평A.P.T","대전광역시 대덕구 신탄진로844번길 19-5(신탄진동)","대전광역시 대덕구 신탄진동 451",2,4,27,27,null,"비의무",null,"1980-11-26",1912.55]
[null,11,"아파트","분양","회덕아파트","대전광역시 대덕구 대전로1375번길 27-1(읍내동)","대전광역시 대덕구 읍내동 240-78",2,4,40,40,null,"비의무",null,"1980-12-02",2091.64]
[null,12,"연립주택","분양","중앙연립","대전광역시 대덕구 신탄진동로23번길 31(신탄진동)","대전광역시 대덕구 신탄진동 142-9",1,3,40,40,null,"비의무",null,"1980-12-15",4597.76]
[null,13,"연립주택","분양","무궁화아파트(A동)","대전광역시 대덕구 동심1길 59(대화동)","대전광역시 대덕구 대화동 31-24",2,3,42,42,null,"비의무",null,"1981-08-06",2285.5]
[null,14,"연립주택","분양","금성백조연립","대전광역시 대덕구 동심8길 2(대화동)","대전광역시 대덕구 대화동 241-11",1,3,27,27,null,"비의무",null,"1981-11-07",1417.01]
[null,15,"아파트","분양","신대화아파트","대전광역시 대덕구 대전로 1255(대화동)","대전광역시 대덕구 대화동 16-163",2,5,55,55,null,"비의무",null,"1983-03-11",1914.78]
[null,16,"아파트","분양","신회덕아파트","대전광역시 대덕구 대전로1375번길 27(읍내동)","대전광역시 대덕구 읍내동 240-79",3,4,48,48,null,"비의무",null,"1983-07-02",2517.52]
[null,17,"연립주택","분양","가양파크","대전광역시 대덕구 비래동로39번길 22(비래동)","대전광역시 대덕구 비래동 130-13",3,2,24,24,null,"비의무",null,"1983-09-06",1703]
[null,18,"연립주택","분양","전원연립","대전광역시 대덕구 비래동로15번길 47(비래동)","대전광역시 대덕구 비래동 122-6",2,3,24,24,null,"비의무",null,"1983-11-25",1192.32]
[null,19,"연립주택","분양","신탄진연립(신탄주택)","대전광역시 대덕구 덕암북로96번길 1(덕암동)","대전광역시 대덕구 덕암동 14-1",2,3,24,24,null,"비의무",null,"1983-12-20",1315.44]
[null,20,"연립주택","분양","석봉연립","대전광역시 대덕구 신탄진동로36번길 25(신탄진동)","대전광역시 대덕구 신탄진동 165-4",2,3,36,36,null,"비의무",null,"1984-01-26",1866.24]
[null,21,"연립주택","분양","새일연립(새일주택)","대전광역시 대덕구 덕암로222번길 15-16(덕암동)","대전광역시 대덕구 덕암동 51-2",2,3,24,24,null,"비의무",null,"1984-07-20",1524.96]
[null,22,"연립주택","분양","대신연립(가,나,다동), 신일연립(1,2동)","대전광역시 대덕구 신탄진남로 15(신탄진동)","대전광역시 대덕구 신탄진동 150-14",5,3,50,50,null,"비의무",null,"1984-11-23",2996.82]
[null,23,"연립주택","분양","대운주택","대전광역시 대덕구 비래동로32번길 7(비래동)","대전광역시 대덕구 비래동 137-2",2,3,24,24,null,"비의무",null,"1984-12-05",1822.71]
[null,24,"아파트","분양","혜강연립","대전광역시 대덕구 아리랑로113번안길 20(읍내동)","대전광역시 대덕구 읍내동 496-13",2,"3~4",50,50,null,"비의무",null,"1984-12-13",3197.99]
[null,25,"연립주택","분양","홍도연립","대전광역시 대덕구 대전로987번길 82(오정동)","대전광역시 대덕구 오정동 772-31",4,2,34,34,null,"비의무",null,"1984-12-31",2522.7199999999998]
[null,26,"연립주택","분양","전원주택","대전광역시 대덕구 대화12길 14(대화동)","대전광역시 대덕구 대화동 16-13",3,3,30,30,null,"비의무",null,"1985-02-19",1873.08]
[null,27,"아파트","분양","금성백조아파트","대전광역시 대덕구 대화로 19(대화동)","대전광역시 대덕구 대화동 16-2",3,5,160,160,null,"비의무",null,"1985-03-14",11254.09]
[null,28,"연립주택","분양","중앙연립(중앙주택)","대전광역시 대덕구 덕암로265번길 119(덕암동)","대전광역시 대덕구 덕암동 2-2",2,3,51,51,null,"비의무",null,"1985-09-26",2783.97]
[null,29,"아파트","분양","성은맨션아파트","대전광역시 대덕구 비래동로16번길 17(비래동)","대전광역시 대덕구 비래동 139-9",1,10,50,50,null,"비의무",null,"1985-11-06",4590.22]
[null,30,"연립주택","분양","덕암연립상가","대전광역시 대덕구 덕암로188번길 6(평촌동)","대전광역시 대덕구 평촌동 535-1",2,2,46,46,null,"비의무",null,"1985-11-16",1692.37]
[null,31,"아파트","분양","삼창아파트","대전광역시 대덕구 대덕대로1524번길 37(목상동)","대전광역시 대덕구 목상동 23-3",2,5,40,40,null,"비의무",null,"1985-12-09",2550.6]
[null,32,"아파트","분양","금호(아)","대전광역시 대덕구 덕암북로 86(덕암동)","대전광역시 대덕구 덕암동 13-5",1,5,20,20,null,"비의무",null,"1985-12-27",1206.5999999999999]
[null,33,"아파트","분양","안전연립(안전로얄아파트)","대전광역시 대덕구 홍도로135번길 121(중리동)","대전광역시 대덕구 중리동 222-2",2,5,65,65,null,"비의무",null,"1986-04-01",5063.6000000000004]
[null,34,"아파트","분양","금성백조(1차)","대전광역시 대덕구 우암로412번길 45(비래동)","대전광역시 대덕구 비래동 149-1",1,10,100,100,null,"비의무",null,"1986-05-24",9959.68]
[null,35,"아파트","분양","대화장미아파트","대전광역시 대덕구 동심5길 16(대화동)","대전광역시 대덕구 대화동 229-12",4,"3~5",159,159,null,"비의무",null,"1986-09-05",10866.23]
[null,36,"아파트","분양","오광아파트","대전광역시 대덕구 생산5길 22(대화동)","대전광역시 대덕구 대화동 253",3,5,104,104,null,"비의무",null,"1986-09-25",7790.94]
[null,37,"아파트","분양","비래동현대아파트","대전광역시 대덕구 우암로 394(비래동)","대전광역시 대덕구 비래동 47-1",6,"12~15",370,370,null,"의무","위탁관리","1986-11-24",35153.46,"623-9143","331-9143"]
[null,38,"아파트","분양","덕성맨션","대전광역시 대덕구 송촌로 11(송촌동)","대전광역시 대덕구 송촌동 290-4",1,8,32,32,null,"비의무",null,"1986-11-29",3446.08]
[null,39,"아파트","분양","현대아파트","대전광역시 대덕구 대덕대로1524번길 27(목상동)","대전광역시 대덕구 목상동 215",2,5,90,90,null,"비의무",null,"1986-12-05",6425.34]
[null,40,"아파트","분양","정남아파트","대전광역시 대덕구 비래동로32번길 52(비래동)","대전광역시 대덕구 비래동 144-5",2,5,40,40,null,"비의무",null,"1987-01-24",4332.24]
[null,41,"아파트","분양","평화(A)","대전광역시 대덕구 비래동로31번길 53(비래동)","대전광역시 대덕구 비래동 120-17",2,5,40,40,null,"비의무",null,"1987-03-13",2840.4]
[null,42,"아파트","분양","주공아파트","대전광역시 대덕구 신탄진로 217(신대동)","대전광역시 대덕구 신대동 179",13,5,540,540,null,"의무","자치관리","1987-05-15(106~113동)\n1987-06-30(101~108동)",25815.15,"624-9382","622-8994"]
[null,43,"아파트","분양","임광하이츠","대전광역시 대덕구 홍도로135번길 35(중리동)","대전광역시 대덕구 중리동 235-8",1,5,59,59,null,"비의무",null,"1987-08-20",5104.71]
[null,44,"아파트","분양","주공아파트(2단지)","대전광역시 대덕구 계족로663번길 29(법동)","대전광역시 대덕구 법동 284-1",11,"5~15",1220,1220,null,"의무","위탁관리","1987-09-02",78976.39,"622-9725","625-9565"]
[null,45,"아파트","분양","삼정하이츠타운","대전광역시 대덕구 계족로663번길 30(법동)","대전광역시 대덕구 법동 281",13,5,468,468,null,"의무","자치관리","1987-11-18(1동~8동)\n1988-10-18(9동~14동)",51580.33,"623-5318","331-5318"]
[null,46,"아파트","분양","주공아파트","대전광역시 대덕구 신탄진로 170(연축동)","대전광역시 대덕구 연축동 102",18,5,670,670,null,"의무","자치관리","1987-12-15",31976.400000000001,"622-2373","622-2383"]
[null,47,"아파트","분양","세원풍남아파트","대전광역시 대덕구 대화11길 11(대화동)","대전광역시 대덕구 대화동 16-5",6,5,270,270,null,"비의무",null,"1987-12-22",28535.96]
[null,48,"아파트","분양","금성백조(아)","대전광역시 대덕구 덕암로173번길 8(덕암동)","대전광역시 대덕구 덕암동 62-18",2,5,80,80,null,"비의무",null,"1988-07-04",4473.8]
[null,49,"아파트","분양","임광아파트","대전광역시 대덕구 비래동로31번길 30(비래동)","대전광역시 대덕구 비래동 129-3",2,5,55,55,null,"비의무",null,"1988-07-22",4568.9399999999996]
[null,50,"아파트","분양","보령아파트","대전광역시 대덕구 동춘당로23번길 22(송촌동)","대전광역시 대덕구 송촌동 219-3",5,5,99,99,null,"비의무",null,"1988-12-14",7486.72]
[null,51,"다세대주택","분양","덕수주택","대전광역시 대덕구 덕암북로 97(석봉동)","대전광역시 대덕구 석봉동 322-11",6,"2~3",25,25,null,"비의무",null,"1988-12-17",1642.26]
[null,52,"아파트","분양","영진로얄아파트","대전광역시 대덕구 중리서로 31(중리동)","대전광역시 대덕구 중리동 274-1",7,15,750,750,null,"의무","자치관리","1989-05-04",58898.400000000001,"626-9036","636-9036"]
[null,53,"아파트","분양","삼호아파트","대전광역시 대덕구 계족로663번길 32(법동)","대전광역시 대덕구 법동 280-2",4,15,480,480,null,"의무","자치관리","1989-10-19",50072.09,"672-1338","672-1339"]
[null,54,"아파트","분양","유원아파트","대전광역시 대덕구 계족로663번길 23(법동)","대전광역시 대덕구 법동 285-1",5,"10~15",400,400,null,"의무","위탁관리","1989-11-25",40341.72,"627-1614","627-1615"]
[null,55,"아파트","분양","삼호맨션","대전광역시 대덕구 비래서로 42(비래동)","대전광역시 대덕구 비래동 124-1",2,10,220,220,null,"의무","위탁관리","1989-12-07",21047.09,"626-1709","626-1706"]
[null,56,"아파트","분양","옥수아파트","대전광역시 대덕구 신탄진동로23번길 44(신탄진동)","대전광역시 대덕구 신탄진동 139-6",1,5,50,50,null,"비의무",null,"1989-12-12",4554.26]
[null,57,"아파트","분양","대원아파트","대전광역시 대덕구 신탄진로681번길 11(평촌동)","대전광역시 대덕구 평촌동 541-1",2,5,45,45,null,"비의무",null,"1989-12-23",3778.86]
[null,58,"아파트","분양","한라아파트(한라맨션)","대전광역시 대덕구 신탄진로 649(평촌동)","대전광역시 대덕구 평촌동 534-7",1,5,30,30,null,"비의무",null,"1990-01-03",2588.5500000000002]
[null,59,"아파트","분양","대한아파트","대전광역시 대덕구 한남로155번길 30(오정동)","대전광역시 대덕구 오정동 495-4",1,6,24,24,null,"비의무",null,"1990-04-30",2412.7199999999998]
[null,60,"아파트","분양","원창아파트","대전광역시 대덕구 덕암북로10번길 23(덕암동)","대전광역시 대덕구 덕암동 2-4",2,5,40,40,null,"비의무",null,"1990-06-01",2969.4]
[null,61,"아파트","분양","대일아파트","대전광역시 대덕구 신탄진로210번길 91(와동)","대전광역시 대덕구 와동 33-1",1,5,30,30,null,"비의무",null,"1990-07-18",2941.26]
[null,62,"아파트","분양","고려아파트","대전광역시 대덕구 신탄진북로35번길 27(신탄진동)","대전광역시 대덕구 신탄진동 129-2",1,6,60,60,null,"비의무",null,"1990-09-20",4599.6000000000004]
[null,63,"아파트","분양","신일아파트","대전광역시 대덕구 계족로505번길 77(중리동)","대전광역시 대덕구 중리동 246-5",1,5,30,30,null,"비의무",null,"1990-09-21",2169.9]
[null,64,"아파트","분양","서우아파트","대전광역시 대덕구 석봉로30번안길 57(석봉동)","대전광역시 대덕구 석봉동 177-2",3,"5~15",230,230,null,"의무","위탁관리","1990-10-30(102~103동)\n1991-03-18(101동)",21710.73,"931-3284","933-5354"]
[null,65,"아파트","분양","소라아파트","대전광역시 대덕구 동심1길 103(대화동)","대전광역시 대덕구 대화동 30-1",5,5,{"$f":"K70+L70","v":269},269,null,"비의무",null,"1990-11-02",19345.490000000002]
[null,66,"아파트","분양","신동아아파트","대전광역시 대덕구 한밭대로1033번길 15(오정동)","대전광역시 대덕구 오정동 635-1",7,"13~15",594,594,null,"의무","위탁관리","1990-11-13",79820.460000000006,"627-9748","634-1662"]
[null,67,"아파트","임대","주공아파트(3단지)","대전광역시 대덕구 계족로663번길 34(법동)","대전광역시 대덕구 법동 283-1",7,15,1488,null,1488,"비의무",null,"1990-11-21",68871.91,"626-6404","624-7874"]
[null,68,"아파트","분양","영진법동로얄맨션","대전광역시 대덕구 아리랑로 211(법동)","대전광역시 대덕구 법동 389",7,15,600,600,null,"의무","위탁관리","1990-12-28",63005.95,"627-5470","621-5470"]
[null,69,"다세대주택","분양","대림주택","대전광역시 대덕구 덕암로203번길 39(덕암동)","대전광역시 대덕구 덕암동 58-3",2,4,20,20,null,"비의무",null,"1991-01-23",1106.6400000000001]
[null,70,"아파트","분양","금성백조아파트(2차)","대전광역시 대덕구 비래동로 44(비래동)\n대전광역시 대덕구 우암로 463(비래동)\n대전광역시 대덕구 우암동로 2(비래동)","대전광역시 대덕구 비래동 136-1\n대전광역시 대덕구 비래동 130-7\n대전광역시 대덕구 비래동 133-5",4,"12~14",324,324,null,"의무","위탁관리","1991-03-20",942175.74,"631-0187","320-2747"]
[null,71,"아파트","분양","근로복지아파트(사택)","대전광역시 대덕구 중리동로55번길 20(중리동)","대전광역시 대덕구 중리동 388-1",2,6,{"$f":"K76+L76","v":42},42,null,"비의무",null,"1991-04-12",2415.15]
[null,72,"다세대주택","분양","신원파크빌라","대전광역시 대덕구 덕암로181번길 45(덕암동)","대전광역시 대덕구 덕암동 62-15",3,4,26,26,null,"비의무",null,"1991-04-17",1651.99]
[null,73,"아파트","분양","흥진로얄아파트","대전광역시 대덕구 비래서로25번길 37(비래동)","대전광역시 대덕구 비래동 121-9",1,8,48,48,null,"비의무",null,"1991-04-18",5470.69]
[null,74,"아파트","분양","원창아파트","대전광역시 대덕구 덕암북로10번길 31(덕암동)","대전광역시 대덕구 덕암동 4-1",2,6,60,60,null,"비의무",null,"1991-05-30",4559.46]
[null,75,"다세대주택","분양","삼보연립","대전광역시 대덕구 덕암북로22번길 145(덕암동)","대전광역시 대덕구 덕암동 42-8",6,4,51,51,null,"비의무",null,"1991-09-14",4737.83]
[null,76,"아파트","분양","삼호아파트","대전광역시 대덕구 덕암북로10번길 130(덕암동)","대전광역시 대덕구 덕암동 38-5",1,9,36,36,null,"비의무",null,"1991-10-05",2771.51]
[null,77,"다세대주택","분양","광진빌라","대전광역시 대덕구 덕암북로72번길 90(덕암동)","대전광역시 대덕구 덕암동 42-6",6,4,48,48,null,"비의무",null,"1991-10-10",7043.76]
[null,78,"아파트","분양","영진로얄맨션","대전광역시 대덕구 대전로1020번길 86(오정동)","대전광역시 대덕구 오정동 254-1",1,15,120,120,null,"비의무",null,"1991-10-12",13068.87]
[null,79,"아파트","분양","현대아파트","대전광역시 대덕구 계족로761번길 24(읍내동)","대전광역시 대덕구 읍내동 54",15,"15~18",1344,1344,null,"의무","위탁관리","1991-10-12",132505.79,"626-3955","331-4898"]
[null,80,"아파트","분양","한라아파트","대전광역시 대덕구 덕암로148번안길 26(상서동)","대전광역시 대덕구 상서동 833-2",1,6,44,44,null,"비의무",null,"1991-10-15",5261.76]
[null,81,"아파트","분양","서오아파트","대전광역시 대덕구 동춘당로23번길 13(송촌동)","대전광역시 대덕구 송촌동 554",5,10,320,320,null,"의무","위탁관리","1991-11-11",37052.769999999997,"631-7313","625-8514"]
[null,82,"다세대주택","분양","삼화주택(&대림주택)","대전광역시 대덕구 덕암로187번길 1(덕암동)","대전광역시 대덕구 덕암동 62-6",2,5,40,40,null,"비의무",null,"1991-12-12",2190.7199999999998]
[null,83,"주상복합","분양","동부맨션아파트","대전광역시 대덕구 동서대로1748번길 45(비래동)","대전광역시 대덕구 비래동 560-9",1,10,63,63,null,"비의무",null,"1992-01-16",4953.97]
[null,84,"다세대주택","분양","신일빌라","대전광역시 대덕구 홍도로119번길 10(중리동)","대전광역시 대덕구 중리동 240-5",2,4,20,20,null,"비의무",null,"1992-02-17",1199.5999999999999]
[null,85,"아파트","분양","금성백조아파트(3차)","대전광역시 대덕구 비래동로31번길 50(비래동)","대전광역시 대덕구 비래동 119-9",1,11,89,89,null,"비의무",null,"1992-03-31",8880.32]
[null,86,"아파트","분양","유락아파트","대전광역시 대덕구 석봉로44번길 13(석봉동)","대전광역시 대덕구 석봉동 178-2",2,"4~14",128,128,null,"비의무",null,"1992-05-04",12177.98]
[null,87,"아파트","분양","거성아파트(나동)","대전광역시 대덕구 신탄진로778번길 12(신탄진동)","대전광역시 대덕구 신탄진동 175-13",1,5,20,20,null,"비의무",null,"1992-06-30",2023.08]
[null,88,"아파트","분양","거성아파트(가동)","대전광역시 대덕구 신탄진로778번길 16(신탄진동)","대전광역시 대덕구 신탄진동 175-29",1,5,20,20,null,"비의무",null,"1992-07-18",2171.88]
[null,89,"아파트","분양","흥진아파트","대전광역시 대덕구 신탄진남로 26(신탄진동)","대전광역시 대덕구 신탄진동 166-3",1,14,96,96,null,"비의무",null,"1992-09-04",10254.85]
[null,90,"아파트","분양","홍림아파트","대전광역시 대덕구 신탄진로772번길 11(신탄진동)","대전광역시 대덕구 신탄진동 175-30",1,5,20,20,null,"비의무",null,"1992-09-09",2354.0700000000002]
[null,91,"아파트","임대","한마음아파트","대전광역시 대덕구 계족로664번길 27(법동)","대전광역시 대덕구 법동 188",6,15,1768,null,1768,"비의무",null,"1992-11-17",98559.84,"634-2376","622-3544"]
[null,92,"아파트","분양","삼익소월아파트","대전광역시 대덕구 동춘당로 160(법동)","대전광역시 대덕구 법동 190",9,15,810,810,null,"의무","위탁관리","1993-07-03",82321.03,"621-7420","636-5208"]
[null,93,"아파트","분양","다사랑아파트","대전광역시 대덕구 대덕대로1470번길 55(목상동)","대전광역시 대덕구 목상동 185-2",5,15,900,900,null,"의무","위탁관리","1993-09-09",61077.5,"933-1560","931-7520"]
[null,94,"아파트","분양","영진상록아파트","대전광역시 대덕구 계족로521번길 79(중리동)","대전광역시 대덕구 중리동 250-3",2,"5~9",104,104,null,"비의무",null,"1993-09-23",10128.48]
[null,95,"아파트","분양","그린타운아파트","대전광역시 대덕구 동춘당로 151(법동)","대전광역시 대덕구 법동 195-1",12,15,1050,1050,null,"의무","위탁관리","1993-11-12",96733,"673-451~2","673-4525"]
[null,96,"아파트","분양","평화아파트","대전광역시 대덕구 우암동로17번길 26(비래동)","대전광역시 대덕구 비래동 115-17",1,10,49,49,null,"비의무",null,"1994-04-30",4141.9799999999996]
[null,97,"아파트","분양","현대아파트","대전광역시 대덕구 신탄진로218번길 62(와동)","대전광역시 대덕구 와동 111",7,"15~18",656,656,null,"의무","위탁관리","1994-08-19",62589.99,"621-4302","621-4305"]
[null,98,"아파트","분양","새여울(대우)아파트","대전광역시 대덕구 대청로64번길 41(신탄진동)","대전광역시 대덕구 신탄진동 22-2",4,"13~14",300,300,null,"의무","위탁관리","1994-08-27",25495.08,"933-4630","331-4630"]
[null,99,"아파트","분양","둥지아파트","대전광역시 대덕구 신상로 21(비래동)","대전광역시 대덕구 비래동 18-21",5,17,425,425,null,"의무","위탁관리","1994-11-07",41317.69,"635-2376","345-2377"]
[null,100,"아파트","분양","새여울아파트(라이프)","대전광역시 대덕구 대청로64번길 11(신탄진동)","대전광역시 대덕구 신탄진동 22-1",3,"13~15",308,308,null,"의무","위탁관리","1994-11-24",43702.34,"933-4996","349-4996"]
[null,101,"아파트","분양","보람아파트","대전광역시 대덕구 동춘당로 178(법동)","대전광역시 대덕구 법동 191-1",14,"14~15",1735,1735,null,"의무","위탁관리","1995-05-19",213544.85,"625-0264","625-0265"]
[null,102,"아파트","분양","두일아파트","대전광역시 대덕구 석봉로30번길 32(석봉동)","대전광역시 대덕구 석봉동 316-7",1,7,49,49,null,"비의무",null,"1995-10-09",2162.9299999999998]
[null,103,"아파트","분양","한밭아파트","대전광역시 대덕구 석봉로58번안길 82(석봉동)","대전광역시 대덕구 석봉동 313-1",1,17,302,302,null,"의무","위탁관리","1995-11-10",26313.360000000001,"931-7458","347-7458"]
[null,104,"아파트","분양","로얄아파트","대전광역시 대덕구 동춘당로23번길 4(송촌동)","대전광역시 대덕구 송촌동 219-2",1,11,87,87,null,"비의무",null,"1995-11-11",9019.61]
[null,105,"아파트","분양","무궁화아파트","대전광역시 대덕구 덕암로154번길 6(상서동)","대전광역시 대덕구 상서동 828-2",1,9,49,49,null,"비의무",null,"1996-04-23",4660.8100000000004,"934-0999","932-0999"]
[null,106,"아파트","분양","새여울(한신)아파트(301~305동)","대전광역시 대덕구 대청로64번길 63(신탄진동)","대전광역시 대덕구 신탄진동 22-2",4,14,299,299,null,"의무","위탁관리","1996-09-14",26261.09,"934-0757","935-0757"]
[null,107,"아파트","분양","한남아파트","대전광역시 대덕구 대전로1020번길 85(오정동)","대전광역시 대덕구 오정동 464-1",2,12,200,200,null,"의무","위탁관리","1996-10-05",20079.099999999999,"621-1662","621-1662"]
[null,108,"아파트","분양","한라아파트","대전광역시 대덕구 대덕대로1448번길 80(신일동)","대전광역시 대덕구 신일동 1682-4",2,10,150,150,null,"의무","위탁관리","1996-10-16",10807.72,"932-0999","932-0999"]
[null,109,"아파트","분양","참솔아파트","대전광역시 대덕구 동춘당로23번길 65(송촌동)","대전광역시 대덕구 송촌동 560-10",1,8,40,40,null,"비의무",null,"1997-10-23",4370.8999999999996]
[null,110,"아파트","분양","백송아파트","대전광역시 대덕구 대전로1397번길 79(읍내동)","대전광역시 대덕구 읍내동 202",2,"15~17",297,297,null,"의무","위탁관리","1997-11-19",256910.07,"636-8784","636-8785"]
[null,111,"아파트","혼합","반석아파트","대전광역시 대덕구 덕암로154번길 16(상서동)","대전광역시 대덕구 상서동 828-3",1,11,150,8,142,"비의무",null,"1998-10-26",8962.44,"935-8282","935-8283"]
[null,112,"아파트","분양","무궁화아파트(S-307)","대전광역시 대덕구 장동로 283-22(장동)","대전광역시 대덕구 장동 212",2,5,60,60,null,"비의무",null,"1998-11-06",3564]
[null,113,"아파트","분양","덕암아파트","대전광역시 대덕구 덕암로265번길 81(덕암동)","대전광역시 대덕구 덕암동 3-7",1,15,250,250,null,"의무","위탁관리","1998-11-17",18009.849999999999,"931-7448","936-7448"]
[null,114,"아파트","분양","상록수아파트","대전광역시 대덕구 대덕대로1470번길 27(목상동)","대전광역시 대덕구 목상동 185-1",7,"14~15",456,456,null,"의무","위탁관리","1999-02-27",43201.440000000002,"935-4755","331-4755"]
[null,115,"아파트","분양","양지마을아파트","대전광역시 대덕구 대전로1185번길 30(오정동)","대전광역시 대덕구 오정동 55-5",8,"6~20",548,548,null,"의무","위탁관리","1999-05-31",55566.77,"626-2155","626-2156"]
[null,116,"아파트","분양","선비마을아파트2단지","대전광역시 대덕구 동춘당로114번길 47(송촌동)","대전광역시 대덕구 송촌동 444",11,"16~20",1146,1146,null,"의무","위탁관리","1999-10-12",144198.39000000001,"635-5523","635-5538"]
[null,117,"아파트","분양","선비마을5단지","대전광역시 대덕구 계족산로 136(송촌동)","대전광역시 대덕구 송촌동 494-1",19,"17~20",1555,1555,null,"의무","위탁관리","1999-10-21",157064.91,"634-5816","634-5818"]
[null,118,"아파트","분양","선비마을4단지","대전광역시 대덕구 계족산로 135(송촌동)","대전광역시 대덕구 송촌동 462",17,19,1428,1428,null,"의무","위탁관리","1999-10-26",141307.29999999999,"633-8693","633-8694"]
[null,119,"아파트","분양","선비마을아파트(1단지)","대전광역시 대덕구 계족로690번길 21(법동)","대전광역시 대덕구 법동 440-4",11,"18~20",1140,1140,null,"의무","위탁관리","1999-11-03",99913.23,"635-8521","635-8522"]
[null,120,"아파트","분양","선비마을3단지","대전광역시 대덕구 동춘당로114번길 60(송촌동)","대전광역시 대덕구 송촌동 461-1",16,"17~20",1872,1872,null,"의무","위탁관리","1999-12-18",190942.86,"672-7910","672-7911"]
[null,121,"아파트","분양","덕암마을아파트","대전광역시 대덕구 덕암로234번길 15(덕암동)","대전광역시 대덕구 덕암동 45-2",4,"18~25",292,292,null,"의무","위탁관리","2000-10-30",30055.08,"933-0098","331-0098"]
[null,122,"아파트","분양","두레아파트","대전광역시 대덕구 대화1길 77(대화동)","대전광역시 대덕구 대화동 31-36",1,14,423,423,null,"의무","자치관리","2001-07-11",20955.63,"628-0791","628-0791"]
[null,123,"아파트","분양","미래아파트","대전광역시 대덕구 우암동로18번길 30(비래동)","대전광역시 대덕구 비래동 135-5",1,15,172,172,null,"의무","자치관리","2001-07-30",13864.94,"635-2226","635-6229"]
[null,124,"주상복합","분양","골든리버","대전광역시 대덕구 신탄진로810번길 20(신탄진동)","대전광역시 대덕구 신탄진동 141-28",1,"4~15",191,191,null,"의무","자치관리","2004-05-25",19110.3,"933-8220","933-8224"]
[null,125,"아파트","분양","리치빌아파트","대전광역시 대덕구 비래동로32번길 45(비래동)","대전광역시 대덕구 비래동 145-11",1,9,53,53,null,"비의무",null,"2005-04-22",6987.62]
[null,126,"아파트","분양","유앤미 아파트","대전광역시 대덕구 우암동로15번길 30(비래동)","대전광역시 대덕구 비래동 116-2",1,5,58,58,null,"비의무",null,"2005-04-22",7464.21]
[null,127,"아파트","분양","아이조움아파트","대전광역시 대덕구 비래서로61번길 71(비래동)","대전광역시 대덕구 비래동 136-3",2,"8~11",82,82,null,"비의무",null,"2005-06-02",11166.13]
[null,128,"아파트","분양","비래휴플러스","대전광역시 대덕구 비래서로10번길 21(비래동)","대전광역시 대덕구 비래동 509-1",5,"14~25",646,646,null,"의무","위탁관리","2006-06-14",71486.25,"627-9340","623-9339"]
[null,129,"아파트","분양","해맞이아파트","대전광역시 대덕구 신탄진로232번길 10(와동)","대전광역시 대덕구 와동 371",1,13,34,34,null,"비의무",null,"2006-09-15",4228.59]
[null,130,"아파트","분양","평화로운아파트","대전광역시 대덕구 한밭대로1003번길 25(오정동)","대전광역시 대덕구 오정동 587-1",2,15,201,201,null,"의무","위탁관리","2007-11-19",18570.22,"638-5222","638-5223"]
[null,131,"아파트","분양","리치빌아파트","대전광역시 대덕구 덕암로234번길 23(덕암동)","대전광역시 대덕구 덕암동 46-2",1,14,118,118,null,"비의무",null,"2009-03-24",12417.57]
[null,132,"아파트","분양","행복한 마을 아파트","대전광역시 대덕구 덕암로 200(평촌동)","대전광역시 대덕구 평촌동 540-1",9,"15~20",589,589,null,"의무","위탁관리","2011-04-29",67346.559999999998,"931-4300","933-4302"]
[null,133,"아파트","분양","평화로운아파트","대전광역시 대덕구 대덕대로1520번길 77(목상동)","대전광역시 대덕구 목상동 207-25",3,"12~15",199,199,null,"의무","자치관리","2011-07-29",22705.27,"934-7227","934-7227"]
[null,134,"아파트","분양","금강엑슬루타워","대전광역시 대덕구 대덕대로 1555(석봉동)","대전광역시 대덕구 석봉동 770",12,"36~50",2312,2312,null,"의무","위탁관리","2012-01-12",308085.24,"934-0570","934-0456"]
[null,135,"다세대주택","분양","행복한집","대전광역시 대덕구 비래동로39번길 43(비래동)","대전광역시 대덕구 비래동 119-3",4,5,{"$f":"K140+L140","v":28},28,null,"비의무",null,"2012-12-31",2059.12]
[null,136,"연립주택","분양","모아빌 A동","대전광역시 대덕구 덕암로 145(덕암동)","대전광역시 대덕구 덕암동 79-5",1,5,20,20,null,"비의무",null,"2013-08-07",1273.56]
[null,137,"다세대주택","분양","시그마빌","대전광역시 대덕구 송촌로 34(송촌동)","대전광역시 대덕구 송촌동 223-4",3,"4~5",20,20,null,"비의무",null,"2013-09-11",1370.88]
[null,138,"다세대주택","분양","송촌대호하이츠","대전광역시 대덕구 송촌로37번길 13(송촌동)","대전광역시 대덕구 송촌동 226-11",3,5,24,24,null,"비의무",null,"2013-09-13",1783.15]
[null,139,"연립주택","분양","세종빌라","대전광역시 대덕구 우암로492번길 64(비래동)","대전광역시 대덕구 비래동 115-6",1,5,20,20,null,"비의무",null,"2013-10-21",1372.29]
[null,140,"아파트","분양","두레마을아파트 201동","대전광역시 대덕구 대덕대로1486번길 65(목상동)","대전광역시 대덕구 목상동 204",1,9,49,49,null,"비의무",null,"2014-04-22",5246.19]
[null,141,"아파트","분양","두레마을아파트","대전광역시 대덕구 대덕대로1520번길 55(목상동)","대전광역시 대덕구 목상동 207-45",1,9,49,49,null,"비의무",null,"2014-06-05",5652.51]
[null,142,"아파트","분양","평원아파트","대전광역시 대덕구 동춘당로15번길 54(송촌동)","대전광역시 대덕구 송촌동 560-6",1,9,52,52,null,"비의무",null,"2014-10-14",4616.42,null,null,"도시형생활주택"]
[null,143,"연립주택","분양","브리스빌","대전광역시 대덕구 동서대로1778번길 20(비래동)","대전광역시 대덕구 비래동 556-36",1,5,22,22,null,"비의무",null,"2016-03-25",1700.38]
[null,144,"아파트","분양","세진시티빌","대전광역시 대덕구 덕암북로10번길 20(덕암동)","대전광역시 대덕구 덕암동 1-5",1,5,29,29,null,"비의무",null,"2016-04-11",2786.95,null,null,"도시형생활주택"]
[null,145,"아파트","분양","드림팰리스아파트(4차)","대전광역시 대덕구 비래서로10번길 86(비래동)","대전광역시 대덕구 비래동 561-3",1,8,28,28,null,"비의무",null,"2017-02-17",2719.5]
[null,146,"아파트","분양","금강로하스 엘크루아파트","대전광역시 대덕구 대덕대로 1587(석봉동)","대전광역시 대덕구 석봉동 771",10,"16~25",765,765,null,"의무","위탁관리","2017-10-26",78646.960000000006,"931-1500","931-1700"]
[null,147,"아파트","분양","브리스빌","대전광역시 대덕구 신탄진동로 68(신탄진동)","대전광역시 대덕구 신탄진동 150-11",2,4,24,24,null,"비의무",null,"2017-12-14",2044.88,null,null,"도시형생활주택"]
[null,148,"아파트","분양","나이스팰리스아파트","대전광역시 대덕구 대전로1032번길 13-13(오정동)","대전광역시 대덕구 오정동 472-6",1,15,98,98,null,"비의무",null,"2017-12-22",7471.34,null,null,"도시형생활주택"]
[null,149,"아파트","분양","트윈스아파트","대전광역시 대덕구 신탄진로796번길 51(신탄진동)","대전광역시 대덕구 신탄진동 138-9",1,10,30,30,null,"비의무",null,"2018-07-31",3432.25]
[null,150,"아파트","분양","에코빌","대전광역시 대덕구 덕암로221번길 24(덕암동)","대전광역시 대덕구 덕암동 42-7",1,7,29,29,null,"비의무",null,"2018-12-18",1808.77,null,null,"도시형생활주택"]
[null,151,"아파트","분양","대호해맑음오피스텔","대전광역시 대덕구 신탄진로834번길 15(신탄진동)","대전광역시 대덕구 신탄진동 117-30",1,9,28,28,null,"비의무",null,"2019-01-17",3511.13]
[null,152,"아파트","분양","담소루","대전광역시 대덕구 신탄진로810번길 60(신탄진동)","대전광역시 대덕구 신탄진동 139-3",1,7,21,21,null,"비의무",null,"2019-09-02",1494.95]
[null,153,"아파트","분양","이노센스뷰","대전광역시 대덕구 석봉로 31(석봉동)","대전광역시 대덕구 석봉동 189-18",1,8,28,28,null,"비의무",null,"2019-09-17",3699.65]
[null,154,"아파트","분양","그레이스K","대전광역시 대덕구 한밭대로 1140(중리동)","대전광역시 대덕구 중리동 236-4",2,"8~11",66,66,null,"비의무",null,"2020-08-14",4148.18]
[null,155,"아파트","분양","금강센트럴파크 서희스타힐스","대전광역시 대덕구 대덕대로1585번길 44(석봉동)","대전광역시 대덕구 석봉동 787",12,"15~33",835,835,null,"의무","위탁관리","2020-08-31",798074.42,"933-2300","933-2400"]
[null,156,"아파트","분양","e편한세상 대전법동","대전광역시 대덕구 중리북로 46(법동)","대전광역시 대덕구 법동 448",12,"21~29",1503,1503,null,"의무","위탁관리","2020-09-18",151106.76999999999,"639-8841","639-8842"]
[null,157,"아파트","임대","대전상서 LH 행복주택","대전광역시 대덕구 새말3길 41(상서동)","대전광역시 대덕구 상서동 843",2,"17~18",296,null,296,"비의무",null,"2020-11-17",12977.56,"936-5777","936-5776"]
[null,158,"아파트","분양","대전 동일스위트 리버스카이 1단지","대전광역시 대덕구 대청로 43(신탄진동)","대전광역시 대덕구 신탄진동 771",12,"31~43",1757,1757,null,"의무","위탁관리","2021-11-29",176074.15,"932-9777","932-9778"]
[null,159,"아파트","분양","세울더레스트","대전광역시 대덕구 대덕대로1605번길 26-20(석봉동)","대전광역시 대덕구 석봉동 200-3",1,12,28,28,null,"비의무",null,"2021-12-04",1812.9,null,null,"도시형생활주택"]
[null,160,"아파트","분양","세울더레스트2차아파트","대전광역시 대덕구 석봉북로12번길 19(석봉동)","대전광역시 대덕구 석봉동 353-33",1,14,61,61,null,"비의무",null,"2022-09-23",5631.22]
[null,161,"아파트","분양","트윈스 아파트 12차","대전광역시 대덕구 신탄진로796번길 32(신탄진동)","대전광역시 대덕구 신탄진동 153-11",1,10,24,24,null,"비의무",null,"2023-01-13",3028.85]
[null,162,"아파트","분양","그레이스K8","대전광역시 대덕구 덕암북로60번길 21(덕암동)","대전광역시 대덕구 덕암동 11-1",1,9,40,40,null,"비의무",null,"2023-06-29",2199.1,null,null,"도시형생활주택"]
[null,163,"아파트","임대","대전 동일스위트 리버스카이 2단지","대전광역시 대덕구 대청로 53(신탄진동)","대전광역시 대덕구 신탄진동 882",6,"25~38",655,null,655,"비의무",null,"2024-02-14",109521.79,"713-9399"]
[null,164,"아파트","분양","대덕브라운스톤","대전광역시 대덕구 신탄진로210번길 91(와동)","대전광역시 대덕구 와동 39",7,29,910,910,null,"의무",null,"2024-04-09",128155.8956,"625-5121","625-5122"]

{"sheet":"공동주택 노후현황","index":3,"n_rows":24,"n_cols":11,"rows_kept":24,"cut":false,"hidden":false,"merged":[[15,1,17,1],[15,2,15,4],[15,5,17,5],[15,6,15,8],[16,2,17,2],[16,3,17,3],[16,4,17,4],[16,6,17,6],[16,7,17,7],[16,8,17,8],[3,1,4,1],[3,2,3,4],[3,5,3,7],[3,8,3,10],[2,1,2,2]]}
[]
[]
[null,"《 노후공동주택 현황 》 "]
[null,"구 분","총 계",null,null,"20년 미만",null,null,"20년이상"]
[null,null,"단지수","동 수","세대수","단지수","동 수","세대수","단지수","동 수","세대수"]
[null,"계",{"$f":"SUM(C7:C11)","v":1098},{"$f":"SUM(D7:D11)","v":5100},392525,499,2106,165027,599,2994,227498]
[null,"동구",224,923,56575,87,412,30547,137,511,26028]
[null,"중구",173,714,54869,72,224,19021,101,490,35848]
[null,"서구",{"$f":"F9+I9","v":284},1439,127074,113,389,31472,171,1050,95602]
[null,"유성구",253,1418,108695,187,951,72156,66,467,36539]
[null,"대덕구",164,606,45312,40,130,11831,124,476,33481]
[]
[]
[]
[null,"《노후공동주택 구별 현황 》",null,null,"(단위: 동, %)",null,null,null,"(단위: 세대수, %)"]
[null,"순위","공동주택 동수 기준",null,null,"순위","공동주택 세대수 기준"]
[null,null,"구청명","노후주택 수(동)","노후주택 비율(%)\n(각 구별: 노후동수/총동수)",null,"구청명","노후주택 세대(수)","노후주택 비율(%)\n(각 구별: 노후세대수/총세대수)"]
[]
[null,1,"대덕구",476,{"$f":"D19/D11","v":0.78547854785478544},2,"대덕구",33481,{"$f":"H19/E11","v":0.73889918785310738}]
[null,2,"서구",{"$f":"J9","v":1050},{"$f":"D20/D9","v":0.72967338429464901},1,"서구",{"$f":"K9","v":95602},{"$f":"H20/E9","v":0.75233328611675088}]
[null,3,"중구",490,{"$f":"D21/D8","v":0.68627450980392157},3,"중구",35848,{"$f":"H21/E8","v":0.65333795039093112}]
[null,4,"동구",511,0.51679306608884079,4,"동구",26028,0.6138400353513036]
[null,5,"유성구",467,{"$f":"D23/D10","v":0.32933709449929477},5,"유성구",36539,{"$f":"H23/E10","v":0.3361608169649018}]
[null,"총 계","대전광역시",{"$f":"SUM(D19:D23)","v":2994},{"$f":"J6/D6","v":0.58705882352941174},"총 계","대전광역시",{"$f":"SUM(H19:H23)","v":227498},{"$f":"K6/E6","v":0.57957582319597478}]

{"sheet":"기본정보","index":4,"n_rows":25,"n_cols":11,"rows_kept":25,"cut":false,"hidden":true,"merged":[]}
[null,"종로구","아파트",{"$nulls":7},"의무관리"]
[null,"중구","주상복합",{"$nulls":7},"임의관리"]
[null,"용산구","연립"]
[null,"성동구","다세대"]
[null,"광진구"]
[null,"동대문구"]
[null,"중랑구"]
[null,"성북구"]
[null,"강북구"]
[null,"도봉구"]
[null,"노원구"]
[null,"은평구"]
[null,"서대문구"]
[null,"마포구"]
[null,"양천구"]
[null,"강서구"]
[null,"구로구"]
[null,"금천구"]
[null,"영등포구"]
[null,"동작구"]
[null,"관악구"]
[null,"서초구"]
[null,"강남구"]
[null,"송파구"]
[null,"강동구"]

{"sheet":"Sheet1","index":5,"n_rows":67,"n_cols":14,"rows_kept":67,"cut":false,"hidden":true,"merged":[]}
["준공연도",null,null,"1971-01-01",null,"1981-01-01",null,"1991-01-01",null,"2001-01-01",null,"2011-01-01",null,"비고"]
[null,"단지","동수","단지","동수","단지","동수","단지","동수","단지","동수","단지","동수"]
["계",{"$f":"SUM(B4:B28)","v":{"$error":"#REF!"}},{"$f":"SUM(C4:C28)","v":{"$error":"#REF!"}},{"$error":"#REF!"},{"$error":"#REF!"},{"$error":"#REF!"},{"$error":"#REF!"},{"$error":"#REF!"},{"$error":"#REF!"},{"$error":"#REF!"},{"$error":"#REF!"},{"$error":"#REF!"},{"$error":"#REF!"}]
["종로구",{"$f":"COUNTIFS(#REF!,Sheet1!$A4,#REF!,\"<>임대\",#REF!,\">=30\",#REF!,\"<\"&Sheet1!D$1)","v":{"$error":"#REF!"}},{"$f":"SUMIFS(#REF!,#REF!,Sheet1!$A4,#REF!,\"<>임대\",#REF!,\">=30\",#REF!,\"<\"&D$1)","v":{"$error":"#REF!"}},{"$f":"COUNTIFS(#REF!,Sheet1!$A4,#REF!,\"<>임대\",#REF!,\">=30\",#REF!,\">=\"&Sheet1!D$1,#REF!,\"<\"&Sheet1!F$1)","v":{"$error":"#REF!"}},{"$f":"SUMIFS(#REF!,#REF!,Sheet1!$A4,#REF!,\"<>임대\",#REF!,\">=30\",#REF!,\">=\"&D$1,#REF!,\"<\"&F$1)","v":{"$error":"#REF!"}},{"$f":"COUNTIFS(#REF!,Sheet1!$A4,#REF!,\"<>임대\",#REF!,\">=30\",#REF!,\">=\"&Sheet1!F$1,#REF!,\"<\"&Sheet1!H$1)","v":{"$error":"#REF!"}},{"$f":"SUMIFS(#REF!,#REF!,Sheet1!$A4,#REF!,\"<>임대\",#REF!,\">=30\",#REF!,\">=\"&F$1,#REF!,\"<\"&H$1)","v":{"$error":"#REF!"}},{"$f":"COUNTIFS(#REF!,Sheet1!$A4,#REF!,\"<>임대\",#REF!,\">=30\",#REF!,\">=\"&Sheet1!H$1,#REF!,\"<\"&Sheet1!J$1)","v":{"$error":"#REF!"}},{"$f":"SUMIFS(#REF!,#REF!,Sheet1!$A4,#REF!,\"<>임대\",#REF!,\">=30\",#REF!,\">=\"&H$1,#REF!,\"<\"&J$1)","v":{"$error":"#REF!"}},{"$f":"COUNTIFS(#REF!,Sheet1!$A4,#REF!,\"<>임대\",#REF!,\">=30\",#REF!,\">=\"&Sheet1!J$1,#REF!,\"<\"&Sheet1!L$1)","v":{"$error":"#REF!"}},{"$f":"SUMIFS(#REF!,#REF!,Sheet1!$A4,#REF!,\"<>임대\",#REF!,\">=30\",#REF!,\">=\"&J$1,#REF!,\"<\"&L$1)","v":{"$error":"#REF!"}},{"$f":"COUNTIFS(#REF!,Sheet1!$A4,#REF!,\"<>임대\",#REF!,\">=30\",#REF!,\">=\"&Sheet1!L$1)","v":{"$error":"#REF!"}},{"$f":"SUMIFS(#REF!,#REF!,Sheet1!$A4,#REF!,\"<>임대\",#REF!,\">=30\",#REF!,\">=\"&L$1)","v":{"$error":"#REF!"}}]
["중구",{"$f":"COUNTIFS(#REF!,Sheet1!$A5,#REF!,\"<>임대\",#REF!,\">=30\",#REF!,\"<\"&Sheet1!D$1)","v":{"$error":"#REF!"}},{"$f":"SUMIFS(#REF!,#REF!,Sheet1!$A5,#REF!,\"<>임대\",#REF!,\">=30\",#REF!,\"<\"&D$1)","v":{"$error":"#REF!"}},{"$f":"COUNTIFS(#REF!,Sheet1!$A5,#REF!,\"<>임대\",#REF!,\">=30\",#REF!,\">=\"&Sheet1!D$1,#REF!,\"<\"&Sheet1!F$1)","v":{"$error":"#REF!"}},{"$f":"SUMIFS(#REF!,#REF!,Sheet1!$A5,#REF!,\"<>임대\",#REF!,\">=30\",#REF!,\">=\"&D$1,#REF!,\"<\"&F$1)","v":{"$error":"#REF!"}},{"$f":"COUNTIFS(#REF!,Sheet1!$A5,#REF!,\"<>임대\",#REF!,\">=30\",#REF!,\">=\"&Sheet1!F$1,#REF!,\"<\"&Sheet1!H$1)","v":{"$error":"#REF!"}},{"$f":"SUMIFS(#REF!,#REF!,Sheet1!$A5,#REF!,\"<>임대\",#REF!,\">=30\",#REF!,\">=\"&F$1,#REF!,\"<\"&H$1)","v":{"$error":"#REF!"}},{"$f":"COUNTIFS(#REF!,Sheet1!$A5,#REF!,\"<>임대\",#REF!,\">=30\",#REF!,\">=\"&Sheet1!H$1,#REF!,\"<\"&Sheet1!J$1)","v":{"$error":"#REF!"}},{"$f":"SUMIFS(#REF!,#REF!,Sheet1!$A5,#REF!,\"<>임대\",#REF!,\">=30\",#REF!,\">=\"&H$1,#REF!,\"<\"&J$1)","v":{"$error":"#REF!"}},{"$f":"COUNTIFS(#REF!,Sheet1!$A5,#REF!,\"<>임대\",#REF!,\">=30\",#REF!,\">=\"&Sheet1!J$1,#REF!,\"<\"&Sheet1!L$1)","v":{"$error":"#REF!"}},{"$f":"SUMIFS(#REF!,#REF!,Sheet1!$A5,#REF!,\"<>임대\",#REF!,\">=30\",#REF!,\">=\"&J$1,#REF!,\"<\"&L$1)","v":{"$error":"#REF!"}},{"$f":"COUNTIFS(#REF!,Sheet1!$A5,#REF!,\"<>임대\",#REF!,\">=30\",#REF!,\">=\"&Sheet1!L$1)","v":{"$error":"#REF!"}},{"$f":"SUMIFS(#REF!,#REF!,Sheet1!$A5,#REF!,\"<>임대\",#REF!,\">=30\",#REF!,\">=\"&L$1)","v":{"$error":"#REF!"}}]
["용산구",{"$f":"COUNTIFS(#REF!,Sheet1!$A6,#REF!,\"<>임대\",#REF!,\">=30\",#REF!,\"<\"&Sheet1!D$1)","v":{"$error":"#REF!"}},{"$f":"SUMIFS(#REF!,#REF!,Sheet1!$A6,#REF!,\"<>임대\",#REF!,\">=30\",#REF!,\"<\"&D$1)","v":{"$error":"#REF!"}},{"$f":"COUNTIFS(#REF!,Sheet1!$A6,#REF!,\"<>임대\",#REF!,\">=30\",#REF!,\">=\"&Sheet1!D$1,#REF!,\"<\"&Sheet1!F$1)","v":{"$error":"#REF!"}},{"$f":"SUMIFS(#REF!,#REF!,Sheet1!$A6,#REF!,\"<>임대\",#REF!,\">=30\",#REF!,\">=\"&D$1,#REF!,\"<\"&F$1)","v":{"$error":"#REF!"}},{"$f":"COUNTIFS(#REF!,Sheet1!$A6,#REF!,\"<>임대\",#REF!,\">=30\",#REF!,\">=\"&Sheet1!F$1,#REF!,\"<\"&Sheet1!H$1)","v":{"$error":"#REF!"}},{"$f":"SUMIFS(#REF!,#REF!,Sheet1!$A6,#REF!,\"<>임대\",#REF!,\">=30\",#REF!,\">=\"&F$1,#REF!,\"<\"&H$1)","v":{"$error":"#REF!"}},{"$f":"COUNTIFS(#REF!,Sheet1!$A6,#REF!,\"<>임대\",#REF!,\">=30\",#REF!,\">=\"&Sheet1!H$1,#REF!,\"<\"&Sheet1!J$1)","v":{"$error":"#REF!"}},{"$f":"SUMIFS(#REF!,#REF!,Sheet1!$A6,#REF!,\"<>임대\",#REF!,\">=30\",#REF!,\">=\"&H$1,#REF!,\"<\"&J$1)","v":{"$error":"#REF!"}},{"$f":"COUNTIFS(#REF!,Sheet1!$A6,#REF!,\"<>임대\",#REF!,\">=30\",#REF!,\">=\"&Sheet1!J$1,#REF!,\"<\"&Sheet1!L$1)","v":{"$error":"#REF!"}},{"$f":"SUMIFS(#REF!,#REF!,Sheet1!$A6,#REF!,\"<>임대\",#REF!,\">=30\",#REF!,\">=\"&J$1,#REF!,\"<\"&L$1)","v":{"$error":"#REF!"}},{"$f":"COUNTIFS(#REF!,Sheet1!$A6,#REF!,\"<>임대\",#REF!,\">=30\",#REF!,\">=\"&Sheet1!L$1)","v":{"$error":"#REF!"}},{"$f":"SUMIFS(#REF!,#REF!,Sheet1!$A6,#REF!,\"<>임대\",#REF!,\">=30\",#REF!,\">=\"&L$1)","v":{"$error":"#REF!"}}]
["성동구",{"$f":"COUNTIFS(#REF!,Sheet1!$A7,#REF!,\"<>임대\",#REF!,\">=30\",#REF!,\"<\"&Sheet1!D$1)","v":{"$error":"#REF!"}},{"$f":"SUMIFS(#REF!,#REF!,Sheet1!$A7,#REF!,\"<>임대\",#REF!,\">=30\",#REF!,\"<\"&D$1)","v":{"$error":"#REF!"}},{"$f":"COUNTIFS(#REF!,Sheet1!$A7,#REF!,\"<>임대\",#REF!,\">=30\",#REF!,\">=\"&Sheet1!D$1,#REF!,\"<\"&Sheet1!F$1)","v":{"$error":"#REF!"}},{"$f":"SUMIFS(#REF!,#REF!,Sheet1!$A7,#REF!,\"<>임대\",#REF!,\">=30\",#REF!,\">=\"&D$1,#REF!,\"<\"&F$1)","v":{"$error":"#REF!"}},{"$f":"COUNTIFS(#REF!,Sheet1!$A7,#REF!,\"<>임대\",#REF!,\">=30\",#REF!,\">=\"&Sheet1!F$1,#REF!,\"<\"&Sheet1!H$1)","v":{"$error":"#REF!"}},{"$f":"SUMIFS(#REF!,#REF!,Sheet1!$A7,#REF!,\"<>임대\",#REF!,\">=30\",#REF!,\">=\"&F$1,#REF!,\"<\"&H$1)","v":{"$error":"#REF!"}},{"$f":"COUNTIFS(#REF!,Sheet1!$A7,#REF!,\"<>임대\",#REF!,\">=30\",#REF!,\">=\"&Sheet1!H$1,#REF!,\"<\"&Sheet1!J$1)","v":{"$error":"#REF!"}},{"$f":"SUMIFS(#REF!,#REF!,Sheet1!$A7,#REF!,\"<>임대\",#REF!,\">=30\",#REF!,\">=\"&H$1,#REF!,\"<\"&J$1)","v":{"$error":"#REF!"}},{"$f":"COUNTIFS(#REF!,Sheet1!$A7,#REF!,\"<>임대\",#REF!,\">=30\",#REF!,\">=\"&Sheet1!J$1,#REF!,\"<\"&Sheet1!L$1)","v":{"$error":"#REF!"}},{"$f":"SUMIFS(#REF!,#REF!,Sheet1!$A7,#REF!,\"<>임대\",#REF!,\">=30\",#REF!,\">=\"&J$1,#REF!,\"<\"&L$1)","v":{"$error":"#REF!"}},{"$f":"COUNTIFS(#REF!,Sheet1!$A7,#REF!,\"<>임대\",#REF!,\">=30\",#REF!,\">=\"&Sheet1!L$1)","v":{"$error":"#REF!"}},{"$f":"SUMIFS(#REF!,#REF!,Sheet1!$A7,#REF!,\"<>임대\",#REF!,\">=30\",#REF!,\">=\"&L$1)","v":{"$error":"#REF!"}}]
["광진구",{"$f":"COUNTIFS(#REF!,Sheet1!$A8,#REF!,\"<>임대\",#REF!,\">=30\",#REF!,\"<\"&Sheet1!D$1)","v":{"$error":"#REF!"}},{"$f":"SUMIFS(#REF!,#REF!,Sheet1!$A8,#REF!,\"<>임대\",#REF!,\">=30\",#REF!,\"<\"&D$1)","v":{"$error":"#REF!"}},{"$f":"COUNTIFS(#REF!,Sheet1!$A8,#REF!,\"<>임대\",#REF!,\">=30\",#REF!,\">=\"&Sheet1!D$1,#REF!,\"<\"&Sheet1!F$1)","v":{"$error":"#REF!"}},{"$f":"SUMIFS(#REF!,#REF!,Sheet1!$A8,#REF!,\"<>임대\",#REF!,\">=30\",#REF!,\">=\"&D$1,#REF!,\"<\"&F$1)","v":{"$error":"#REF!"}},{"$f":"COUNTIFS(#REF!,Sheet1!$A8,#REF!,\"<>임대\",#REF!,\">=30\",#REF!,\">=\"&Sheet1!F$1,#REF!,\"<\"&Sheet1!H$1)","v":{"$error":"#REF!"}},{"$f":"SUMIFS(#REF!,#REF!,Sheet1!$A8,#REF!,\"<>임대\",#REF!,\">=30\",#REF!,\">=\"&F$1,#REF!,\"<\"&H$1)","v":{"$error":"#REF!"}},{"$f":"COUNTIFS(#REF!,Sheet1!$A8,#REF!,\"<>임대\",#REF!,\">=30\",#REF!,\">=\"&Sheet1!H$1,#REF!,\"<\"&Sheet1!J$1)","v":{"$error":"#REF!"}},{"$f":"SUMIFS(#REF!,#REF!,Sheet1!$A8,#REF!,\"<>임대\",#REF!,\">=30\",#REF!,\">=\"&H$1,#REF!,\"<\"&J$1)","v":{"$error":"#REF!"}},{"$f":"COUNTIFS(#REF!,Sheet1!$A8,#REF!,\"<>임대\",#REF!,\">=30\",#REF!,\">=\"&Sheet1!J$1,#REF!,\"<\"&Sheet1!L$1)","v":{"$error":"#REF!"}},{"$f":"SUMIFS(#REF!,#REF!,Sheet1!$A8,#REF!,\"<>임대\",#REF!,\">=30\",#REF!,\">=\"&J$1,#REF!,\"<\"&L$1)","v":{"$error":"#REF!"}},{"$f":"COUNTIFS(#REF!,Sheet1!$A8,#REF!,\"<>임대\",#REF!,\">=30\",#REF!,\">=\"&Sheet1!L$1)","v":{"$error":"#REF!"}},{"$f":"SUMIFS(#REF!,#REF!,Sheet1!$A8,#REF!,\"<>임대\",#REF!,\">=30\",#REF!,\">=\"&L$1)","v":{"$error":"#REF!"}}]
["동대문구",{"$f":"COUNTIFS(#REF!,Sheet1!$A9,#REF!,\"<>임대\",#REF!,\">=30\",#REF!,\"<\"&Sheet1!D$1)","v":{"$error":"#REF!"}},{"$f":"SUMIFS(#REF!,#REF!,Sheet1!$A9,#REF!,\"<>임대\",#REF!,\">=30\",#REF!,\"<\"&D$1)","v":{"$error":"#REF!"}},{"$f":"COUNTIFS(#REF!,Sheet1!$A9,#REF!,\"<>임대\",#REF!,\">=30\",#REF!,\">=\"&Sheet1!D$1,#REF!,\"<\"&Sheet1!F$1)","v":{"$error":"#REF!"}},{"$f":"SUMIFS(#REF!,#REF!,Sheet1!$A9,#REF!,\"<>임대\",#REF!,\">=30\",#REF!,\">=\"&D$1,#REF!,\"<\"&F$1)","v":{"$error":"#REF!"}},{"$f":"COUNTIFS(#REF!,Sheet1!$A9,#REF!,\"<>임대\",#REF!,\">=30\",#REF!,\">=\"&Sheet1!F$1,#REF!,\"<\"&Sheet1!H$1)","v":{"$error":"#REF!"}},{"$f":"SUMIFS(#REF!,#REF!,Sheet1!$A9,#REF!,\"<>임대\",#REF!,\">=30\",#REF!,\">=\"&F$1,#REF!,\"<\"&H$1)","v":{"$error":"#REF!"}},{"$f":"COUNTIFS(#REF!,Sheet1!$A9,#REF!,\"<>임대\",#REF!,\">=30\",#REF!,\">=\"&Sheet1!H$1,#REF!,\"<\"&Sheet1!J$1)","v":{"$error":"#REF!"}},{"$f":"SUMIFS(#REF!,#REF!,Sheet1!$A9,#REF!,\"<>임대\",#REF!,\">=30\",#REF!,\">=\"&H$1,#REF!,\"<\"&J$1)","v":{"$error":"#REF!"}},{"$f":"COUNTIFS(#REF!,Sheet1!$A9,#REF!,\"<>임대\",#REF!,\">=30\",#REF!,\">=\"&Sheet1!J$1,#REF!,\"<\"&Sheet1!L$1)","v":{"$error":"#REF!"}},{"$f":"SUMIFS(#REF!,#REF!,Sheet1!$A9,#REF!,\"<>임대\",#REF!,\">=30\",#REF!,\">=\"&J$1,#REF!,\"<\"&L$1)","v":{"$error":"#REF!"}},{"$f":"COUNTIFS(#REF!,Sheet1!$A9,#REF!,\"<>임대\",#REF!,\">=30\",#REF!,\">=\"&Sheet1!L$1)","v":{"$error":"#REF!"}},{"$f":"SUMIFS(#REF!,#REF!,Sheet1!$A9,#REF!,\"<>임대\",#REF!,\">=30\",#REF!,\">=\"&L$1)","v":{"$error":"#REF!"}}]
["중랑구",{"$f":"COUNTIFS(#REF!,Sheet1!$A10,#REF!,\"<>임대\",#REF!,\">=30\",#REF!,\"<\"&Sheet1!D$1)","v":{"$error":"#REF!"}},{"$f":"SUMIFS(#REF!,#REF!,Sheet1!$A10,#REF!,\"<>임대\",#REF!,\">=30\",#REF!,\"<\"&D$1)","v":{"$error":"#REF!"}},{"$f":"COUNTIFS(#REF!,Sheet1!$A10,#REF!,\"<>임대\",#REF!,\">=30\",#REF!,\">=\"&Sheet1!D$1,#REF!,\"<\"&Sheet1!F$1)","v":{"$error":"#REF!"}},{"$f":"SUMIFS(#REF!,#REF!,Sheet1!$A10,#REF!,\"<>임대\",#REF!,\">=30\",#REF!,\">=\"&D$1,#REF!,\"<\"&F$1)","v":{"$error":"#REF!"}},{"$f":"COUNTIFS(#REF!,Sheet1!$A10,#REF!,\"<>임대\",#REF!,\">=30\",#REF!,\">=\"&Sheet1!F$1,#REF!,\"<\"&Sheet1!H$1)","v":{"$error":"#REF!"}},{"$f":"SUMIFS(#REF!,#REF!,Sheet1!$A10,#REF!,\"<>임대\",#REF!,\">=30\",#REF!,\">=\"&F$1,#REF!,\"<\"&H$1)","v":{"$error":"#REF!"}},{"$f":"COUNTIFS(#REF!,Sheet1!$A10,#REF!,\"<>임대\",#REF!,\">=30\",#REF!,\">=\"&Sheet1!H$1,#REF!,\"<\"&Sheet1!J$1)","v":{"$error":"#REF!"}},{"$f":"SUMIFS(#REF!,#REF!,Sheet1!$A10,#REF!,\"<>임대\",#REF!,\">=30\",#REF!,\">=\"&H$1,#REF!,\"<\"&J$1)","v":{"$error":"#REF!"}},{"$f":"COUNTIFS(#REF!,Sheet1!$A10,#REF!,\"<>임대\",#REF!,\">=30\",#REF!,\">=\"&Sheet1!J$1,#REF!,\"<\"&Sheet1!L$1)","v":{"$error":"#REF!"}},{"$f":"SUMIFS(#REF!,#REF!,Sheet1!$A10,#REF!,\"<>임대\",#REF!,\">=30\",#REF!,\">=\"&J$1,#REF!,\"<\"&L$1)","v":{"$error":"#REF!"}},{"$f":"COUNTIFS(#REF!,Sheet1!$A10,#REF!,\"<>임대\",#REF!,\">=30\",#REF!,\">=\"&Sheet1!L$1)","v":{"$error":"#REF!"}},{"$f":"SUMIFS(#REF!,#REF!,Sheet1!$A10,#REF!,\"<>임대\",#REF!,\">=30\",#REF!,\">=\"&L$1)","v":{"$error":"#REF!"}}]
["성북구",{"$f":"COUNTIFS(#REF!,Sheet1!$A11,#REF!,\"<>임대\",#REF!,\">=30\",#REF!,\"<\"&Sheet1!D$1)","v":{"$error":"#REF!"}},{"$f":"SUMIFS(#REF!,#REF!,Sheet1!$A11,#REF!,\"<>임대\",#REF!,\">=30\",#REF!,\"<\"&D$1)","v":{"$error":"#REF!"}},{"$f":"COUNTIFS(#REF!,Sheet1!$A11,#REF!,\"<>임대\",#REF!,\">=30\",#REF!,\">=\"&Sheet1!D$1,#REF!,\"<\"&Sheet1!F$1)","v":{"$error":"#REF!"}},{"$f":"SUMIFS(#REF!,#REF!,Sheet1!$A11,#REF!,\"<>임대\",#REF!,\">=30\",#REF!,\">=\"&D$1,#REF!,\"<\"&F$1)","v":{"$error":"#REF!"}},{"$f":"COUNTIFS(#REF!,Sheet1!$A11,#REF!,\"<>임대\",#REF!,\">=30\",#REF!,\">=\"&Sheet1!F$1,#REF!,\"<\"&Sheet1!H$1)","v":{"$error":"#REF!"}},{"$f":"SUMIFS(#REF!,#REF!,Sheet1!$A11,#REF!,\"<>임대\",#REF!,\">=30\",#REF!,\">=\"&F$1,#REF!,\"<\"&H$1)","v":{"$error":"#REF!"}},{"$f":"COUNTIFS(#REF!,Sheet1!$A11,#REF!,\"<>임대\",#REF!,\">=30\",#REF!,\">=\"&Sheet1!H$1,#REF!,\"<\"&Sheet1!J$1)","v":{"$error":"#REF!"}},{"$f":"SUMIFS(#REF!,#REF!,Sheet1!$A11,#REF!,\"<>임대\",#REF!,\">=30\",#REF!,\">=\"&H$1,#REF!,\"<\"&J$1)","v":{"$error":"#REF!"}},{"$f":"COUNTIFS(#REF!,Sheet1!$A11,#REF!,\"<>임대\",#REF!,\">=30\",#REF!,\">=\"&Sheet1!J$1,#REF!,\"<\"&Sheet1!L$1)","v":{"$error":"#REF!"}},{"$f":"SUMIFS(#REF!,#REF!,Sheet1!$A11,#REF!,\"<>임대\",#REF!,\">=30\",#REF!,\">=\"&J$1,#REF!,\"<\"&L$1)","v":{"$error":"#REF!"}},{"$f":"COUNTIFS(#REF!,Sheet1!$A11,#REF!,\"<>임대\",#REF!,\">=30\",#REF!,\">=\"&Sheet1!L$1)","v":{"$error":"#REF!"}},{"$f":"SUMIFS(#REF!,#REF!,Sheet1!$A11,#REF!,\"<>임대\",#REF!,\">=30\",#REF!,\">=\"&L$1)","v":{"$error":"#REF!"}}]
["강북구",{"$f":"COUNTIFS(#REF!,Sheet1!$A12,#REF!,\"<>임대\",#REF!,\">=30\",#REF!,\"<\"&Sheet1!D$1)","v":{"$error":"#REF!"}},{"$f":"SUMIFS(#REF!,#REF!,Sheet1!$A12,#REF!,\"<>임대\",#REF!,\">=30\",#REF!,\"<\"&D$1)","v":{"$error":"#REF!"}},{"$f":"COUNTIFS(#REF!,Sheet1!$A12,#REF!,\"<>임대\",#REF!,\">=30\",#REF!,\">=\"&Sheet1!D$1,#REF!,\"<\"&Sheet1!F$1)","v":{"$error":"#REF!"}},{"$f":"SUMIFS(#REF!,#REF!,Sheet1!$A12,#REF!,\"<>임대\",#REF!,\">=30\",#REF!,\">=\"&D$1,#REF!,\"<\"&F$1)","v":{"$error":"#REF!"}},{"$f":"COUNTIFS(#REF!,Sheet1!$A12,#REF!,\"<>임대\",#REF!,\">=30\",#REF!,\">=\"&Sheet1!F$1,#REF!,\"<\"&Sheet1!H$1)","v":{"$error":"#REF!"}},{"$f":"SUMIFS(#REF!,#REF!,Sheet1!$A12,#REF!,\"<>임대\",#REF!,\">=30\",#REF!,\">=\"&F$1,#REF!,\"<\"&H$1)","v":{"$error":"#REF!"}},{"$f":"COUNTIFS(#REF!,Sheet1!$A12,#REF!,\"<>임대\",#REF!,\">=30\",#REF!,\">=\"&Sheet1!H$1,#REF!,\"<\"&Sheet1!J$1)","v":{"$error":"#REF!"}},{"$f":"SUMIFS(#REF!,#REF!,Sheet1!$A12,#REF!,\"<>임대\",#REF!,\">=30\",#REF!,\">=\"&H$1,#REF!,\"<\"&J$1)","v":{"$error":"#REF!"}},{"$f":"COUNTIFS(#REF!,Sheet1!$A12,#REF!,\"<>임대\",#REF!,\">=30\",#REF!,\">=\"&Sheet1!J$1,#REF!,\"<\"&Sheet1!L$1)","v":{"$error":"#REF!"}},{"$f":"SUMIFS(#REF!,#REF!,Sheet1!$A12,#REF!,\"<>임대\",#REF!,\">=30\",#REF!,\">=\"&J$1,#REF!,\"<\"&L$1)","v":{"$error":"#REF!"}},{"$f":"COUNTIFS(#REF!,Sheet1!$A12,#REF!,\"<>임대\",#REF!,\">=30\",#REF!,\">=\"&Sheet1!L$1)","v":{"$error":"#REF!"}},{"$f":"SUMIFS(#REF!,#REF!,Sheet1!$A12,#REF!,\"<>임대\",#REF!,\">=30\",#REF!,\">=\"&L$1)","v":{"$error":"#REF!"}}]
["도봉구",{"$f":"COUNTIFS(#REF!,Sheet1!$A13,#REF!,\"<>임대\",#REF!,\">=30\",#REF!,\"<\"&Sheet1!D$1)","v":{"$error":"#REF!"}},{"$f":"SUMIFS(#REF!,#REF!,Sheet1!$A13,#REF!,\"<>임대\",#REF!,\">=30\",#REF!,\"<\"&D$1)","v":{"$error":"#REF!"}},{"$f":"COUNTIFS(#REF!,Sheet1!$A13,#REF!,\"<>임대\",#REF!,\">=30\",#REF!,\">=\"&Sheet1!D$1,#REF!,\"<\"&Sheet1!F$1)","v":{"$error":"#REF!"}},{"$f":"SUMIFS(#REF!,#REF!,Sheet1!$A13,#REF!,\"<>임대\",#REF!,\">=30\",#REF!,\">=\"&D$1,#REF!,\"<\"&F$1)","v":{"$error":"#REF!"}},{"$f":"COUNTIFS(#REF!,Sheet1!$A13,#REF!,\"<>임대\",#REF!,\">=30\",#REF!,\">=\"&Sheet1!F$1,#REF!,\"<\"&Sheet1!H$1)","v":{"$error":"#REF!"}},{"$f":"SUMIFS(#REF!,#REF!,Sheet1!$A13,#REF!,\"<>임대\",#REF!,\">=30\",#REF!,\">=\"&F$1,#REF!,\"<\"&H$1)","v":{"$error":"#REF!"}},{"$f":"COUNTIFS(#REF!,Sheet1!$A13,#REF!,\"<>임대\",#REF!,\">=30\",#REF!,\">=\"&Sheet1!H$1,#REF!,\"<\"&Sheet1!J$1)","v":{"$error":"#REF!"}},{"$f":"SUMIFS(#REF!,#REF!,Sheet1!$A13,#REF!,\"<>임대\",#REF!,\">=30\",#REF!,\">=\"&H$1,#REF!,\"<\"&J$1)","v":{"$error":"#REF!"}},{"$f":"COUNTIFS(#REF!,Sheet1!$A13,#REF!,\"<>임대\",#REF!,\">=30\",#REF!,\">=\"&Sheet1!J$1,#REF!,\"<\"&Sheet1!L$1)","v":{"$error":"#REF!"}},{"$f":"SUMIFS(#REF!,#REF!,Sheet1!$A13,#REF!,\"<>임대\",#REF!,\">=30\",#REF!,\">=\"&J$1,#REF!,\"<\"&L$1)","v":{"$error":"#REF!"}},{"$f":"COUNTIFS(#REF!,Sheet1!$A13,#REF!,\"<>임대\",#REF!,\">=30\",#REF!,\">=\"&Sheet1!L$1)","v":{"$error":"#REF!"}},{"$f":"SUMIFS(#REF!,#REF!,Sheet1!$A13,#REF!,\"<>임대\",#REF!,\">=30\",#REF!,\">=\"&L$1)","v":{"$error":"#REF!"}}]
["노원구",{"$f":"COUNTIFS(#REF!,Sheet1!$A14,#REF!,\"<>임대\",#REF!,\">=30\",#REF!,\"<\"&Sheet1!D$1)","v":{"$error":"#REF!"}},{"$f":"SUMIFS(#REF!,#REF!,Sheet1!$A14,#REF!,\"<>임대\",#REF!,\">=30\",#REF!,\"<\"&D$1)","v":{"$error":"#REF!"}},{"$f":"COUNTIFS(#REF!,Sheet1!$A14,#REF!,\"<>임대\",#REF!,\">=30\",#REF!,\">=\"&Sheet1!D$1,#REF!,\"<\"&Sheet1!F$1)","v":{"$error":"#REF!"}},{"$f":"SUMIFS(#REF!,#REF!,Sheet1!$A14,#REF!,\"<>임대\",#REF!,\">=30\",#REF!,\">=\"&D$1,#REF!,\"<\"&F$1)","v":{"$error":"#REF!"}},{"$f":"COUNTIFS(#REF!,Sheet1!$A14,#REF!,\"<>임대\",#REF!,\">=30\",#REF!,\">=\"&Sheet1!F$1,#REF!,\"<\"&Sheet1!H$1)","v":{"$error":"#REF!"}},{"$f":"SUMIFS(#REF!,#REF!,Sheet1!$A14,#REF!,\"<>임대\",#REF!,\">=30\",#REF!,\">=\"&F$1,#REF!,\"<\"&H$1)","v":{"$error":"#REF!"}},{"$f":"COUNTIFS(#REF!,Sheet1!$A14,#REF!,\"<>임대\",#REF!,\">=30\",#REF!,\">=\"&Sheet1!H$1,#REF!,\"<\"&Sheet1!J$1)","v":{"$error":"#REF!"}},{"$f":"SUMIFS(#REF!,#REF!,Sheet1!$A14,#REF!,\"<>임대\",#REF!,\">=30\",#REF!,\">=\"&H$1,#REF!,\"<\"&J$1)","v":{"$error":"#REF!"}},{"$f":"COUNTIFS(#REF!,Sheet1!$A14,#REF!,\"<>임대\",#REF!,\">=30\",#REF!,\">=\"&Sheet1!J$1,#REF!,\"<\"&Sheet1!L$1)","v":{"$error":"#REF!"}},{"$f":"SUMIFS(#REF!,#REF!,Sheet1!$A14,#REF!,\"<>임대\",#REF!,\">=30\",#REF!,\">=\"&J$1,#REF!,\"<\"&L$1)","v":{"$error":"#REF!"}},{"$f":"COUNTIFS(#REF!,Sheet1!$A14,#REF!,\"<>임대\",#REF!,\">=30\",#REF!,\">=\"&Sheet1!L$1)","v":{"$error":"#REF!"}},{"$f":"SUMIFS(#REF!,#REF!,Sheet1!$A14,#REF!,\"<>임대\",#REF!,\">=30\",#REF!,\">=\"&L$1)","v":{"$error":"#REF!"}}]
["은평구",{"$f":"COUNTIFS(#REF!,Sheet1!$A15,#REF!,\"<>임대\",#REF!,\">=30\",#REF!,\"<\"&Sheet1!D$1)","v":{"$error":"#REF!"}},{"$f":"SUMIFS(#REF!,#REF!,Sheet1!$A15,#REF!,\"<>임대\",#REF!,\">=30\",#REF!,\"<\"&D$1)","v":{"$error":"#REF!"}},{"$f":"COUNTIFS(#REF!,Sheet1!$A15,#REF!,\"<>임대\",#REF!,\">=30\",#REF!,\">=\"&Sheet1!D$1,#REF!,\"<\"&Sheet1!F$1)","v":{"$error":"#REF!"}},{"$f":"SUMIFS(#REF!,#REF!,Sheet1!$A15,#REF!,\"<>임대\",#REF!,\">=30\",#REF!,\">=\"&D$1,#REF!,\"<\"&F$1)","v":{"$error":"#REF!"}},{"$f":"COUNTIFS(#REF!,Sheet1!$A15,#REF!,\"<>임대\",#REF!,\">=30\",#REF!,\">=\"&Sheet1!F$1,#REF!,\"<\"&Sheet1!H$1)","v":{"$error":"#REF!"}},{"$f":"SUMIFS(#REF!,#REF!,Sheet1!$A15,#REF!,\"<>임대\",#REF!,\">=30\",#REF!,\">=\"&F$1,#REF!,\"<\"&H$1)","v":{"$error":"#REF!"}},{"$f":"COUNTIFS(#REF!,Sheet1!$A15,#REF!,\"<>임대\",#REF!,\">=30\",#REF!,\">=\"&Sheet1!H$1,#REF!,\"<\"&Sheet1!J$1)","v":{"$error":"#REF!"}},{"$f":"SUMIFS(#REF!,#REF!,Sheet1!$A15,#REF!,\"<>임대\",#REF!,\">=30\",#REF!,\">=\"&H$1,#REF!,\"<\"&J$1)","v":{"$error":"#REF!"}},{"$f":"COUNTIFS(#REF!,Sheet1!$A15,#REF!,\"<>임대\",#REF!,\">=30\",#REF!,\">=\"&Sheet1!J$1,#REF!,\"<\"&Sheet1!L$1)","v":{"$error":"#REF!"}},{"$f":"SUMIFS(#REF!,#REF!,Sheet1!$A15,#REF!,\"<>임대\",#REF!,\">=30\",#REF!,\">=\"&J$1,#REF!,\"<\"&L$1)","v":{"$error":"#REF!"}},{"$f":"COUNTIFS(#REF!,Sheet1!$A15,#REF!,\"<>임대\",#REF!,\">=30\",#REF!,\">=\"&Sheet1!L$1)","v":{"$error":"#REF!"}},{"$f":"SUMIFS(#REF!,#REF!,Sheet1!$A15,#REF!,\"<>임대\",#REF!,\">=30\",#REF!,\">=\"&L$1)","v":{"$error":"#REF!"}}]
["서대문구",{"$f":"COUNTIFS(#REF!,Sheet1!$A16,#REF!,\"<>임대\",#REF!,\">=30\",#REF!,\"<\"&Sheet1!D$1)","v":{"$error":"#REF!"}},{"$f":"SUMIFS(#REF!,#REF!,Sheet1!$A16,#REF!,\"<>임대\",#REF!,\">=30\",#REF!,\"<\"&D$1)","v":{"$error":"#REF!"}},{"$f":"COUNTIFS(#REF!,Sheet1!$A16,#REF!,\"<>임대\",#REF!,\">=30\",#REF!,\">=\"&Sheet1!D$1,#REF!,\"<\"&Sheet1!F$1)","v":{"$error":"#REF!"}},{"$f":"SUMIFS(#REF!,#REF!,Sheet1!$A16,#REF!,\"<>임대\",#REF!,\">=30\",#REF!,\">=\"&D$1,#REF!,\"<\"&F$1)","v":{"$error":"#REF!"}},{"$f":"COUNTIFS(#REF!,Sheet1!$A16,#REF!,\"<>임대\",#REF!,\">=30\",#REF!,\">=\"&Sheet1!F$1,#REF!,\"<\"&Sheet1!H$1)","v":{"$error":"#REF!"}},{"$f":"SUMIFS(#REF!,#REF!,Sheet1!$A16,#REF!,\"<>임대\",#REF!,\">=30\",#REF!,\">=\"&F$1,#REF!,\"<\"&H$1)","v":{"$error":"#REF!"}},{"$f":"COUNTIFS(#REF!,Sheet1!$A16,#REF!,\"<>임대\",#REF!,\">=30\",#REF!,\">=\"&Sheet1!H$1,#REF!,\"<\"&Sheet1!J$1)","v":{"$error":"#REF!"}},{"$f":"SUMIFS(#REF!,#REF!,Sheet1!$A16,#REF!,\"<>임대\",#REF!,\">=30\",#REF!,\">=\"&H$1,#REF!,\"<\"&J$1)","v":{"$error":"#REF!"}},{"$f":"COUNTIFS(#REF!,Sheet1!$A16,#REF!,\"<>임대\",#REF!,\">=30\",#REF!,\">=\"&Sheet1!J$1,#REF!,\"<\"&Sheet1!L$1)","v":{"$error":"#REF!"}},{"$f":"SUMIFS(#REF!,#REF!,Sheet1!$A16,#REF!,\"<>임대\",#REF!,\">=30\",#REF!,\">=\"&J$1,#REF!,\"<\"&L$1)","v":{"$error":"#REF!"}},{"$f":"COUNTIFS(#REF!,Sheet1!$A16,#REF!,\"<>임대\",#REF!,\">=30\",#REF!,\">=\"&Sheet1!L$1)","v":{"$error":"#REF!"}},{"$f":"SUMIFS(#REF!,#REF!,Sheet1!$A16,#REF!,\"<>임대\",#REF!,\">=30\",#REF!,\">=\"&L$1)","v":{"$error":"#REF!"}}]
["마포구",{"$f":"COUNTIFS(#REF!,Sheet1!$A17,#REF!,\"<>임대\",#REF!,\">=30\",#REF!,\"<\"&Sheet1!D$1)","v":{"$error":"#REF!"}},{"$f":"SUMIFS(#REF!,#REF!,Sheet1!$A17,#REF!,\"<>임대\",#REF!,\">=30\",#REF!,\"<\"&D$1)","v":{"$error":"#REF!"}},{"$f":"COUNTIFS(#REF!,Sheet1!$A17,#REF!,\"<>임대\",#REF!,\">=30\",#REF!,\">=\"&Sheet1!D$1,#REF!,\"<\"&Sheet1!F$1)","v":{"$error":"#REF!"}},{"$f":"SUMIFS(#REF!,#REF!,Sheet1!$A17,#REF!,\"<>임대\",#REF!,\">=30\",#REF!,\">=\"&D$1,#REF!,\"<\"&F$1)","v":{"$error":"#REF!"}},{"$f":"COUNTIFS(#REF!,Sheet1!$A17,#REF!,\"<>임대\",#REF!,\">=30\",#REF!,\">=\"&Sheet1!F$1,#REF!,\"<\"&Sheet1!H$1)","v":{"$error":"#REF!"}},{"$f":"SUMIFS(#REF!,#REF!,Sheet1!$A17,#REF!,\"<>임대\",#REF!,\">=30\",#REF!,\">=\"&F$1,#REF!,\"<\"&H$1)","v":{"$error":"#REF!"}},{"$f":"COUNTIFS(#REF!,Sheet1!$A17,#REF!,\"<>임대\",#REF!,\">=30\",#REF!,\">=\"&Sheet1!H$1,#REF!,\"<\"&Sheet1!J$1)","v":{"$error":"#REF!"}},{"$f":"SUMIFS(#REF!,#REF!,Sheet1!$A17,#REF!,\"<>임대\",#REF!,\">=30\",#REF!,\">=\"&H$1,#REF!,\"<\"&J$1)","v":{"$error":"#REF!"}},{"$f":"COUNTIFS(#REF!,Sheet1!$A17,#REF!,\"<>임대\",#REF!,\">=30\",#REF!,\">=\"&Sheet1!J$1,#REF!,\"<\"&Sheet1!L$1)","v":{"$error":"#REF!"}},{"$f":"SUMIFS(#REF!,#REF!,Sheet1!$A17,#REF!,\"<>임대\",#REF!,\">=30\",#REF!,\">=\"&J$1,#REF!,\"<\"&L$1)","v":{"$error":"#REF!"}},{"$f":"COUNTIFS(#REF!,Sheet1!$A17,#REF!,\"<>임대\",#REF!,\">=30\",#REF!,\">=\"&Sheet1!L$1)","v":{"$error":"#REF!"}},{"$f":"SUMIFS(#REF!,#REF!,Sheet1!$A17,#REF!,\"<>임대\",#REF!,\">=30\",#REF!,\">=\"&L$1)","v":{"$error":"#REF!"}}]
["양천구",{"$f":"COUNTIFS(#REF!,Sheet1!$A18,#REF!,\"<>임대\",#REF!,\">=30\",#REF!,\"<\"&Sheet1!D$1)","v":{"$error":"#REF!"}},{"$f":"SUMIFS(#REF!,#REF!,Sheet1!$A18,#REF!,\"<>임대\",#REF!,\">=30\",#REF!,\"<\"&D$1)","v":{"$error":"#REF!"}},{"$f":"COUNTIFS(#REF!,Sheet1!$A18,#REF!,\"<>임대\",#REF!,\">=30\",#REF!,\">=\"&Sheet1!D$1,#REF!,\"<\"&Sheet1!F$1)","v":{"$error":"#REF!"}},{"$f":"SUMIFS(#REF!,#REF!,Sheet1!$A18,#REF!,\"<>임대\",#REF!,\">=30\",#REF!,\">=\"&D$1,#REF!,\"<\"&F$1)","v":{"$error":"#REF!"}},{"$f":"COUNTIFS(#REF!,Sheet1!$A18,#REF!,\"<>임대\",#REF!,\">=30\",#REF!,\">=\"&Sheet1!F$1,#REF!,\"<\"&Sheet1!H$1)","v":{"$error":"#REF!"}},{"$f":"SUMIFS(#REF!,#REF!,Sheet1!$A18,#REF!,\"<>임대\",#REF!,\">=30\",#REF!,\">=\"&F$1,#REF!,\"<\"&H$1)","v":{"$error":"#REF!"}},{"$f":"COUNTIFS(#REF!,Sheet1!$A18,#REF!,\"<>임대\",#REF!,\">=30\",#REF!,\">=\"&Sheet1!H$1,#REF!,\"<\"&Sheet1!J$1)","v":{"$error":"#REF!"}},{"$f":"SUMIFS(#REF!,#REF!,Sheet1!$A18,#REF!,\"<>임대\",#REF!,\">=30\",#REF!,\">=\"&H$1,#REF!,\"<\"&J$1)","v":{"$error":"#REF!"}},{"$f":"COUNTIFS(#REF!,Sheet1!$A18,#REF!,\"<>임대\",#REF!,\">=30\",#REF!,\">=\"&Sheet1!J$1,#REF!,\"<\"&Sheet1!L$1)","v":{"$error":"#REF!"}},{"$f":"SUMIFS(#REF!,#REF!,Sheet1!$A18,#REF!,\"<>임대\",#REF!,\">=30\",#REF!,\">=\"&J$1,#REF!,\"<\"&L$1)","v":{"$error":"#REF!"}},{"$f":"COUNTIFS(#REF!,Sheet1!$A18,#REF!,\"<>임대\",#REF!,\">=30\",#REF!,\">=\"&Sheet1!L$1)","v":{"$error":"#REF!"}},{"$f":"SUMIFS(#REF!,#REF!,Sheet1!$A18,#REF!,\"<>임대\",#REF!,\">=30\",#REF!,\">=\"&L$1)","v":{"$error":"#REF!"}}]
["강서구",{"$f":"COUNTIFS(#REF!,Sheet1!$A19,#REF!,\"<>임대\",#REF!,\">=30\",#REF!,\"<\"&Sheet1!D$1)","v":{"$error":"#REF!"}},{"$f":"SUMIFS(#REF!,#REF!,Sheet1!$A19,#REF!,\"<>임대\",#REF!,\">=30\",#REF!,\"<\"&D$1)","v":{"$error":"#REF!"}},{"$f":"COUNTIFS(#REF!,Sheet1!$A19,#REF!,\"<>임대\",#REF!,\">=30\",#REF!,\">=\"&Sheet1!D$1,#REF!,\"<\"&Sheet1!F$1)","v":{"$error":"#REF!"}},{"$f":"SUMIFS(#REF!,#REF!,Sheet1!$A19,#REF!,\"<>임대\",#REF!,\">=30\",#REF!,\">=\"&D$1,#REF!,\"<\"&F$1)","v":{"$error":"#REF!"}},{"$f":"COUNTIFS(#REF!,Sheet1!$A19,#REF!,\"<>임대\",#REF!,\">=30\",#REF!,\">=\"&Sheet1!F$1,#REF!,\"<\"&Sheet1!H$1)","v":{"$error":"#REF!"}},{"$f":"SUMIFS(#REF!,#REF!,Sheet1!$A19,#REF!,\"<>임대\",#REF!,\">=30\",#REF!,\">=\"&F$1,#REF!,\"<\"&H$1)","v":{"$error":"#REF!"}},{"$f":"COUNTIFS(#REF!,Sheet1!$A19,#REF!,\"<>임대\",#REF!,\">=30\",#REF!,\">=\"&Sheet1!H$1,#REF!,\"<\"&Sheet1!J$1)","v":{"$error":"#REF!"}},{"$f":"SUMIFS(#REF!,#REF!,Sheet1!$A19,#REF!,\"<>임대\",#REF!,\">=30\",#REF!,\">=\"&H$1,#REF!,\"<\"&J$1)","v":{"$error":"#REF!"}},{"$f":"COUNTIFS(#REF!,Sheet1!$A19,#REF!,\"<>임대\",#REF!,\">=30\",#REF!,\">=\"&Sheet1!J$1,#REF!,\"<\"&Sheet1!L$1)","v":{"$error":"#REF!"}},{"$f":"SUMIFS(#REF!,#REF!,Sheet1!$A19,#REF!,\"<>임대\",#REF!,\">=30\",#REF!,\">=\"&J$1,#REF!,\"<\"&L$1)","v":{"$error":"#REF!"}},{"$f":"COUNTIFS(#REF!,Sheet1!$A19,#REF!,\"<>임대\",#REF!,\">=30\",#REF!,\">=\"&Sheet1!L$1)","v":{"$error":"#REF!"}},{"$f":"SUMIFS(#REF!,#REF!,Sheet1!$A19,#REF!,\"<>임대\",#REF!,\">=30\",#REF!,\">=\"&L$1)","v":{"$error":"#REF!"}}]
["구로구",{"$f":"COUNTIFS(#REF!,Sheet1!$A20,#REF!,\"<>임대\",#REF!,\">=30\",#REF!,\"<\"&Sheet1!D$1)","v":{"$error":"#REF!"}},{"$f":"SUMIFS(#REF!,#REF!,Sheet1!$A20,#REF!,\"<>임대\",#REF!,\">=30\",#REF!,\"<\"&D$1)","v":{"$error":"#REF!"}},{"$f":"COUNTIFS(#REF!,Sheet1!$A20,#REF!,\"<>임대\",#REF!,\">=30\",#REF!,\">=\"&Sheet1!D$1,#REF!,\"<\"&Sheet1!F$1)","v":{"$error":"#REF!"}},{"$f":"SUMIFS(#REF!,#REF!,Sheet1!$A20,#REF!,\"<>임대\",#REF!,\">=30\",#REF!,\">=\"&D$1,#REF!,\"<\"&F$1)","v":{"$error":"#REF!"}},{"$f":"COUNTIFS(#REF!,Sheet1!$A20,#REF!,\"<>임대\",#REF!,\">=30\",#REF!,\">=\"&Sheet1!F$1,#REF!,\"<\"&Sheet1!H$1)","v":{"$error":"#REF!"}},{"$f":"SUMIFS(#REF!,#REF!,Sheet1!$A20,#REF!,\"<>임대\",#REF!,\">=30\",#REF!,\">=\"&F$1,#REF!,\"<\"&H$1)","v":{"$error":"#REF!"}},{"$f":"COUNTIFS(#REF!,Sheet1!$A20,#REF!,\"<>임대\",#REF!,\">=30\",#REF!,\">=\"&Sheet1!H$1,#REF!,\"<\"&Sheet1!J$1)","v":{"$error":"#REF!"}},{"$f":"SUMIFS(#REF!,#REF!,Sheet1!$A20,#REF!,\"<>임대\",#REF!,\">=30\",#REF!,\">=\"&H$1,#REF!,\"<\"&J$1)","v":{"$error":"#REF!"}},{"$f":"COUNTIFS(#REF!,Sheet1!$A20,#REF!,\"<>임대\",#REF!,\">=30\",#REF!,\">=\"&Sheet1!J$1,#REF!,\"<\"&Sheet1!L$1)","v":{"$error":"#REF!"}},{"$f":"SUMIFS(#REF!,#REF!,Sheet1!$A20,#REF!,\"<>임대\",#REF!,\">=30\",#REF!,\">=\"&J$1,#REF!,\"<\"&L$1)","v":{"$error":"#REF!"}},{"$f":"COUNTIFS(#REF!,Sheet1!$A20,#REF!,\"<>임대\",#REF!,\">=30\",#REF!,\">=\"&Sheet1!L$1)","v":{"$error":"#REF!"}},{"$f":"SUMIFS(#REF!,#REF!,Sheet1!$A20,#REF!,\"<>임대\",#REF!,\">=30\",#REF!,\">=\"&L$1)","v":{"$error":"#REF!"}}]
["금천구",{"$f":"COUNTIFS(#REF!,Sheet1!$A21,#REF!,\"<>임대\",#REF!,\">=30\",#REF!,\"<\"&Sheet1!D$1)","v":{"$error":"#REF!"}},{"$f":"SUMIFS(#REF!,#REF!,Sheet1!$A21,#REF!,\"<>임대\",#REF!,\">=30\",#REF!,\"<\"&D$1)","v":{"$error":"#REF!"}},{"$f":"COUNTIFS(#REF!,Sheet1!$A21,#REF!,\"<>임대\",#REF!,\">=30\",#REF!,\">=\"&Sheet1!D$1,#REF!,\"<\"&Sheet1!F$1)","v":{"$error":"#REF!"}},{"$f":"SUMIFS(#REF!,#REF!,Sheet1!$A21,#REF!,\"<>임대\",#REF!,\">=30\",#REF!,\">=\"&D$1,#REF!,\"<\"&F$1)","v":{"$error":"#REF!"}},{"$f":"COUNTIFS(#REF!,Sheet1!$A21,#REF!,\"<>임대\",#REF!,\">=30\",#REF!,\">=\"&Sheet1!F$1,#REF!,\"<\"&Sheet1!H$1)","v":{"$error":"#REF!"}},{"$f":"SUMIFS(#REF!,#REF!,Sheet1!$A21,#REF!,\"<>임대\",#REF!,\">=30\",#REF!,\">=\"&F$1,#REF!,\"<\"&H$1)","v":{"$error":"#REF!"}},{"$f":"COUNTIFS(#REF!,Sheet1!$A21,#REF!,\"<>임대\",#REF!,\">=30\",#REF!,\">=\"&Sheet1!H$1,#REF!,\"<\"&Sheet1!J$1)","v":{"$error":"#REF!"}},{"$f":"SUMIFS(#REF!,#REF!,Sheet1!$A21,#REF!,\"<>임대\",#REF!,\">=30\",#REF!,\">=\"&H$1,#REF!,\"<\"&J$1)","v":{"$error":"#REF!"}},{"$f":"COUNTIFS(#REF!,Sheet1!$A21,#REF!,\"<>임대\",#REF!,\">=30\",#REF!,\">=\"&Sheet1!J$1,#REF!,\"<\"&Sheet1!L$1)","v":{"$error":"#REF!"}},{"$f":"SUMIFS(#REF!,#REF!,Sheet1!$A21,#REF!,\"<>임대\",#REF!,\">=30\",#REF!,\">=\"&J$1,#REF!,\"<\"&L$1)","v":{"$error":"#REF!"}},{"$f":"COUNTIFS(#REF!,Sheet1!$A21,#REF!,\"<>임대\",#REF!,\">=30\",#REF!,\">=\"&Sheet1!L$1)","v":{"$error":"#REF!"}},{"$f":"SUMIFS(#REF!,#REF!,Sheet1!$A21,#REF!,\"<>임대\",#REF!,\">=30\",#REF!,\">=\"&L$1)","v":{"$error":"#REF!"}}]
["영등포구",{"$f":"COUNTIFS(#REF!,Sheet1!$A22,#REF!,\"<>임대\",#REF!,\">=30\",#REF!,\"<\"&Sheet1!D$1)","v":{"$error":"#REF!"}},{"$f":"SUMIFS(#REF!,#REF!,Sheet1!$A22,#REF!,\"<>임대\",#REF!,\">=30\",#REF!,\"<\"&D$1)","v":{"$error":"#REF!"}},{"$f":"COUNTIFS(#REF!,Sheet1!$A22,#REF!,\"<>임대\",#REF!,\">=30\",#REF!,\">=\"&Sheet1!D$1,#REF!,\"<\"&Sheet1!F$1)","v":{"$error":"#REF!"}},{"$f":"SUMIFS(#REF!,#REF!,Sheet1!$A22,#REF!,\"<>임대\",#REF!,\">=30\",#REF!,\">=\"&D$1,#REF!,\"<\"&F$1)","v":{"$error":"#REF!"}},{"$f":"COUNTIFS(#REF!,Sheet1!$A22,#REF!,\"<>임대\",#REF!,\">=30\",#REF!,\">=\"&Sheet1!F$1,#REF!,\"<\"&Sheet1!H$1)","v":{"$error":"#REF!"}},{"$f":"SUMIFS(#REF!,#REF!,Sheet1!$A22,#REF!,\"<>임대\",#REF!,\">=30\",#REF!,\">=\"&F$1,#REF!,\"<\"&H$1)","v":{"$error":"#REF!"}},{"$f":"COUNTIFS(#REF!,Sheet1!$A22,#REF!,\"<>임대\",#REF!,\">=30\",#REF!,\">=\"&Sheet1!H$1,#REF!,\"<\"&Sheet1!J$1)","v":{"$error":"#REF!"}},{"$f":"SUMIFS(#REF!,#REF!,Sheet1!$A22,#REF!,\"<>임대\",#REF!,\">=30\",#REF!,\">=\"&H$1,#REF!,\"<\"&J$1)","v":{"$error":"#REF!"}},{"$f":"COUNTIFS(#REF!,Sheet1!$A22,#REF!,\"<>임대\",#REF!,\">=30\",#REF!,\">=\"&Sheet1!J$1,#REF!,\"<\"&Sheet1!L$1)","v":{"$error":"#REF!"}},{"$f":"SUMIFS(#REF!,#REF!,Sheet1!$A22,#REF!,\"<>임대\",#REF!,\">=30\",#REF!,\">=\"&J$1,#REF!,\"<\"&L$1)","v":{"$error":"#REF!"}},{"$f":"COUNTIFS(#REF!,Sheet1!$A22,#REF!,\"<>임대\",#REF!,\">=30\",#REF!,\">=\"&Sheet1!L$1)","v":{"$error":"#REF!"}},{"$f":"SUMIFS(#REF!,#REF!,Sheet1!$A22,#REF!,\"<>임대\",#REF!,\">=30\",#REF!,\">=\"&L$1)","v":{"$error":"#REF!"}}]
["동작구",{"$f":"COUNTIFS(#REF!,Sheet1!$A23,#REF!,\"<>임대\",#REF!,\">=30\",#REF!,\"<\"&Sheet1!D$1)","v":{"$error":"#REF!"}},{"$f":"SUMIFS(#REF!,#REF!,Sheet1!$A23,#REF!,\"<>임대\",#REF!,\">=30\",#REF!,\"<\"&D$1)","v":{"$error":"#REF!"}},{"$f":"COUNTIFS(#REF!,Sheet1!$A23,#REF!,\"<>임대\",#REF!,\">=30\",#REF!,\">=\"&Sheet1!D$1,#REF!,\"<\"&Sheet1!F$1)","v":{"$error":"#REF!"}},{"$f":"SUMIFS(#REF!,#REF!,Sheet1!$A23,#REF!,\"<>임대\",#REF!,\">=30\",#REF!,\">=\"&D$1,#REF!,\"<\"&F$1)","v":{"$error":"#REF!"}},{"$f":"COUNTIFS(#REF!,Sheet1!$A23,#REF!,\"<>임대\",#REF!,\">=30\",#REF!,\">=\"&Sheet1!F$1,#REF!,\"<\"&Sheet1!H$1)","v":{"$error":"#REF!"}},{"$f":"SUMIFS(#REF!,#REF!,Sheet1!$A23,#REF!,\"<>임대\",#REF!,\">=30\",#REF!,\">=\"&F$1,#REF!,\"<\"&H$1)","v":{"$error":"#REF!"}},{"$f":"COUNTIFS(#REF!,Sheet1!$A23,#REF!,\"<>임대\",#REF!,\">=30\",#REF!,\">=\"&Sheet1!H$1,#REF!,\"<\"&Sheet1!J$1)","v":{"$error":"#REF!"}},{"$f":"SUMIFS(#REF!,#REF!,Sheet1!$A23,#REF!,\"<>임대\",#REF!,\">=30\",#REF!,\">=\"&H$1,#REF!,\"<\"&J$1)","v":{"$error":"#REF!"}},{"$f":"COUNTIFS(#REF!,Sheet1!$A23,#REF!,\"<>임대\",#REF!,\">=30\",#REF!,\">=\"&Sheet1!J$1,#REF!,\"<\"&Sheet1!L$1)","v":{"$error":"#REF!"}},{"$f":"SUMIFS(#REF!,#REF!,Sheet1!$A23,#REF!,\"<>임대\",#REF!,\">=30\",#REF!,\">=\"&J$1,#REF!,\"<\"&L$1)","v":{"$error":"#REF!"}},{"$f":"COUNTIFS(#REF!,Sheet1!$A23,#REF!,\"<>임대\",#REF!,\">=30\",#REF!,\">=\"&Sheet1!L$1)","v":{"$error":"#REF!"}},{"$f":"SUMIFS(#REF!,#REF!,Sheet1!$A23,#REF!,\"<>임대\",#REF!,\">=30\",#REF!,\">=\"&L$1)","v":{"$error":"#REF!"}}]
["관악구",{"$f":"COUNTIFS(#REF!,Sheet1!$A24,#REF!,\"<>임대\",#REF!,\">=30\",#REF!,\"<\"&Sheet1!D$1)","v":{"$error":"#REF!"}},{"$f":"SUMIFS(#REF!,#REF!,Sheet1!$A24,#REF!,\"<>임대\",#REF!,\">=30\",#REF!,\"<\"&D$1)","v":{"$error":"#REF!"}},{"$f":"COUNTIFS(#REF!,Sheet1!$A24,#REF!,\"<>임대\",#REF!,\">=30\",#REF!,\">=\"&Sheet1!D$1,#REF!,\"<\"&Sheet1!F$1)","v":{"$error":"#REF!"}},{"$f":"SUMIFS(#REF!,#REF!,Sheet1!$A24,#REF!,\"<>임대\",#REF!,\">=30\",#REF!,\">=\"&D$1,#REF!,\"<\"&F$1)","v":{"$error":"#REF!"}},{"$f":"COUNTIFS(#REF!,Sheet1!$A24,#REF!,\"<>임대\",#REF!,\">=30\",#REF!,\">=\"&Sheet1!F$1,#REF!,\"<\"&Sheet1!H$1)","v":{"$error":"#REF!"}},{"$f":"SUMIFS(#REF!,#REF!,Sheet1!$A24,#REF!,\"<>임대\",#REF!,\">=30\",#REF!,\">=\"&F$1,#REF!,\"<\"&H$1)","v":{"$error":"#REF!"}},{"$f":"COUNTIFS(#REF!,Sheet1!$A24,#REF!,\"<>임대\",#REF!,\">=30\",#REF!,\">=\"&Sheet1!H$1,#REF!,\"<\"&Sheet1!J$1)","v":{"$error":"#REF!"}},{"$f":"SUMIFS(#REF!,#REF!,Sheet1!$A24,#REF!,\"<>임대\",#REF!,\">=30\",#REF!,\">=\"&H$1,#REF!,\"<\"&J$1)","v":{"$error":"#REF!"}},{"$f":"COUNTIFS(#REF!,Sheet1!$A24,#REF!,\"<>임대\",#REF!,\">=30\",#REF!,\">=\"&Sheet1!J$1,#REF!,\"<\"&Sheet1!L$1)","v":{"$error":"#REF!"}},{"$f":"SUMIFS(#REF!,#REF!,Sheet1!$A24,#REF!,\"<>임대\",#REF!,\">=30\",#REF!,\">=\"&J$1,#REF!,\"<\"&L$1)","v":{"$error":"#REF!"}},{"$f":"COUNTIFS(#REF!,Sheet1!$A24,#REF!,\"<>임대\",#REF!,\">=30\",#REF!,\">=\"&Sheet1!L$1)","v":{"$error":"#REF!"}},{"$f":"SUMIFS(#REF!,#REF!,Sheet1!$A24,#REF!,\"<>임대\",#REF!,\">=30\",#REF!,\">=\"&L$1)","v":{"$error":"#REF!"}}]
["서초구",{"$f":"COUNTIFS(#REF!,Sheet1!$A25,#REF!,\"<>임대\",#REF!,\">=30\",#REF!,\"<\"&Sheet1!D$1)","v":{"$error":"#REF!"}},{"$f":"SUMIFS(#REF!,#REF!,Sheet1!$A25,#REF!,\"<>임대\",#REF!,\">=30\",#REF!,\"<\"&D$1)","v":{"$error":"#REF!"}},{"$f":"COUNTIFS(#REF!,Sheet1!$A25,#REF!,\"<>임대\",#REF!,\">=30\",#REF!,\">=\"&Sheet1!D$1,#REF!,\"<\"&Sheet1!F$1)","v":{"$error":"#REF!"}},{"$f":"SUMIFS(#REF!,#REF!,Sheet1!$A25,#REF!,\"<>임대\",#REF!,\">=30\",#REF!,\">=\"&D$1,#REF!,\"<\"&F$1)","v":{"$error":"#REF!"}},{"$f":"COUNTIFS(#REF!,Sheet1!$A25,#REF!,\"<>임대\",#REF!,\">=30\",#REF!,\">=\"&Sheet1!F$1,#REF!,\"<\"&Sheet1!H$1)","v":{"$error":"#REF!"}},{"$f":"SUMIFS(#REF!,#REF!,Sheet1!$A25,#REF!,\"<>임대\",#REF!,\">=30\",#REF!,\">=\"&F$1,#REF!,\"<\"&H$1)","v":{"$error":"#REF!"}},{"$f":"COUNTIFS(#REF!,Sheet1!$A25,#REF!,\"<>임대\",#REF!,\">=30\",#REF!,\">=\"&Sheet1!H$1,#REF!,\"<\"&Sheet1!J$1)","v":{"$error":"#REF!"}},{"$f":"SUMIFS(#REF!,#REF!,Sheet1!$A25,#REF!,\"<>임대\",#REF!,\">=30\",#REF!,\">=\"&H$1,#REF!,\"<\"&J$1)","v":{"$error":"#REF!"}},{"$f":"COUNTIFS(#REF!,Sheet1!$A25,#REF!,\"<>임대\",#REF!,\">=30\",#REF!,\">=\"&Sheet1!J$1,#REF!,\"<\"&Sheet1!L$1)","v":{"$error":"#REF!"}},{"$f":"SUMIFS(#REF!,#REF!,Sheet1!$A25,#REF!,\"<>임대\",#REF!,\">=30\",#REF!,\">=\"&J$1,#REF!,\"<\"&L$1)","v":{"$error":"#REF!"}},{"$f":"COUNTIFS(#REF!,Sheet1!$A25,#REF!,\"<>임대\",#REF!,\">=30\",#REF!,\">=\"&Sheet1!L$1)","v":{"$error":"#REF!"}},{"$f":"SUMIFS(#REF!,#REF!,Sheet1!$A25,#REF!,\"<>임대\",#REF!,\">=30\",#REF!,\">=\"&L$1)","v":{"$error":"#REF!"}}]
["강남구",{"$f":"COUNTIFS(#REF!,Sheet1!$A26,#REF!,\"<>임대\",#REF!,\">=30\",#REF!,\"<\"&Sheet1!D$1)","v":{"$error":"#REF!"}},{"$f":"SUMIFS(#REF!,#REF!,Sheet1!$A26,#REF!,\"<>임대\",#REF!,\">=30\",#REF!,\"<\"&D$1)","v":{"$error":"#REF!"}},{"$f":"COUNTIFS(#REF!,Sheet1!$A26,#REF!,\"<>임대\",#REF!,\">=30\",#REF!,\">=\"&Sheet1!D$1,#REF!,\"<\"&Sheet1!F$1)","v":{"$error":"#REF!"}},{"$f":"SUMIFS(#REF!,#REF!,Sheet1!$A26,#REF!,\"<>임대\",#REF!,\">=30\",#REF!,\">=\"&D$1,#REF!,\"<\"&F$1)","v":{"$error":"#REF!"}},{"$f":"COUNTIFS(#REF!,Sheet1!$A26,#REF!,\"<>임대\",#REF!,\">=30\",#REF!,\">=\"&Sheet1!F$1,#REF!,\"<\"&Sheet1!H$1)","v":{"$error":"#REF!"}},{"$f":"SUMIFS(#REF!,#REF!,Sheet1!$A26,#REF!,\"<>임대\",#REF!,\">=30\",#REF!,\">=\"&F$1,#REF!,\"<\"&H$1)","v":{"$error":"#REF!"}},{"$f":"COUNTIFS(#REF!,Sheet1!$A26,#REF!,\"<>임대\",#REF!,\">=30\",#REF!,\">=\"&Sheet1!H$1,#REF!,\"<\"&Sheet1!J$1)","v":{"$error":"#REF!"}},{"$f":"SUMIFS(#REF!,#REF!,Sheet1!$A26,#REF!,\"<>임대\",#REF!,\">=30\",#REF!,\">=\"&H$1,#REF!,\"<\"&J$1)","v":{"$error":"#REF!"}},{"$f":"COUNTIFS(#REF!,Sheet1!$A26,#REF!,\"<>임대\",#REF!,\">=30\",#REF!,\">=\"&Sheet1!J$1,#REF!,\"<\"&Sheet1!L$1)","v":{"$error":"#REF!"}},{"$f":"SUMIFS(#REF!,#REF!,Sheet1!$A26,#REF!,\"<>임대\",#REF!,\">=30\",#REF!,\">=\"&J$1,#REF!,\"<\"&L$1)","v":{"$error":"#REF!"}},{"$f":"COUNTIFS(#REF!,Sheet1!$A26,#REF!,\"<>임대\",#REF!,\">=30\",#REF!,\">=\"&Sheet1!L$1)","v":{"$error":"#REF!"}},{"$f":"SUMIFS(#REF!,#REF!,Sheet1!$A26,#REF!,\"<>임대\",#REF!,\">=30\",#REF!,\">=\"&L$1)","v":{"$error":"#REF!"}}]
["송파구",{"$f":"COUNTIFS(#REF!,Sheet1!$A27,#REF!,\"<>임대\",#REF!,\">=30\",#REF!,\"<\"&Sheet1!D$1)","v":{"$error":"#REF!"}},{"$f":"SUMIFS(#REF!,#REF!,Sheet1!$A27,#REF!,\"<>임대\",#REF!,\">=30\",#REF!,\"<\"&D$1)","v":{"$error":"#REF!"}},{"$f":"COUNTIFS(#REF!,Sheet1!$A27,#REF!,\"<>임대\",#REF!,\">=30\",#REF!,\">=\"&Sheet1!D$1,#REF!,\"<\"&Sheet1!F$1)","v":{"$error":"#REF!"}},{"$f":"SUMIFS(#REF!,#REF!,Sheet1!$A27,#REF!,\"<>임대\",#REF!,\">=30\",#REF!,\">=\"&D$1,#REF!,\"<\"&F$1)","v":{"$error":"#REF!"}},{"$f":"COUNTIFS(#REF!,Sheet1!$A27,#REF!,\"<>임대\",#REF!,\">=30\",#REF!,\">=\"&Sheet1!F$1,#REF!,\"<\"&Sheet1!H$1)","v":{"$error":"#REF!"}},{"$f":"SUMIFS(#REF!,#REF!,Sheet1!$A27,#REF!,\"<>임대\",#REF!,\">=30\",#REF!,\">=\"&F$1,#REF!,\"<\"&H$1)","v":{"$error":"#REF!"}},{"$f":"COUNTIFS(#REF!,Sheet1!$A27,#REF!,\"<>임대\",#REF!,\">=30\",#REF!,\">=\"&Sheet1!H$1,#REF!,\"<\"&Sheet1!J$1)","v":{"$error":"#REF!"}},{"$f":"SUMIFS(#REF!,#REF!,Sheet1!$A27,#REF!,\"<>임대\",#REF!,\">=30\",#REF!,\">=\"&H$1,#REF!,\"<\"&J$1)","v":{"$error":"#REF!"}},{"$f":"COUNTIFS(#REF!,Sheet1!$A27,#REF!,\"<>임대\",#REF!,\">=30\",#REF!,\">=\"&Sheet1!J$1,#REF!,\"<\"&Sheet1!L$1)","v":{"$error":"#REF!"}},{"$f":"SUMIFS(#REF!,#REF!,Sheet1!$A27,#REF!,\"<>임대\",#REF!,\">=30\",#REF!,\">=\"&J$1,#REF!,\"<\"&L$1)","v":{"$error":"#REF!"}},{"$f":"COUNTIFS(#REF!,Sheet1!$A27,#REF!,\"<>임대\",#REF!,\">=30\",#REF!,\">=\"&Sheet1!L$1)","v":{"$error":"#REF!"}},{"$f":"SUMIFS(#REF!,#REF!,Sheet1!$A27,#REF!,\"<>임대\",#REF!,\">=30\",#REF!,\">=\"&L$1)","v":{"$error":"#REF!"}}]
["강동구",{"$f":"COUNTIFS(#REF!,Sheet1!$A28,#REF!,\"<>임대\",#REF!,\">=30\",#REF!,\"<\"&Sheet1!D$1)","v":{"$error":"#REF!"}},{"$f":"SUMIFS(#REF!,#REF!,Sheet1!$A28,#REF!,\"<>임대\",#REF!,\">=30\",#REF!,\"<\"&D$1)","v":{"$error":"#REF!"}},{"$f":"COUNTIFS(#REF!,Sheet1!$A28,#REF!,\"<>임대\",#REF!,\">=30\",#REF!,\">=\"&Sheet1!D$1,#REF!,\"<\"&Sheet1!F$1)","v":{"$error":"#REF!"}},{"$f":"SUMIFS(#REF!,#REF!,Sheet1!$A28,#REF!,\"<>임대\",#REF!,\">=30\",#REF!,\">=\"&D$1,#REF!,\"<\"&F$1)","v":{"$error":"#REF!"}},{"$f":"COUNTIFS(#REF!,Sheet1!$A28,#REF!,\"<>임대\",#REF!,\">=30\",#REF!,\">=\"&Sheet1!F$1,#REF!,\"<\"&Sheet1!H$1)","v":{"$error":"#REF!"}},{"$f":"SUMIFS(#REF!,#REF!,Sheet1!$A28,#REF!,\"<>임대\",#REF!,\">=30\",#REF!,\">=\"&F$1,#REF!,\"<\"&H$1)","v":{"$error":"#REF!"}},{"$f":"COUNTIFS(#REF!,Sheet1!$A28,#REF!,\"<>임대\",#REF!,\">=30\",#REF!,\">=\"&Sheet1!H$1,#REF!,\"<\"&Sheet1!J$1)","v":{"$error":"#REF!"}},{"$f":"SUMIFS(#REF!,#REF!,Sheet1!$A28,#REF!,\"<>임대\",#REF!,\">=30\",#REF!,\">=\"&H$1,#REF!,\"<\"&J$1)","v":{"$error":"#REF!"}},{"$f":"COUNTIFS(#REF!,Sheet1!$A28,#REF!,\"<>임대\",#REF!,\">=30\",#REF!,\">=\"&Sheet1!J$1,#REF!,\"<\"&Sheet1!L$1)","v":{"$error":"#REF!"}},{"$f":"SUMIFS(#REF!,#REF!,Sheet1!$A28,#REF!,\"<>임대\",#REF!,\">=30\",#REF!,\">=\"&J$1,#REF!,\"<\"&L$1)","v":{"$error":"#REF!"}},{"$f":"COUNTIFS(#REF!,Sheet1!$A28,#REF!,\"<>임대\",#REF!,\">=30\",#REF!,\">=\"&Sheet1!L$1)","v":{"$error":"#REF!"}},{"$f":"SUMIFS(#REF!,#REF!,Sheet1!$A28,#REF!,\"<>임대\",#REF!,\">=30\",#REF!,\">=\"&L$1)","v":{"$error":"#REF!"}}]
[]
[]
[]
[]
[{"$nulls":11},4075,19142]
[{"$nulls":11},31,64]
{"$rows_empty":7}
[null,31,64,139,812,674,4121,1177,4672,1705,7009,380,2528]
[null,7,14,4,15,15,88,17,66,13,55,5,31]
[null,7,8,7,7,3,3,5,42,17,80,11,56]
[null,10,31,25,79,5,31,14,96,48,136,12,67]
[null,0,0,0,0,24,103,37,190,45,248,19,170]
[null,0,0,4,24,23,100,38,128,45,101,9,17]
[null,0,0,7,21,17,54,28,159,67,298,22,93]
[null,0,0,3,7,24,92,62,247,50,164,17,83]
[null,2,3,8,28,14,73,30,154,71,638,16,74]
[null,0,0,1,1,25,91,23,84,22,201,6,40]
[null,0,0,0,0,39,243,53,284,48,210,10,27]
[null,0,0,1,4,49,548,121,618,61,220,6,31]
[null,1,1,2,5,19,64,31,60,95,484,14,136]
[null,2,2,7,15,22,88,35,185,38,135,8,148]
[null,1,3,2,4,10,54,48,177,101,401,28,171]
[null,0,0,0,0,36,467,62,161,129,286,15,127]
[null,0,0,1,3,31,103,94,382,158,537,38,219]
[null,0,0,5,29,60,320,66,265,70,354,16,109]
[null,0,0,5,18,29,118,32,99,28,88,12,41]
[null,0,0,21,115,33,103,62,197,46,224,15,69]
[null,1,2,7,20,15,73,48,170,61,286,16,130]
[null,0,0,7,43,24,75,47,202,54,257,1,7]
[null,0,0,13,184,29,150,45,121,126,392,21,194]
[null,0,0,6,113,48,470,65,272,121,356,36,282]
[null,0,0,3,77,40,421,61,181,73,516,20,136]
[null,0,0,0,0,40,189,53,132,118,342,7,70]

{"sheet":"169-0. 공동주택 건립","index":6,"n_rows":41,"n_cols":24,"rows_kept":41,"cut":false,"hidden":true,"merged":[[0,0,0,19],[2,8,2,9],[2,18,2,19],[3,2,5,2],[3,3,5,3],[3,4,3,9],[3,10,3,19],[4,4,5,4],[4,5,5,5],[4,6,5,6],[4,16,4,17],[4,18,4,19],[4,10,4,11],[4,12,4,13],[4,14,4,15],[37,0,37,9],[38,0,38,9],[39,0,39,8],[4,7,5,7],[4,8,5,8],[4,9,5,9]]}
["169-0. 공동주택 건립 Newly Constructed Apartment Houses"]
[]
["단위 : 개수",null,"2017-01-01"]
[null,null,"동","세대"," 전용면적별 세대수",{"$nulls":5},"층별 동수 및 세대수"]
[{"$nulls":4},"40㎡ 미만","40~60㎡\n이하","60~85㎡ \n이하","85~102㎡ \n이하","102~135㎡\n이하","135㎡ 초과","5층 이하",null,"6-10층 이하",null,"11-15층 이하",null,"16-20층 이하",null,"21층 이상"]
[{"$nulls":10},"동수","세대수","동수","세대수","동수","세대수","동수","세대수","동수","세대수",null,"규모별\n세대수","층수별\n동수","층수별\n세대수"]
[]
[2014,null,541,36817,1901,8243,13140,4483,7297,1753,26,980,78,3641,222,13297,111,8354,104,10545,null,{"$f":"D8-SUM(E8:J8)","v":0},{"$f":"C8-SUM(K8,M8,O8,Q8,S8)","v":0},0]
[2015,null,332,22444,1946,3665,9194,3546,3258,835,11,144,60,2276,59,3332,122,8955,80,7737,null,{"$f":"D9-SUM(E9:J9)","v":0},0,0]
[2016,null,281,22426,933,5308,8549,1628,3651,2357,19,592,20,1119,50,2665,80,6535,112,11515,null,{"$f":"D10-SUM(E10:J10)","v":0},{"$f":"C10-SUM(K10,M10,O10,Q10,S10)","v":0},{"$f":"D10-SUM(L10,N10,P10,R10,T10)","v":0}]
[2017,null,{"$f":"SUMIFS(#REF!,#REF!,\">=30\",#REF!,\">=\"&'169-0. 공동주택 건립'!$C$3)","v":{"$error":"#REF!"}},17334,709,3662,6703,1569,2275,2416,17,377,40,1552,60,3965,71,6310,49,5130,null,{"$f":"D11-SUM(E11:J11)","v":0},{"$error":"#REF!"},0]
[" 종   로 Jongno-gu","종로구",{"$f":"SUMIFS(#REF!,#REF!,$B12,#REF!,\">=30\",#REF!,\">=\"&'169-0. 공동주택 건립'!$C$3)","v":{"$error":"#REF!"}},2071,259,415,1167,130,79,21,0,0,4,124,6,398,6,551,10,998,null,{"$f":"D12-SUM(E12:J12)","v":0},{"$error":"#REF!"},0]
[" 중   구 Jung-gu","중구",{"$f":"SUMIFS(#REF!,#REF!,$B13,#REF!,\">=30\",#REF!,\">=\"&'169-0. 공동주택 건립'!$C$3)","v":{"$error":"#REF!"}},1113,0,413,681,19,0,0,0,0,0,0,0,0,0,0,13,1113,null,0,{"$error":"#REF!"},0]
[" 용   산 Yongsan-gu","용산구",{"$f":"SUMIFS(#REF!,#REF!,$B14,#REF!,\">=30\",#REF!,\">=\"&'169-0. 공동주택 건립'!$C$3)","v":{"$error":"#REF!"}},346,0,0,0,0,346,0,0,0,0,0,0,0,1,195,1,151,null,0,{"$error":"#REF!"},0]
[" 성   동 Seongdong-gu","성동구",{"$f":"SUMIFS(#REF!,#REF!,$B15,#REF!,\">=30\",#REF!,\">=\"&'169-0. 공동주택 건립'!$C$3)","v":{"$error":"#REF!"}},1335,0,588,537,0,0,210,0,0,0,0,2,60,6,587,4,688,null,0,{"$f":"C15-SUM(K15,M15,O15,Q15,S15)","v":{"$error":"#REF!"}},{"$f":"D15-SUM(L15,N15,P15,R15,T15)","v":0}]
[" 광   진 Gwangjin-gu","광진구",{"$f":"SUMIFS(#REF!,#REF!,$B16,#REF!,\">=30\",#REF!,\">=\"&'169-0. 공동주택 건립'!$C$3)","v":{"$error":"#REF!"}},461,0,0,0,15,397,49,0,0,0,0,0,0,0,0,4,461,null,0,{"$error":"#REF!"},0]
[" 동대문 Dongdaemun-gu","동대문구",{"$f":"SUMIFS(#REF!,#REF!,$B17,#REF!,\">=30\",#REF!,\">=\"&'169-0. 공동주택 건립'!$C$3)","v":{"$error":"#REF!"}},110,110,0,0,0,0,0,0,0,0,0,0,0,1,110,0,0,null,0,{"$error":"#REF!"},0]
[" 중   랑 Jungnang-gu","중랑구",{"$f":"SUMIFS(#REF!,#REF!,$B18,#REF!,\">=30\",#REF!,\">=\"&'169-0. 공동주택 건립'!$C$3)","v":{"$error":"#REF!"}},719,0,0,0,719,0,0,0,0,0,0,3,224,8,284,1,211,null,0,{"$error":"#REF!"},0]
[" 성   북 Seongbuk-gu","성북구",{"$f":"SUMIFS(#REF!,#REF!,$B19,#REF!,\">=30\",#REF!,\">=\"&'169-0. 공동주택 건립'!$C$3)","v":{"$error":"#REF!"}},978,0,817,161,0,0,0,0,0,1,44,5,296,9,638,0,0,null,0,{"$error":"#REF!"},0]
[" 강   북 Gangbuk-gu","강북구",{"$f":"SUMIFS(#REF!,#REF!,$B20,#REF!,\">=30\",#REF!,\">=\"&'169-0. 공동주택 건립'!$C$3)","v":{"$error":"#REF!"}},615,52,153,386,0,24,0,0,0,0,0,12,615,0,0,0,0,null,0,{"$error":"#REF!"},0]
[" 도   봉 Dobong-gu","도봉구",{"$f":"SUMIFS(#REF!,#REF!,$B21,#REF!,\">=30\",#REF!,\">=\"&'169-0. 공동주택 건립'!$C$3)","v":{"$error":"#REF!"}},0,0,0,0,0,0,0,0,0,0,0,0,0,0,0,0,0,null,0,{"$error":"#REF!"},0]
[" 노   원 Nowon-gu","노원구",{"$f":"SUMIFS(#REF!,#REF!,$B22,#REF!,\">=30\",#REF!,\">=\"&'169-0. 공동주택 건립'!$C$3)","v":{"$error":"#REF!"}},443,36,148,245,0,14,0,4,13,13,430,0,0,0,0,0,0,null,0,{"$error":"#REF!"},0]
[" 은   평 Eunpyeong-gu","은평구",{"$f":"SUMIFS(#REF!,#REF!,$B23,#REF!,\">=30\",#REF!,\">=\"&'169-0. 공동주택 건립'!$C$3)","v":{"$error":"#REF!"}},1183,0,397,786,0,0,0,12,220,0,0,1,58,12,905,0,0,null,0,{"$error":"#REF!"},0]
[" 서대문 Seodaemun-gu","서대문구",{"$f":"SUMIFS(#REF!,#REF!,$B24,#REF!,\">=30\",#REF!,\">=\"&'169-0. 공동주택 건립'!$C$3)","v":{"$error":"#REF!"}},0,0,0,0,0,0,0,0,0,0,0,0,0,0,0,0,0,null,0,{"$error":"#REF!"},0]
[" 마   포 Mapo-gu","마포구",{"$f":"SUMIFS(#REF!,#REF!,$B25,#REF!,\">=30\",#REF!,\">=\"&'169-0. 공동주택 건립'!$C$3)","v":{"$error":"#REF!"}},715,0,0,339,0,290,86,0,0,13,218,2,165,2,165,2,167,null,0,{"$f":"C25-SUM(K25,M25,O25,Q25,S25)","v":{"$error":"#REF!"}},0]
[" 양   천 Yangcheon-gu","양천구",{"$f":"SUMIFS(#REF!,#REF!,$B26,#REF!,\">=30\",#REF!,\">=\"&'169-0. 공동주택 건립'!$C$3)","v":{"$error":"#REF!"}},0,0,0,0,0,0,0,0,0,0,0,0,0,0,0,0,0,null,0,{"$error":"#REF!"},0]
[" 강   서 Gangseo-gu","강서구",{"$f":"SUMIFS(#REF!,#REF!,$B27,#REF!,\">=30\",#REF!,\">=\"&'169-0. 공동주택 건립'!$C$3)","v":{"$error":"#REF!"}},1382,0,0,1382,0,0,0,0,0,3,188,22,1194,0,0,0,0,null,0,{"$error":"#REF!"},0]
[" 구   로 Guro-gu","구로구",{"$f":"SUMIFS(#REF!,#REF!,$B28,#REF!,\">=30\",#REF!,\">=\"&'169-0. 공동주택 건립'!$C$3)","v":{"$error":"#REF!"}},0,0,0,0,0,0,0,0,0,0,0,0,0,0,0,0,0,null,0,{"$error":"#REF!"},0]
[" 금   천 Geumcheon-gu","금천구",{"$f":"SUMIFS(#REF!,#REF!,$B29,#REF!,\">=30\",#REF!,\">=\"&'169-0. 공동주택 건립'!$C$3)","v":{"$error":"#REF!"}},730,0,0,292,438,0,0,0,0,0,0,5,730,0,0,0,0,null,0,{"$error":"#REF!"},0]
[" 영등포 Yeongdeungpo-gu","영등포구",{"$f":"SUMIFS(#REF!,#REF!,$B30,#REF!,\">=30\",#REF!,\">=\"&'169-0. 공동주택 건립'!$C$3)","v":{"$error":"#REF!"}},3363,0,348,50,89,826,2050,0,0,5,368,0,0,17,1898,10,1097,null,0,{"$error":"#REF!"},0]
[" 동   작 Dongjak-gu","동작구",{"$f":"SUMIFS(#REF!,#REF!,$B31,#REF!,\">=30\",#REF!,\">=\"&'169-0. 공동주택 건립'!$C$3)","v":{"$error":"#REF!"}},0,0,0,0,0,0,0,0,0,0,0,0,0,0,0,0,0,null,0,{"$error":"#REF!"},0]
[" 관   악 Gwanak-gu","관악구",{"$f":"SUMIFS(#REF!,#REF!,$B32,#REF!,\">=30\",#REF!,\">=\"&'169-0. 공동주택 건립'!$C$3)","v":{"$error":"#REF!"}},0,0,0,0,0,0,0,0,0,0,0,0,0,0,0,0,0,null,0,{"$error":"#REF!"},0]
[" 서   초 Seocho-gu","서초구",{"$f":"SUMIFS(#REF!,#REF!,$B33,#REF!,\">=30\",#REF!,\">=\"&'169-0. 공동주택 건립'!$C$3)","v":{"$error":"#REF!"}},907,0,192,388,70,257,0,1,144,1,180,1,176,0,163,4,244,null,0,{"$error":"#REF!"},0]
[" 강   남 Gangnam-gu","강남구",{"$f":"SUMIFS(#REF!,#REF!,$B34,#REF!,\">=30\",#REF!,\">=\"&'169-0. 공동주택 건립'!$C$3)","v":{"$error":"#REF!"}},239,0,4,104,89,42,0,0,0,0,0,0,0,4,239,0,0,null,{"$f":"D34-SUM(E34:J34)","v":0},{"$error":"#REF!"},0]
[" 송   파 Songpa-gu","송파구",{"$f":"SUMIFS(#REF!,#REF!,$B35,#REF!,\">=30\",#REF!,\">=\"&'169-0. 공동주택 건립'!$C$3)","v":{"$error":"#REF!"}},624,252,187,185,0,0,0,0,0,0,0,1,49,5,575,0,0,0,0,{"$error":"#REF!"},0]
[" 강   동 Gangdong-gu","강동구",{"$f":"SUMIFS(#REF!,#REF!,$B36,#REF!,\">=30\",#REF!,\">=\"&'169-0. 공동주택 건립'!$C$3)","v":{"$error":"#REF!"}},0,0,0,0,0,0,0,0,0,0,0,0,0,0,0,0,0,0,0,{"$error":"#REF!"},0]
[]
[" 자료 : 공동주택과"]
["    주 : 1) 당해년도(1월1일~12월31일) 사업승인(검사)기준 \n          2) 분양가구수가 30가구 이상인 아파트 기준이며, 사용승인(검사)를 받은 아파트의 미분양 가구수도 포함됨"]
[]
[null,null,{"$f":"C11-SUM(C12:C36)","v":{"$error":"#REF!"}},{"$f":"D11-SUM(D12:D36)","v":0},0,0,0,0,0,0,0,0,0,0,0,0,0,0,0,0]

{"sheet":"169-1. 세대수별","index":7,"n_rows":37,"n_cols":16,"rows_kept":37,"cut":false,"hidden":true,"merged":[[0,0,0,13],[2,5,2,6],[3,2,3,4],[3,5,4,5],[3,6,4,6],[3,7,4,7],[3,8,4,8],[3,13,4,13],[3,11,4,11],[3,12,4,12],[33,0,33,6],[34,0,34,6],[35,0,35,5],[3,9,4,9],[3,10,4,10]]}
["169-1. 공동주택 현황(세대수별) Apartment Houses by The Number of Households"]
[]
["단위 : 개수"]
[null,null,"소        계",null,null,"3,000세대 이상","2,000세대이상\n3,000세대미만","1,000세대이상\n2,000세대미만","500세대이상\n1,000세대미만","300세대이상\n500세대미만","150세대이상\n300세대미만","100세대이상\n150세대미만","50세대이상\n100세대미만","30세대이상\n50세대미만"]
[null,null,"단지수","동수","세대수",{"$nulls":10},"단지수"]
[]
[2017,null,{"$f":"SUM(C$8:C$32)","v":{"$error":"#REF!"}},{"$error":"#REF!"},{"$error":"#REF!"},{"$error":"#REF!"},{"$error":"#REF!"},{"$error":"#REF!"},{"$error":"#REF!"},{"$error":"#REF!"},{"$error":"#REF!"},{"$error":"#REF!"},{"$error":"#REF!"},{"$error":"#REF!"},null,{"$f":"C7-SUM(F7:N7)","v":{"$error":"#REF!"}}]
[" 종   로 Jongno-gu","종로구",{"$f":"SUM(F8:N8)","v":{"$error":"#REF!"}},{"$f":"SUMIFS(#REF!,#REF!,$B8,#REF!,\">=30\")","v":{"$error":"#REF!"}},{"$f":"SUMIFS(#REF!,#REF!,$B8,#REF!,\">=30\")","v":{"$error":"#REF!"}},{"$f":"COUNTIFS(#REF!,$B8,#REF!,\">=3000\")","v":{"$error":"#REF!"}},{"$f":"COUNTIFS(#REF!,$B8,#REF!,\">=2000\",#REF!,\"<3000\")","v":{"$error":"#REF!"}},{"$f":"COUNTIFS(#REF!,$B8,#REF!,\">=1000\",#REF!,\"<2000\")","v":{"$error":"#REF!"}},{"$f":"COUNTIFS(#REF!,$B8,#REF!,\">=500\",#REF!,\"<1000\")","v":{"$error":"#REF!"}},{"$f":"COUNTIFS(#REF!,$B8,#REF!,\">=300\",#REF!,\"<500\")","v":{"$error":"#REF!"}},{"$f":"COUNTIFS(#REF!,$B8,#REF!,\">=150\",#REF!,\"<300\")","v":{"$error":"#REF!"}},{"$f":"COUNTIFS(#REF!,$B8,#REF!,\">=100\",#REF!,\"<150\")","v":{"$error":"#REF!"}},{"$f":"COUNTIFS(#REF!,$B8,#REF!,\">=50\",#REF!,\"<100\")","v":{"$error":"#REF!"}},{"$f":"COUNTIFS(#REF!,$B8,#REF!,\">=30\",#REF!,\"<50\")","v":{"$error":"#REF!"}},null,{"$f":"C8-SUM(F8:N8)","v":{"$error":"#REF!"}}]
[" 중   구 Jung-gu","중구",{"$f":"SUM(F9:N9)","v":{"$error":"#REF!"}},{"$f":"SUMIFS(#REF!,#REF!,$B9,#REF!,\">=30\")","v":{"$error":"#REF!"}},{"$f":"SUMIFS(#REF!,#REF!,$B9,#REF!,\">=30\")","v":{"$error":"#REF!"}},{"$f":"COUNTIFS(#REF!,$B9,#REF!,\">=3000\")","v":{"$error":"#REF!"}},{"$f":"COUNTIFS(#REF!,$B9,#REF!,\">=2000\",#REF!,\"<3000\")","v":{"$error":"#REF!"}},{"$f":"COUNTIFS(#REF!,$B9,#REF!,\">=1000\",#REF!,\"<2000\")","v":{"$error":"#REF!"}},{"$f":"COUNTIFS(#REF!,$B9,#REF!,\">=500\",#REF!,\"<1000\")","v":{"$error":"#REF!"}},{"$f":"COUNTIFS(#REF!,$B9,#REF!,\">=300\",#REF!,\"<500\")","v":{"$error":"#REF!"}},{"$f":"COUNTIFS(#REF!,$B9,#REF!,\">=150\",#REF!,\"<300\")","v":{"$error":"#REF!"}},{"$f":"COUNTIFS(#REF!,$B9,#REF!,\">=100\",#REF!,\"<150\")","v":{"$error":"#REF!"}},{"$f":"COUNTIFS(#REF!,$B9,#REF!,\">=50\",#REF!,\"<100\")","v":{"$error":"#REF!"}},{"$f":"COUNTIFS(#REF!,$B9,#REF!,\">=30\",#REF!,\"<50\")","v":{"$error":"#REF!"}},null,{"$error":"#REF!"}]
[" 용   산 Yongsan-gu","용산구",{"$error":"#REF!"},{"$f":"SUMIFS(#REF!,#REF!,$B10,#REF!,\">=30\")","v":{"$error":"#REF!"}},{"$f":"SUMIFS(#REF!,#REF!,$B10,#REF!,\">=30\")","v":{"$error":"#REF!"}},{"$f":"COUNTIFS(#REF!,$B10,#REF!,\">=3000\")","v":{"$error":"#REF!"}},{"$f":"COUNTIFS(#REF!,$B10,#REF!,\">=2000\",#REF!,\"<3000\")","v":{"$error":"#REF!"}},{"$f":"COUNTIFS(#REF!,$B10,#REF!,\">=1000\",#REF!,\"<2000\")","v":{"$error":"#REF!"}},{"$f":"COUNTIFS(#REF!,$B10,#REF!,\">=500\",#REF!,\"<1000\")","v":{"$error":"#REF!"}},{"$f":"COUNTIFS(#REF!,$B10,#REF!,\">=300\",#REF!,\"<500\")","v":{"$error":"#REF!"}},{"$f":"COUNTIFS(#REF!,$B10,#REF!,\">=150\",#REF!,\"<300\")","v":{"$error":"#REF!"}},{"$f":"COUNTIFS(#REF!,$B10,#REF!,\">=100\",#REF!,\"<150\")","v":{"$error":"#REF!"}},{"$f":"COUNTIFS(#REF!,$B10,#REF!,\">=50\",#REF!,\"<100\")","v":{"$error":"#REF!"}},{"$f":"COUNTIFS(#REF!,$B10,#REF!,\">=30\",#REF!,\"<50\")","v":{"$error":"#REF!"}},null,{"$error":"#REF!"}]
[" 성   동 Seongdong-gu","성동구",{"$error":"#REF!"},{"$f":"SUMIFS(#REF!,#REF!,$B11,#REF!,\">=30\")","v":{"$error":"#REF!"}},{"$f":"SUMIFS(#REF!,#REF!,$B11,#REF!,\">=30\")","v":{"$error":"#REF!"}},{"$f":"COUNTIFS(#REF!,$B11,#REF!,\">=3000\")","v":{"$error":"#REF!"}},{"$f":"COUNTIFS(#REF!,$B11,#REF!,\">=2000\",#REF!,\"<3000\")","v":{"$error":"#REF!"}},{"$f":"COUNTIFS(#REF!,$B11,#REF!,\">=1000\",#REF!,\"<2000\")","v":{"$error":"#REF!"}},{"$f":"COUNTIFS(#REF!,$B11,#REF!,\">=500\",#REF!,\"<1000\")","v":{"$error":"#REF!"}},{"$f":"COUNTIFS(#REF!,$B11,#REF!,\">=300\",#REF!,\"<500\")","v":{"$error":"#REF!"}},{"$f":"COUNTIFS(#REF!,$B11,#REF!,\">=150\",#REF!,\"<300\")","v":{"$error":"#REF!"}},{"$f":"COUNTIFS(#REF!,$B11,#REF!,\">=100\",#REF!,\"<150\")","v":{"$error":"#REF!"}},{"$f":"COUNTIFS(#REF!,$B11,#REF!,\">=50\",#REF!,\"<100\")","v":{"$error":"#REF!"}},{"$f":"COUNTIFS(#REF!,$B11,#REF!,\">=30\",#REF!,\"<50\")","v":{"$error":"#REF!"}},null,{"$error":"#REF!"}]
[" 광   진 Gwangjin-gu","광진구",{"$error":"#REF!"},{"$f":"SUMIFS(#REF!,#REF!,$B12,#REF!,\">=30\")","v":{"$error":"#REF!"}},{"$f":"SUMIFS(#REF!,#REF!,$B12,#REF!,\">=30\")","v":{"$error":"#REF!"}},{"$f":"COUNTIFS(#REF!,$B12,#REF!,\">=3000\")","v":{"$error":"#REF!"}},{"$f":"COUNTIFS(#REF!,$B12,#REF!,\">=2000\",#REF!,\"<3000\")","v":{"$error":"#REF!"}},{"$f":"COUNTIFS(#REF!,$B12,#REF!,\">=1000\",#REF!,\"<2000\")","v":{"$error":"#REF!"}},{"$f":"COUNTIFS(#REF!,$B12,#REF!,\">=500\",#REF!,\"<1000\")","v":{"$error":"#REF!"}},{"$f":"COUNTIFS(#REF!,$B12,#REF!,\">=300\",#REF!,\"<500\")","v":{"$error":"#REF!"}},{"$f":"COUNTIFS(#REF!,$B12,#REF!,\">=150\",#REF!,\"<300\")","v":{"$error":"#REF!"}},{"$f":"COUNTIFS(#REF!,$B12,#REF!,\">=100\",#REF!,\"<150\")","v":{"$error":"#REF!"}},{"$f":"COUNTIFS(#REF!,$B12,#REF!,\">=50\",#REF!,\"<100\")","v":{"$error":"#REF!"}},{"$f":"COUNTIFS(#REF!,$B12,#REF!,\">=30\",#REF!,\"<50\")","v":{"$error":"#REF!"}},null,{"$error":"#REF!"}]
[" 동대문 Dongdaemun-gu","동대문구",{"$error":"#REF!"},{"$f":"SUMIFS(#REF!,#REF!,$B13,#REF!,\">=30\")","v":{"$error":"#REF!"}},{"$f":"SUMIFS(#REF!,#REF!,$B13,#REF!,\">=30\")","v":{"$error":"#REF!"}},{"$f":"COUNTIFS(#REF!,$B13,#REF!,\">=3000\")","v":{"$error":"#REF!"}},{"$f":"COUNTIFS(#REF!,$B13,#REF!,\">=2000\",#REF!,\"<3000\")","v":{"$error":"#REF!"}},{"$f":"COUNTIFS(#REF!,$B13,#REF!,\">=1000\",#REF!,\"<2000\")","v":{"$error":"#REF!"}},{"$f":"COUNTIFS(#REF!,$B13,#REF!,\">=500\",#REF!,\"<1000\")","v":{"$error":"#REF!"}},{"$f":"COUNTIFS(#REF!,$B13,#REF!,\">=300\",#REF!,\"<500\")","v":{"$error":"#REF!"}},{"$f":"COUNTIFS(#REF!,$B13,#REF!,\">=150\",#REF!,\"<300\")","v":{"$error":"#REF!"}},{"$f":"COUNTIFS(#REF!,$B13,#REF!,\">=100\",#REF!,\"<150\")","v":{"$error":"#REF!"}},{"$f":"COUNTIFS(#REF!,$B13,#REF!,\">=50\",#REF!,\"<100\")","v":{"$error":"#REF!"}},{"$f":"COUNTIFS(#REF!,$B13,#REF!,\">=30\",#REF!,\"<50\")","v":{"$error":"#REF!"}},null,{"$error":"#REF!"}]
[" 중   랑 Jungnang-gu","중랑구",{"$error":"#REF!"},{"$f":"SUMIFS(#REF!,#REF!,$B14,#REF!,\">=30\")","v":{"$error":"#REF!"}},{"$f":"SUMIFS(#REF!,#REF!,$B14,#REF!,\">=30\")","v":{"$error":"#REF!"}},{"$f":"COUNTIFS(#REF!,$B14,#REF!,\">=3000\")","v":{"$error":"#REF!"}},{"$f":"COUNTIFS(#REF!,$B14,#REF!,\">=2000\",#REF!,\"<3000\")","v":{"$error":"#REF!"}},{"$f":"COUNTIFS(#REF!,$B14,#REF!,\">=1000\",#REF!,\"<2000\")","v":{"$error":"#REF!"}},{"$f":"COUNTIFS(#REF!,$B14,#REF!,\">=500\",#REF!,\"<1000\")","v":{"$error":"#REF!"}},{"$f":"COUNTIFS(#REF!,$B14,#REF!,\">=300\",#REF!,\"<500\")","v":{"$error":"#REF!"}},{"$f":"COUNTIFS(#REF!,$B14,#REF!,\">=150\",#REF!,\"<300\")","v":{"$error":"#REF!"}},{"$f":"COUNTIFS(#REF!,$B14,#REF!,\">=100\",#REF!,\"<150\")","v":{"$error":"#REF!"}},{"$f":"COUNTIFS(#REF!,$B14,#REF!,\">=50\",#REF!,\"<100\")","v":{"$error":"#REF!"}},{"$f":"COUNTIFS(#REF!,$B14,#REF!,\">=30\",#REF!,\"<50\")","v":{"$error":"#REF!"}},null,{"$error":"#REF!"}]
[" 성   북 Seongbuk-gu","성북구",{"$error":"#REF!"},{"$f":"SUMIFS(#REF!,#REF!,$B15,#REF!,\">=30\")","v":{"$error":"#REF!"}},{"$f":"SUMIFS(#REF!,#REF!,$B15,#REF!,\">=30\")","v":{"$error":"#REF!"}},{"$f":"COUNTIFS(#REF!,$B15,#REF!,\">=3000\")","v":{"$error":"#REF!"}},{"$f":"COUNTIFS(#REF!,$B15,#REF!,\">=2000\",#REF!,\"<3000\")","v":{"$error":"#REF!"}},{"$f":"COUNTIFS(#REF!,$B15,#REF!,\">=1000\",#REF!,\"<2000\")","v":{"$error":"#REF!"}},{"$f":"COUNTIFS(#REF!,$B15,#REF!,\">=500\",#REF!,\"<1000\")","v":{"$error":"#REF!"}},{"$f":"COUNTIFS(#REF!,$B15,#REF!,\">=300\",#REF!,\"<500\")","v":{"$error":"#REF!"}},{"$f":"COUNTIFS(#REF!,$B15,#REF!,\">=150\",#REF!,\"<300\")","v":{"$error":"#REF!"}},{"$f":"COUNTIFS(#REF!,$B15,#REF!,\">=100\",#REF!,\"<150\")","v":{"$error":"#REF!"}},{"$f":"COUNTIFS(#REF!,$B15,#REF!,\">=50\",#REF!,\"<100\")","v":{"$error":"#REF!"}},{"$f":"COUNTIFS(#REF!,$B15,#REF!,\">=30\",#REF!,\"<50\")","v":{"$error":"#REF!"}},null,{"$error":"#REF!"}]
[" 강   북 Gangbuk-gu","강북구",{"$error":"#REF!"},{"$f":"SUMIFS(#REF!,#REF!,$B16,#REF!,\">=30\")","v":{"$error":"#REF!"}},{"$f":"SUMIFS(#REF!,#REF!,$B16,#REF!,\">=30\")","v":{"$error":"#REF!"}},{"$f":"COUNTIFS(#REF!,$B16,#REF!,\">=3000\")","v":{"$error":"#REF!"}},{"$f":"COUNTIFS(#REF!,$B16,#REF!,\">=2000\",#REF!,\"<3000\")","v":{"$error":"#REF!"}},{"$f":"COUNTIFS(#REF!,$B16,#REF!,\">=1000\",#REF!,\"<2000\")","v":{"$error":"#REF!"}},{"$f":"COUNTIFS(#REF!,$B16,#REF!,\">=500\",#REF!,\"<1000\")","v":{"$error":"#REF!"}},{"$f":"COUNTIFS(#REF!,$B16,#REF!,\">=300\",#REF!,\"<500\")","v":{"$error":"#REF!"}},{"$f":"COUNTIFS(#REF!,$B16,#REF!,\">=150\",#REF!,\"<300\")","v":{"$error":"#REF!"}},{"$f":"COUNTIFS(#REF!,$B16,#REF!,\">=100\",#REF!,\"<150\")","v":{"$error":"#REF!"}},{"$f":"COUNTIFS(#REF!,$B16,#REF!,\">=50\",#REF!,\"<100\")","v":{"$error":"#REF!"}},{"$f":"COUNTIFS(#REF!,$B16,#REF!,\">=30\",#REF!,\"<50\")","v":{"$error":"#REF!"}},null,{"$error":"#REF!"}]
[" 도   봉 Dobong-gu","도봉구",{"$error":"#REF!"},{"$f":"SUMIFS(#REF!,#REF!,$B17,#REF!,\">=30\")","v":{"$error":"#REF!"}},{"$f":"SUMIFS(#REF!,#REF!,$B17,#REF!,\">=30\")","v":{"$error":"#REF!"}},{"$f":"COUNTIFS(#REF!,$B17,#REF!,\">=3000\")","v":{"$error":"#REF!"}},{"$f":"COUNTIFS(#REF!,$B17,#REF!,\">=2000\",#REF!,\"<3000\")","v":{"$error":"#REF!"}},{"$f":"COUNTIFS(#REF!,$B17,#REF!,\">=1000\",#REF!,\"<2000\")","v":{"$error":"#REF!"}},{"$f":"COUNTIFS(#REF!,$B17,#REF!,\">=500\",#REF!,\"<1000\")","v":{"$error":"#REF!"}},{"$f":"COUNTIFS(#REF!,$B17,#REF!,\">=300\",#REF!,\"<500\")","v":{"$error":"#REF!"}},{"$f":"COUNTIFS(#REF!,$B17,#REF!,\">=150\",#REF!,\"<300\")","v":{"$error":"#REF!"}},{"$f":"COUNTIFS(#REF!,$B17,#REF!,\">=100\",#REF!,\"<150\")","v":{"$error":"#REF!"}},{"$f":"COUNTIFS(#REF!,$B17,#REF!,\">=50\",#REF!,\"<100\")","v":{"$error":"#REF!"}},{"$f":"COUNTIFS(#REF!,$B17,#REF!,\">=30\",#REF!,\"<50\")","v":{"$error":"#REF!"}},null,{"$error":"#REF!"}]
[" 노   원 Nowon-gu","노원구",{"$error":"#REF!"},{"$f":"SUMIFS(#REF!,#REF!,$B18,#REF!,\">=30\")","v":{"$error":"#REF!"}},{"$f":"SUMIFS(#REF!,#REF!,$B18,#REF!,\">=30\")","v":{"$error":"#REF!"}},{"$f":"COUNTIFS(#REF!,$B18,#REF!,\">=3000\")","v":{"$error":"#REF!"}},{"$f":"COUNTIFS(#REF!,$B18,#REF!,\">=2000\",#REF!,\"<3000\")","v":{"$error":"#REF!"}},{"$f":"COUNTIFS(#REF!,$B18,#REF!,\">=1000\",#REF!,\"<2000\")","v":{"$error":"#REF!"}},{"$f":"COUNTIFS(#REF!,$B18,#REF!,\">=500\",#REF!,\"<1000\")","v":{"$error":"#REF!"}},{"$f":"COUNTIFS(#REF!,$B18,#REF!,\">=300\",#REF!,\"<500\")","v":{"$error":"#REF!"}},{"$f":"COUNTIFS(#REF!,$B18,#REF!,\">=150\",#REF!,\"<300\")","v":{"$error":"#REF!"}},{"$f":"COUNTIFS(#REF!,$B18,#REF!,\">=100\",#REF!,\"<150\")","v":{"$error":"#REF!"}},{"$f":"COUNTIFS(#REF!,$B18,#REF!,\">=50\",#REF!,\"<100\")","v":{"$error":"#REF!"}},{"$f":"COUNTIFS(#REF!,$B18,#REF!,\">=30\",#REF!,\"<50\")","v":{"$error":"#REF!"}},null,{"$error":"#REF!"}]
[" 은   평 Eunpyeong-gu","은평구",{"$error":"#REF!"},{"$f":"SUMIFS(#REF!,#REF!,$B19,#REF!,\">=30\")","v":{"$error":"#REF!"}},{"$f":"SUMIFS(#REF!,#REF!,$B19,#REF!,\">=30\")","v":{"$error":"#REF!"}},{"$f":"COUNTIFS(#REF!,$B19,#REF!,\">=3000\")","v":{"$error":"#REF!"}},{"$f":"COUNTIFS(#REF!,$B19,#REF!,\">=2000\",#REF!,\"<3000\")","v":{"$error":"#REF!"}},{"$f":"COUNTIFS(#REF!,$B19,#REF!,\">=1000\",#REF!,\"<2000\")","v":{"$error":"#REF!"}},{"$f":"COUNTIFS(#REF!,$B19,#REF!,\">=500\",#REF!,\"<1000\")","v":{"$error":"#REF!"}},{"$f":"COUNTIFS(#REF!,$B19,#REF!,\">=300\",#REF!,\"<500\")","v":{"$error":"#REF!"}},{"$f":"COUNTIFS(#REF!,$B19,#REF!,\">=150\",#REF!,\"<300\")","v":{"$error":"#REF!"}},{"$f":"COUNTIFS(#REF!,$B19,#REF!,\">=100\",#REF!,\"<150\")","v":{"$error":"#REF!"}},{"$f":"COUNTIFS(#REF!,$B19,#REF!,\">=50\",#REF!,\"<100\")","v":{"$error":"#REF!"}},{"$f":"COUNTIFS(#REF!,$B19,#REF!,\">=30\",#REF!,\"<50\")","v":{"$error":"#REF!"}},null,{"$error":"#REF!"}]
[" 서대문 Seodaemun-gu","서대문구",{"$error":"#REF!"},{"$f":"SUMIFS(#REF!,#REF!,$B20,#REF!,\">=30\")","v":{"$error":"#REF!"}},{"$f":"SUMIFS(#REF!,#REF!,$B20,#REF!,\">=30\")","v":{"$error":"#REF!"}},{"$f":"COUNTIFS(#REF!,$B20,#REF!,\">=3000\")","v":{"$error":"#REF!"}},{"$f":"COUNTIFS(#REF!,$B20,#REF!,\">=2000\",#REF!,\"<3000\")","v":{"$error":"#REF!"}},{"$f":"COUNTIFS(#REF!,$B20,#REF!,\">=1000\",#REF!,\"<2000\")","v":{"$error":"#REF!"}},{"$f":"COUNTIFS(#REF!,$B20,#REF!,\">=500\",#REF!,\"<1000\")","v":{"$error":"#REF!"}},{"$f":"COUNTIFS(#REF!,$B20,#REF!,\">=300\",#REF!,\"<500\")","v":{"$error":"#REF!"}},{"$f":"COUNTIFS(#REF!,$B20,#REF!,\">=150\",#REF!,\"<300\")","v":{"$error":"#REF!"}},{"$f":"COUNTIFS(#REF!,$B20,#REF!,\">=100\",#REF!,\"<150\")","v":{"$error":"#REF!"}},{"$f":"COUNTIFS(#REF!,$B20,#REF!,\">=50\",#REF!,\"<100\")","v":{"$error":"#REF!"}},{"$f":"COUNTIFS(#REF!,$B20,#REF!,\">=30\",#REF!,\"<50\")","v":{"$error":"#REF!"}},null,{"$error":"#REF!"}]
[" 마   포 Mapo-gu","마포구",{"$error":"#REF!"},{"$f":"SUMIFS(#REF!,#REF!,$B21,#REF!,\">=30\")","v":{"$error":"#REF!"}},{"$f":"SUMIFS(#REF!,#REF!,$B21,#REF!,\">=30\")","v":{"$error":"#REF!"}},{"$f":"COUNTIFS(#REF!,$B21,#REF!,\">=3000\")","v":{"$error":"#REF!"}},{"$f":"COUNTIFS(#REF!,$B21,#REF!,\">=2000\",#REF!,\"<3000\")","v":{"$error":"#REF!"}},{"$f":"COUNTIFS(#REF!,$B21,#REF!,\">=1000\",#REF!,\"<2000\")","v":{"$error":"#REF!"}},{"$f":"COUNTIFS(#REF!,$B21,#REF!,\">=500\",#REF!,\"<1000\")","v":{"$error":"#REF!"}},{"$f":"COUNTIFS(#REF!,$B21,#REF!,\">=300\",#REF!,\"<500\")","v":{"$error":"#REF!"}},{"$f":"COUNTIFS(#REF!,$B21,#REF!,\">=150\",#REF!,\"<300\")","v":{"$error":"#REF!"}},{"$f":"COUNTIFS(#REF!,$B21,#REF!,\">=100\",#REF!,\"<150\")","v":{"$error":"#REF!"}},{"$f":"COUNTIFS(#REF!,$B21,#REF!,\">=50\",#REF!,\"<100\")","v":{"$error":"#REF!"}},{"$f":"COUNTIFS(#REF!,$B21,#REF!,\">=30\",#REF!,\"<50\")","v":{"$error":"#REF!"}},null,{"$error":"#REF!"}]
[" 양   천 Yangcheon-gu","양천구",{"$error":"#REF!"},{"$f":"SUMIFS(#REF!,#REF!,$B22,#REF!,\">=30\")","v":{"$error":"#REF!"}},{"$f":"SUMIFS(#REF!,#REF!,$B22,#REF!,\">=30\")","v":{"$error":"#REF!"}},{"$f":"COUNTIFS(#REF!,$B22,#REF!,\">=3000\")","v":{"$error":"#REF!"}},{"$f":"COUNTIFS(#REF!,$B22,#REF!,\">=2000\",#REF!,\"<3000\")","v":{"$error":"#REF!"}},{"$f":"COUNTIFS(#REF!,$B22,#REF!,\">=1000\",#REF!,\"<2000\")","v":{"$error":"#REF!"}},{"$f":"COUNTIFS(#REF!,$B22,#REF!,\">=500\",#REF!,\"<1000\")","v":{"$error":"#REF!"}},{"$f":"COUNTIFS(#REF!,$B22,#REF!,\">=300\",#REF!,\"<500\")","v":{"$error":"#REF!"}},{"$f":"COUNTIFS(#REF!,$B22,#REF!,\">=150\",#REF!,\"<300\")","v":{"$error":"#REF!"}},{"$f":"COUNTIFS(#REF!,$B22,#REF!,\">=100\",#REF!,\"<150\")","v":{"$error":"#REF!"}},{"$f":"COUNTIFS(#REF!,$B22,#REF!,\">=50\",#REF!,\"<100\")","v":{"$error":"#REF!"}},{"$f":"COUNTIFS(#REF!,$B22,#REF!,\">=30\",#REF!,\"<50\")","v":{"$error":"#REF!"}},null,{"$error":"#REF!"}]
[" 강   서 Gangseo-gu","강서구",{"$error":"#REF!"},{"$f":"SUMIFS(#REF!,#REF!,$B23,#REF!,\">=30\")","v":{"$error":"#REF!"}},{"$f":"SUMIFS(#REF!,#REF!,$B23,#REF!,\">=30\")","v":{"$error":"#REF!"}},{"$f":"COUNTIFS(#REF!,$B23,#REF!,\">=3000\")","v":{"$error":"#REF!"}},{"$f":"COUNTIFS(#REF!,$B23,#REF!,\">=2000\",#REF!,\"<3000\")","v":{"$error":"#REF!"}},{"$f":"COUNTIFS(#REF!,$B23,#REF!,\">=1000\",#REF!,\"<2000\")","v":{"$error":"#REF!"}},{"$f":"COUNTIFS(#REF!,$B23,#REF!,\">=500\",#REF!,\"<1000\")","v":{"$error":"#REF!"}},{"$f":"COUNTIFS(#REF!,$B23,#REF!,\">=300\",#REF!,\"<500\")","v":{"$error":"#REF!"}},{"$f":"COUNTIFS(#REF!,$B23,#REF!,\">=150\",#REF!,\"<300\")","v":{"$error":"#REF!"}},{"$f":"COUNTIFS(#REF!,$B23,#REF!,\">=100\",#REF!,\"<150\")","v":{"$error":"#REF!"}},{"$f":"COUNTIFS(#REF!,$B23,#REF!,\">=50\",#REF!,\"<100\")","v":{"$error":"#REF!"}},{"$f":"COUNTIFS(#REF!,$B23,#REF!,\">=30\",#REF!,\"<50\")","v":{"$error":"#REF!"}},null,{"$error":"#REF!"}]
[" 구   로 Guro-gu","구로구",{"$error":"#REF!"},{"$f":"SUMIFS(#REF!,#REF!,$B24,#REF!,\">=30\")","v":{"$error":"#REF!"}},{"$f":"SUMIFS(#REF!,#REF!,$B24,#REF!,\">=30\")","v":{"$error":"#REF!"}},{"$f":"COUNTIFS(#REF!,$B24,#REF!,\">=3000\")","v":{"$error":"#REF!"}},{"$f":"COUNTIFS(#REF!,$B24,#REF!,\">=2000\",#REF!,\"<3000\")","v":{"$error":"#REF!"}},{"$f":"COUNTIFS(#REF!,$B24,#REF!,\">=1000\",#REF!,\"<2000\")","v":{"$error":"#REF!"}},{"$f":"COUNTIFS(#REF!,$B24,#REF!,\">=500\",#REF!,\"<1000\")","v":{"$error":"#REF!"}},{"$f":"COUNTIFS(#REF!,$B24,#REF!,\">=300\",#REF!,\"<500\")","v":{"$error":"#REF!"}},{"$f":"COUNTIFS(#REF!,$B24,#REF!,\">=150\",#REF!,\"<300\")","v":{"$error":"#REF!"}},{"$f":"COUNTIFS(#REF!,$B24,#REF!,\">=100\",#REF!,\"<150\")","v":{"$error":"#REF!"}},{"$f":"COUNTIFS(#REF!,$B24,#REF!,\">=50\",#REF!,\"<100\")","v":{"$error":"#REF!"}},{"$f":"COUNTIFS(#REF!,$B24,#REF!,\">=30\",#REF!,\"<50\")","v":{"$error":"#REF!"}},null,{"$error":"#REF!"}]
[" 금   천 Geumcheon-gu","금천구",{"$error":"#REF!"},{"$f":"SUMIFS(#REF!,#REF!,$B25,#REF!,\">=30\")","v":{"$error":"#REF!"}},{"$f":"SUMIFS(#REF!,#REF!,$B25,#REF!,\">=30\")","v":{"$error":"#REF!"}},{"$f":"COUNTIFS(#REF!,$B25,#REF!,\">=3000\")","v":{"$error":"#REF!"}},{"$f":"COUNTIFS(#REF!,$B25,#REF!,\">=2000\",#REF!,\"<3000\")","v":{"$error":"#REF!"}},{"$f":"COUNTIFS(#REF!,$B25,#REF!,\">=1000\",#REF!,\"<2000\")","v":{"$error":"#REF!"}},{"$f":"COUNTIFS(#REF!,$B25,#REF!,\">=500\",#REF!,\"<1000\")","v":{"$error":"#REF!"}},{"$f":"COUNTIFS(#REF!,$B25,#REF!,\">=300\",#REF!,\"<500\")","v":{"$error":"#REF!"}},{"$f":"COUNTIFS(#REF!,$B25,#REF!,\">=150\",#REF!,\"<300\")","v":{"$error":"#REF!"}},{"$f":"COUNTIFS(#REF!,$B25,#REF!,\">=100\",#REF!,\"<150\")","v":{"$error":"#REF!"}},{"$f":"COUNTIFS(#REF!,$B25,#REF!,\">=50\",#REF!,\"<100\")","v":{"$error":"#REF!"}},{"$f":"COUNTIFS(#REF!,$B25,#REF!,\">=30\",#REF!,\"<50\")","v":{"$error":"#REF!"}},null,{"$error":"#REF!"}]
[" 영등포 Yeongdeungpo-gu","영등포구",{"$error":"#REF!"},{"$f":"SUMIFS(#REF!,#REF!,$B26,#REF!,\">=30\")","v":{"$error":"#REF!"}},{"$f":"SUMIFS(#REF!,#REF!,$B26,#REF!,\">=30\")","v":{"$error":"#REF!"}},{"$f":"COUNTIFS(#REF!,$B26,#REF!,\">=3000\")","v":{"$error":"#REF!"}},{"$f":"COUNTIFS(#REF!,$B26,#REF!,\">=2000\",#REF!,\"<3000\")","v":{"$error":"#REF!"}},{"$f":"COUNTIFS(#REF!,$B26,#REF!,\">=1000\",#REF!,\"<2000\")","v":{"$error":"#REF!"}},{"$f":"COUNTIFS(#REF!,$B26,#REF!,\">=500\",#REF!,\"<1000\")","v":{"$error":"#REF!"}},{"$f":"COUNTIFS(#REF!,$B26,#REF!,\">=300\",#REF!,\"<500\")","v":{"$error":"#REF!"}},{"$f":"COUNTIFS(#REF!,$B26,#REF!,\">=150\",#REF!,\"<300\")","v":{"$error":"#REF!"}},{"$f":"COUNTIFS(#REF!,$B26,#REF!,\">=100\",#REF!,\"<150\")","v":{"$error":"#REF!"}},{"$f":"COUNTIFS(#REF!,$B26,#REF!,\">=50\",#REF!,\"<100\")","v":{"$error":"#REF!"}},{"$f":"COUNTIFS(#REF!,$B26,#REF!,\">=30\",#REF!,\"<50\")","v":{"$error":"#REF!"}},null,{"$error":"#REF!"}]
[" 동   작 Dongjak-gu","동작구",{"$error":"#REF!"},{"$f":"SUMIFS(#REF!,#REF!,$B27,#REF!,\">=30\")","v":{"$error":"#REF!"}},{"$f":"SUMIFS(#REF!,#REF!,$B27,#REF!,\">=30\")","v":{"$error":"#REF!"}},{"$f":"COUNTIFS(#REF!,$B27,#REF!,\">=3000\")","v":{"$error":"#REF!"}},{"$f":"COUNTIFS(#REF!,$B27,#REF!,\">=2000\",#REF!,\"<3000\")","v":{"$error":"#REF!"}},{"$f":"COUNTIFS(#REF!,$B27,#REF!,\">=1000\",#REF!,\"<2000\")","v":{"$error":"#REF!"}},{"$f":"COUNTIFS(#REF!,$B27,#REF!,\">=500\",#REF!,\"<1000\")","v":{"$error":"#REF!"}},{"$f":"COUNTIFS(#REF!,$B27,#REF!,\">=300\",#REF!,\"<500\")","v":{"$error":"#REF!"}},{"$f":"COUNTIFS(#REF!,$B27,#REF!,\">=150\",#REF!,\"<300\")","v":{"$error":"#REF!"}},{"$f":"COUNTIFS(#REF!,$B27,#REF!,\">=100\",#REF!,\"<150\")","v":{"$error":"#REF!"}},{"$f":"COUNTIFS(#REF!,$B27,#REF!,\">=50\",#REF!,\"<100\")","v":{"$error":"#REF!"}},{"$f":"COUNTIFS(#REF!,$B27,#REF!,\">=30\",#REF!,\"<50\")","v":{"$error":"#REF!"}},null,{"$error":"#REF!"}]
[" 관   악 Gwanak-gu","관악구",{"$error":"#REF!"},{"$f":"SUMIFS(#REF!,#REF!,$B28,#REF!,\">=30\")","v":{"$error":"#REF!"}},{"$f":"SUMIFS(#REF!,#REF!,$B28,#REF!,\">=30\")","v":{"$error":"#REF!"}},{"$f":"COUNTIFS(#REF!,$B28,#REF!,\">=3000\")","v":{"$error":"#REF!"}},{"$f":"COUNTIFS(#REF!,$B28,#REF!,\">=2000\",#REF!,\"<3000\")","v":{"$error":"#REF!"}},{"$f":"COUNTIFS(#REF!,$B28,#REF!,\">=1000\",#REF!,\"<2000\")","v":{"$error":"#REF!"}},{"$f":"COUNTIFS(#REF!,$B28,#REF!,\">=500\",#REF!,\"<1000\")","v":{"$error":"#REF!"}},{"$f":"COUNTIFS(#REF!,$B28,#REF!,\">=300\",#REF!,\"<500\")","v":{"$error":"#REF!"}},{"$f":"COUNTIFS(#REF!,$B28,#REF!,\">=150\",#REF!,\"<300\")","v":{"$error":"#REF!"}},{"$f":"COUNTIFS(#REF!,$B28,#REF!,\">=100\",#REF!,\"<150\")","v":{"$error":"#REF!"}},{"$f":"COUNTIFS(#REF!,$B28,#REF!,\">=50\",#REF!,\"<100\")","v":{"$error":"#REF!"}},{"$f":"COUNTIFS(#REF!,$B28,#REF!,\">=30\",#REF!,\"<50\")","v":{"$error":"#REF!"}},null,{"$error":"#REF!"}]
[" 서   초 Seocho-gu","서초구",{"$error":"#REF!"},{"$f":"SUMIFS(#REF!,#REF!,$B29,#REF!,\">=30\")","v":{"$error":"#REF!"}},{"$f":"SUMIFS(#REF!,#REF!,$B29,#REF!,\">=30\")","v":{"$error":"#REF!"}},{"$f":"COUNTIFS(#REF!,$B29,#REF!,\">=3000\")","v":{"$error":"#REF!"}},{"$f":"COUNTIFS(#REF!,$B29,#REF!,\">=2000\",#REF!,\"<3000\")","v":{"$error":"#REF!"}},{"$f":"COUNTIFS(#REF!,$B29,#REF!,\">=1000\",#REF!,\"<2000\")","v":{"$error":"#REF!"}},{"$f":"COUNTIFS(#REF!,$B29,#REF!,\">=500\",#REF!,\"<1000\")","v":{"$error":"#REF!"}},{"$f":"COUNTIFS(#REF!,$B29,#REF!,\">=300\",#REF!,\"<500\")","v":{"$error":"#REF!"}},{"$f":"COUNTIFS(#REF!,$B29,#REF!,\">=150\",#REF!,\"<300\")","v":{"$error":"#REF!"}},{"$f":"COUNTIFS(#REF!,$B29,#REF!,\">=100\",#REF!,\"<150\")","v":{"$error":"#REF!"}},{"$f":"COUNTIFS(#REF!,$B29,#REF!,\">=50\",#REF!,\"<100\")","v":{"$error":"#REF!"}},{"$f":"COUNTIFS(#REF!,$B29,#REF!,\">=30\",#REF!,\"<50\")","v":{"$error":"#REF!"}},null,{"$error":"#REF!"}]
[" 강   남 Gangnam-gu","강남구",{"$error":"#REF!"},{"$f":"SUMIFS(#REF!,#REF!,$B30,#REF!,\">=30\")","v":{"$error":"#REF!"}},{"$f":"SUMIFS(#REF!,#REF!,$B30,#REF!,\">=30\")","v":{"$error":"#REF!"}},{"$f":"COUNTIFS(#REF!,$B30,#REF!,\">=3000\")","v":{"$error":"#REF!"}},{"$f":"COUNTIFS(#REF!,$B30,#REF!,\">=2000\",#REF!,\"<3000\")","v":{"$error":"#REF!"}},{"$f":"COUNTIFS(#REF!,$B30,#REF!,\">=1000\",#REF!,\"<2000\")","v":{"$error":"#REF!"}},{"$f":"COUNTIFS(#REF!,$B30,#REF!,\">=500\",#REF!,\"<1000\")","v":{"$error":"#REF!"}},{"$f":"COUNTIFS(#REF!,$B30,#REF!,\">=300\",#REF!,\"<500\")","v":{"$error":"#REF!"}},{"$f":"COUNTIFS(#REF!,$B30,#REF!,\">=150\",#REF!,\"<300\")","v":{"$error":"#REF!"}},{"$f":"COUNTIFS(#REF!,$B30,#REF!,\">=100\",#REF!,\"<150\")","v":{"$error":"#REF!"}},{"$f":"COUNTIFS(#REF!,$B30,#REF!,\">=50\",#REF!,\"<100\")","v":{"$error":"#REF!"}},{"$f":"COUNTIFS(#REF!,$B30,#REF!,\">=30\",#REF!,\"<50\")","v":{"$error":"#REF!"}},null,{"$error":"#REF!"}]
[" 송   파 Songpa-gu","송파구",{"$error":"#REF!"},{"$f":"SUMIFS(#REF!,#REF!,$B31,#REF!,\">=30\")","v":{"$error":"#REF!"}},{"$f":"SUMIFS(#REF!,#REF!,$B31,#REF!,\">=30\")","v":{"$error":"#REF!"}},{"$f":"COUNTIFS(#REF!,$B31,#REF!,\">=3000\")","v":{"$error":"#REF!"}},{"$f":"COUNTIFS(#REF!,$B31,#REF!,\">=2000\",#REF!,\"<3000\")","v":{"$error":"#REF!"}},{"$f":"COUNTIFS(#REF!,$B31,#REF!,\">=1000\",#REF!,\"<2000\")","v":{"$error":"#REF!"}},{"$f":"COUNTIFS(#REF!,$B31,#REF!,\">=500\",#REF!,\"<1000\")","v":{"$error":"#REF!"}},{"$f":"COUNTIFS(#REF!,$B31,#REF!,\">=300\",#REF!,\"<500\")","v":{"$error":"#REF!"}},{"$f":"COUNTIFS(#REF!,$B31,#REF!,\">=150\",#REF!,\"<300\")","v":{"$error":"#REF!"}},{"$f":"COUNTIFS(#REF!,$B31,#REF!,\">=100\",#REF!,\"<150\")","v":{"$error":"#REF!"}},{"$f":"COUNTIFS(#REF!,$B31,#REF!,\">=50\",#REF!,\"<100\")","v":{"$error":"#REF!"}},{"$f":"COUNTIFS(#REF!,$B31,#REF!,\">=30\",#REF!,\"<50\")","v":{"$error":"#REF!"}},0,{"$error":"#REF!"}]
[" 강   동 Gangdong-gu","강동구",{"$error":"#REF!"},{"$f":"SUMIFS(#REF!,#REF!,$B32,#REF!,\">=30\")","v":{"$error":"#REF!"}},{"$f":"SUMIFS(#REF!,#REF!,$B32,#REF!,\">=30\")","v":{"$error":"#REF!"}},{"$f":"COUNTIFS(#REF!,$B32,#REF!,\">=3000\")","v":{"$error":"#REF!"}},{"$f":"COUNTIFS(#REF!,$B32,#REF!,\">=2000\",#REF!,\"<3000\")","v":{"$error":"#REF!"}},{"$f":"COUNTIFS(#REF!,$B32,#REF!,\">=1000\",#REF!,\"<2000\")","v":{"$error":"#REF!"}},{"$f":"COUNTIFS(#REF!,$B32,#REF!,\">=500\",#REF!,\"<1000\")","v":{"$error":"#REF!"}},{"$f":"COUNTIFS(#REF!,$B32,#REF!,\">=300\",#REF!,\"<500\")","v":{"$error":"#REF!"}},{"$f":"COUNTIFS(#REF!,$B32,#REF!,\">=150\",#REF!,\"<300\")","v":{"$error":"#REF!"}},{"$f":"COUNTIFS(#REF!,$B32,#REF!,\">=100\",#REF!,\"<150\")","v":{"$error":"#REF!"}},{"$f":"COUNTIFS(#REF!,$B32,#REF!,\">=50\",#REF!,\"<100\")","v":{"$error":"#REF!"}},{"$f":"COUNTIFS(#REF!,$B32,#REF!,\">=30\",#REF!,\"<50\")","v":{"$error":"#REF!"}},0,{"$error":"#REF!"}]
[]
[" 자료 : 공동주택과"]
["    주 : 1) 분양가구수가 30가구 이상인 아파트,주상복합,연립,다세대 기준."]
[]
[null,null,{"$f":"C7-SUM(C8:C32)","v":{"$error":"#REF!"}},{"$error":"#REF!"},{"$error":"#REF!"},{"$error":"#REF!"},{"$error":"#REF!"},{"$error":"#REF!"},{"$error":"#REF!"},{"$error":"#REF!"},{"$error":"#REF!"},{"$error":"#REF!"},{"$error":"#REF!"},{"$error":"#REF!"}]

{"sheet":"169-2. 유형별","index":8,"n_rows":37,"n_cols":21,"rows_kept":37,"cut":false,"hidden":true,"merged":[[33,0,33,9],[34,0,34,9],[35,0,35,8],[0,0,0,16],[2,8,2,9],[3,0,4,1],[3,2,3,4],[3,5,3,7],[3,8,3,10],[3,11,3,13],[3,14,3,16]]}
["169-2. 공동주택 현황(유형별) Apartment Houses by Types"]
[]
["단위 : 개수"]
[null,null,"총계",null,null,"아파트",null,null,"주상복합",null,null,"연립",null,null,"다세대"]
[null,null,"단지수","동수","세대수","단지수","동수","세대수","단지수","동수","세대수","단지수","동수","세대수","단지수","동수","세대수",null,"단지수","동수","세대수"]
[]
[2017,null,{"$f":"SUM(C$8:C$32)","v":{"$error":"#REF!"}},{"$error":"#REF!"},{"$error":"#REF!"},{"$error":"#REF!"},{"$error":"#REF!"},{"$error":"#REF!"},{"$error":"#REF!"},{"$error":"#REF!"},{"$error":"#REF!"},{"$error":"#REF!"},{"$error":"#REF!"},{"$error":"#REF!"},{"$error":"#REF!"},{"$error":"#REF!"},{"$error":"#REF!"},null,{"$f":"C7-SUM(F7,I7,L7,O7)","v":{"$error":"#REF!"}},{"$f":"D7-SUM(G7,J7,M7,P7)","v":{"$error":"#REF!"}},{"$f":"E7-SUM(H7,K7,N7,Q7)","v":{"$error":"#REF!"}}]
[" 종   로 Jongno-gu","종로구",{"$f":"SUM(F8,I8,L8,O8)","v":{"$error":"#REF!"}},{"$f":"SUM(G8,J8,M8,P8)","v":{"$error":"#REF!"}},{"$f":"SUM(H8,K8,N8,Q8)","v":{"$error":"#REF!"}},{"$f":"COUNTIFS(#REF!,$B8,#REF!,F$4,#REF!,\">=30\")","v":{"$error":"#REF!"}},{"$f":"SUMIFS(#REF!,#REF!,$B8,#REF!,F$4,#REF!,\">=30\")","v":{"$error":"#REF!"}},{"$f":"SUMIFS(#REF!,#REF!,$B8,#REF!,F$4,#REF!,\">=30\")","v":{"$error":"#REF!"}},{"$f":"COUNTIFS(#REF!,$B8,#REF!,I$4,#REF!,\">=30\")","v":{"$error":"#REF!"}},{"$f":"SUMIFS(#REF!,#REF!,$B8,#REF!,I$4,#REF!,\">=30\")","v":{"$error":"#REF!"}},{"$f":"SUMIFS(#REF!,#REF!,$B8,#REF!,I$4,#REF!,\">=30\")","v":{"$error":"#REF!"}},{"$f":"COUNTIFS(#REF!,$B8,#REF!,L$4,#REF!,\">=30\")","v":{"$error":"#REF!"}},{"$f":"SUMIFS(#REF!,#REF!,$B8,#REF!,L$4,#REF!,\">=30\")","v":{"$error":"#REF!"}},{"$f":"SUMIFS(#REF!,#REF!,$B8,#REF!,L$4,#REF!,\">=30\")","v":{"$error":"#REF!"}},{"$f":"COUNTIFS(#REF!,$B8,#REF!,O$4,#REF!,\">=30\")","v":{"$error":"#REF!"}},{"$f":"SUMIFS(#REF!,#REF!,$B8,#REF!,O$4,#REF!,\">=30\")","v":{"$error":"#REF!"}},{"$f":"SUMIFS(#REF!,#REF!,$B8,#REF!,O$4,#REF!,\">=30\")","v":{"$error":"#REF!"}},null,{"$f":"C8-SUM(F8,I8,L8,O8)","v":{"$error":"#REF!"}},{"$f":"D8-SUM(G8,J8,M8,P8)","v":{"$error":"#REF!"}},{"$f":"E8-SUM(H8,K8,N8,Q8)","v":{"$error":"#REF!"}}]
[" 중   구 Jung-gu","중구",{"$f":"SUM(F9,I9,L9,O9)","v":{"$error":"#REF!"}},{"$f":"SUM(G9,J9,M9,P9)","v":{"$error":"#REF!"}},{"$f":"SUM(H9,K9,N9,Q9)","v":{"$error":"#REF!"}},{"$f":"COUNTIFS(#REF!,$B9,#REF!,F$4,#REF!,\">=30\")","v":{"$error":"#REF!"}},{"$f":"SUMIFS(#REF!,#REF!,$B9,#REF!,F$4,#REF!,\">=30\")","v":{"$error":"#REF!"}},{"$f":"SUMIFS(#REF!,#REF!,$B9,#REF!,F$4,#REF!,\">=30\")","v":{"$error":"#REF!"}},{"$f":"COUNTIFS(#REF!,$B9,#REF!,I$4,#REF!,\">=30\")","v":{"$error":"#REF!"}},{"$f":"SUMIFS(#REF!,#REF!,$B9,#REF!,I$4,#REF!,\">=30\")","v":{"$error":"#REF!"}},{"$f":"SUMIFS(#REF!,#REF!,$B9,#REF!,I$4,#REF!,\">=30\")","v":{"$error":"#REF!"}},{"$f":"COUNTIFS(#REF!,$B9,#REF!,L$4,#REF!,\">=30\")","v":{"$error":"#REF!"}},{"$f":"SUMIFS(#REF!,#REF!,$B9,#REF!,L$4,#REF!,\">=30\")","v":{"$error":"#REF!"}},{"$f":"SUMIFS(#REF!,#REF!,$B9,#REF!,L$4,#REF!,\">=30\")","v":{"$error":"#REF!"}},{"$f":"COUNTIFS(#REF!,$B9,#REF!,O$4,#REF!,\">=30\")","v":{"$error":"#REF!"}},{"$f":"SUMIFS(#REF!,#REF!,$B9,#REF!,O$4,#REF!,\">=30\")","v":{"$error":"#REF!"}},{"$f":"SUMIFS(#REF!,#REF!,$B9,#REF!,O$4,#REF!,\">=30\")","v":{"$error":"#REF!"}},null,{"$error":"#REF!"},{"$error":"#REF!"},{"$error":"#REF!"}]
[" 용   산 Yongsan-gu","용산구",{"$error":"#REF!"},{"$error":"#REF!"},{"$error":"#REF!"},{"$f":"COUNTIFS(#REF!,$B10,#REF!,F$4,#REF!,\">=30\")","v":{"$error":"#REF!"}},{"$f":"SUMIFS(#REF!,#REF!,$B10,#REF!,F$4,#REF!,\">=30\")","v":{"$error":"#REF!"}},{"$f":"SUMIFS(#REF!,#REF!,$B10,#REF!,F$4,#REF!,\">=30\")","v":{"$error":"#REF!"}},{"$f":"COUNTIFS(#REF!,$B10,#REF!,I$4,#REF!,\">=30\")","v":{"$error":"#REF!"}},{"$f":"SUMIFS(#REF!,#REF!,$B10,#REF!,I$4,#REF!,\">=30\")","v":{"$error":"#REF!"}},{"$f":"SUMIFS(#REF!,#REF!,$B10,#REF!,I$4,#REF!,\">=30\")","v":{"$error":"#REF!"}},{"$f":"COUNTIFS(#REF!,$B10,#REF!,L$4,#REF!,\">=30\")","v":{"$error":"#REF!"}},{"$f":"SUMIFS(#REF!,#REF!,$B10,#REF!,L$4,#REF!,\">=30\")","v":{"$error":"#REF!"}},{"$f":"SUMIFS(#REF!,#REF!,$B10,#REF!,L$4,#REF!,\">=30\")","v":{"$error":"#REF!"}},{"$f":"COUNTIFS(#REF!,$B10,#REF!,O$4,#REF!,\">=30\")","v":{"$error":"#REF!"}},{"$f":"SUMIFS(#REF!,#REF!,$B10,#REF!,O$4,#REF!,\">=30\")","v":{"$error":"#REF!"}},{"$f":"SUMIFS(#REF!,#REF!,$B10,#REF!,O$4,#REF!,\">=30\")","v":{"$error":"#REF!"}},null,{"$error":"#REF!"},{"$error":"#REF!"},{"$error":"#REF!"}]
[" 성   동 Seongdong-gu","성동구",{"$error":"#REF!"},{"$error":"#REF!"},{"$error":"#REF!"},{"$f":"COUNTIFS(#REF!,$B11,#REF!,F$4,#REF!,\">=30\")","v":{"$error":"#REF!"}},{"$f":"SUMIFS(#REF!,#REF!,$B11,#REF!,F$4,#REF!,\">=30\")","v":{"$error":"#REF!"}},{"$f":"SUMIFS(#REF!,#REF!,$B11,#REF!,F$4,#REF!,\">=30\")","v":{"$error":"#REF!"}},{"$f":"COUNTIFS(#REF!,$B11,#REF!,I$4,#REF!,\">=30\")","v":{"$error":"#REF!"}},{"$f":"SUMIFS(#REF!,#REF!,$B11,#REF!,I$4,#REF!,\">=30\")","v":{"$error":"#REF!"}},{"$f":"SUMIFS(#REF!,#REF!,$B11,#REF!,I$4,#REF!,\">=30\")","v":{"$error":"#REF!"}},{"$f":"COUNTIFS(#REF!,$B11,#REF!,L$4,#REF!,\">=30\")","v":{"$error":"#REF!"}},{"$f":"SUMIFS(#REF!,#REF!,$B11,#REF!,L$4,#REF!,\">=30\")","v":{"$error":"#REF!"}},{"$f":"SUMIFS(#REF!,#REF!,$B11,#REF!,L$4,#REF!,\">=30\")","v":{"$error":"#REF!"}},{"$f":"COUNTIFS(#REF!,$B11,#REF!,O$4,#REF!,\">=30\")","v":{"$error":"#REF!"}},{"$f":"SUMIFS(#REF!,#REF!,$B11,#REF!,O$4,#REF!,\">=30\")","v":{"$error":"#REF!"}},{"$f":"SUMIFS(#REF!,#REF!,$B11,#REF!,O$4,#REF!,\">=30\")","v":{"$error":"#REF!"}},null,{"$error":"#REF!"},{"$error":"#REF!"},{"$error":"#REF!"}]
[" 광   진 Gwangjin-gu","광진구",{"$error":"#REF!"},{"$error":"#REF!"},{"$error":"#REF!"},{"$f":"COUNTIFS(#REF!,$B12,#REF!,F$4,#REF!,\">=30\")","v":{"$error":"#REF!"}},{"$f":"SUMIFS(#REF!,#REF!,$B12,#REF!,F$4,#REF!,\">=30\")","v":{"$error":"#REF!"}},{"$f":"SUMIFS(#REF!,#REF!,$B12,#REF!,F$4,#REF!,\">=30\")","v":{"$error":"#REF!"}},{"$f":"COUNTIFS(#REF!,$B12,#REF!,I$4,#REF!,\">=30\")","v":{"$error":"#REF!"}},{"$f":"SUMIFS(#REF!,#REF!,$B12,#REF!,I$4,#REF!,\">=30\")","v":{"$error":"#REF!"}},{"$f":"SUMIFS(#REF!,#REF!,$B12,#REF!,I$4,#REF!,\">=30\")","v":{"$error":"#REF!"}},{"$f":"COUNTIFS(#REF!,$B12,#REF!,L$4,#REF!,\">=30\")","v":{"$error":"#REF!"}},{"$f":"SUMIFS(#REF!,#REF!,$B12,#REF!,L$4,#REF!,\">=30\")","v":{"$error":"#REF!"}},{"$f":"SUMIFS(#REF!,#REF!,$B12,#REF!,L$4,#REF!,\">=30\")","v":{"$error":"#REF!"}},{"$f":"COUNTIFS(#REF!,$B12,#REF!,O$4,#REF!,\">=30\")","v":{"$error":"#REF!"}},{"$f":"SUMIFS(#REF!,#REF!,$B12,#REF!,O$4,#REF!,\">=30\")","v":{"$error":"#REF!"}},{"$f":"SUMIFS(#REF!,#REF!,$B12,#REF!,O$4,#REF!,\">=30\")","v":{"$error":"#REF!"}},null,{"$error":"#REF!"},{"$error":"#REF!"},{"$error":"#REF!"}]
[" 동대문 Dongdaemun-gu","동대문구",{"$error":"#REF!"},{"$error":"#REF!"},{"$error":"#REF!"},{"$f":"COUNTIFS(#REF!,$B13,#REF!,F$4,#REF!,\">=30\")","v":{"$error":"#REF!"}},{"$f":"SUMIFS(#REF!,#REF!,$B13,#REF!,F$4,#REF!,\">=30\")","v":{"$error":"#REF!"}},{"$f":"SUMIFS(#REF!,#REF!,$B13,#REF!,F$4,#REF!,\">=30\")","v":{"$error":"#REF!"}},{"$f":"COUNTIFS(#REF!,$B13,#REF!,I$4,#REF!,\">=30\")","v":{"$error":"#REF!"}},{"$f":"SUMIFS(#REF!,#REF!,$B13,#REF!,I$4,#REF!,\">=30\")","v":{"$error":"#REF!"}},{"$f":"SUMIFS(#REF!,#REF!,$B13,#REF!,I$4,#REF!,\">=30\")","v":{"$error":"#REF!"}},{"$f":"COUNTIFS(#REF!,$B13,#REF!,L$4,#REF!,\">=30\")","v":{"$error":"#REF!"}},{"$f":"SUMIFS(#REF!,#REF!,$B13,#REF!,L$4,#REF!,\">=30\")","v":{"$error":"#REF!"}},{"$f":"SUMIFS(#REF!,#REF!,$B13,#REF!,L$4,#REF!,\">=30\")","v":{"$error":"#REF!"}},{"$f":"COUNTIFS(#REF!,$B13,#REF!,O$4,#REF!,\">=30\")","v":{"$error":"#REF!"}},{"$f":"SUMIFS(#REF!,#REF!,$B13,#REF!,O$4,#REF!,\">=30\")","v":{"$error":"#REF!"}},{"$f":"SUMIFS(#REF!,#REF!,$B13,#REF!,O$4,#REF!,\">=30\")","v":{"$error":"#REF!"}},null,{"$error":"#REF!"},{"$error":"#REF!"},{"$error":"#REF!"}]
[" 중   랑 Jungnang-gu","중랑구",{"$error":"#REF!"},{"$error":"#REF!"},{"$error":"#REF!"},{"$f":"COUNTIFS(#REF!,$B14,#REF!,F$4,#REF!,\">=30\")","v":{"$error":"#REF!"}},{"$f":"SUMIFS(#REF!,#REF!,$B14,#REF!,F$4,#REF!,\">=30\")","v":{"$error":"#REF!"}},{"$f":"SUMIFS(#REF!,#REF!,$B14,#REF!,F$4,#REF!,\">=30\")","v":{"$error":"#REF!"}},{"$f":"COUNTIFS(#REF!,$B14,#REF!,I$4,#REF!,\">=30\")","v":{"$error":"#REF!"}},{"$f":"SUMIFS(#REF!,#REF!,$B14,#REF!,I$4,#REF!,\">=30\")","v":{"$error":"#REF!"}},{"$f":"SUMIFS(#REF!,#REF!,$B14,#REF!,I$4,#REF!,\">=30\")","v":{"$error":"#REF!"}},{"$f":"COUNTIFS(#REF!,$B14,#REF!,L$4,#REF!,\">=30\")","v":{"$error":"#REF!"}},{"$f":"SUMIFS(#REF!,#REF!,$B14,#REF!,L$4,#REF!,\">=30\")","v":{"$error":"#REF!"}},{"$f":"SUMIFS(#REF!,#REF!,$B14,#REF!,L$4,#REF!,\">=30\")","v":{"$error":"#REF!"}},{"$f":"COUNTIFS(#REF!,$B14,#REF!,O$4,#REF!,\">=30\")","v":{"$error":"#REF!"}},{"$f":"SUMIFS(#REF!,#REF!,$B14,#REF!,O$4,#REF!,\">=30\")","v":{"$error":"#REF!"}},{"$f":"SUMIFS(#REF!,#REF!,$B14,#REF!,O$4,#REF!,\">=30\")","v":{"$error":"#REF!"}},null,{"$error":"#REF!"},{"$error":"#REF!"},{"$error":"#REF!"}]
[" 성   북 Seongbuk-gu","성북구",{"$error":"#REF!"},{"$error":"#REF!"},{"$error":"#REF!"},{"$f":"COUNTIFS(#REF!,$B15,#REF!,F$4,#REF!,\">=30\")","v":{"$error":"#REF!"}},{"$f":"SUMIFS(#REF!,#REF!,$B15,#REF!,F$4,#REF!,\">=30\")","v":{"$error":"#REF!"}},{"$f":"SUMIFS(#REF!,#REF!,$B15,#REF!,F$4,#REF!,\">=30\")","v":{"$error":"#REF!"}},{"$f":"COUNTIFS(#REF!,$B15,#REF!,I$4,#REF!,\">=30\")","v":{"$error":"#REF!"}},{"$f":"SUMIFS(#REF!,#REF!,$B15,#REF!,I$4,#REF!,\">=30\")","v":{"$error":"#REF!"}},{"$f":"SUMIFS(#REF!,#REF!,$B15,#REF!,I$4,#REF!,\">=30\")","v":{"$error":"#REF!"}},{"$f":"COUNTIFS(#REF!,$B15,#REF!,L$4,#REF!,\">=30\")","v":{"$error":"#REF!"}},{"$f":"SUMIFS(#REF!,#REF!,$B15,#REF!,L$4,#REF!,\">=30\")","v":{"$error":"#REF!"}},{"$f":"SUMIFS(#REF!,#REF!,$B15,#REF!,L$4,#REF!,\">=30\")","v":{"$error":"#REF!"}},{"$f":"COUNTIFS(#REF!,$B15,#REF!,O$4,#REF!,\">=30\")","v":{"$error":"#REF!"}},{"$f":"SUMIFS(#REF!,#REF!,$B15,#REF!,O$4,#REF!,\">=30\")","v":{"$error":"#REF!"}},{"$f":"SUMIFS(#REF!,#REF!,$B15,#REF!,O$4,#REF!,\">=30\")","v":{"$error":"#REF!"}},null,{"$error":"#REF!"},{"$error":"#REF!"},{"$error":"#REF!"}]
[" 강   북 Gangbuk-gu","강북구",{"$error":"#REF!"},{"$error":"#REF!"},{"$error":"#REF!"},{"$f":"COUNTIFS(#REF!,$B16,#REF!,F$4,#REF!,\">=30\")","v":{"$error":"#REF!"}},{"$f":"SUMIFS(#REF!,#REF!,$B16,#REF!,F$4,#REF!,\">=30\")","v":{"$error":"#REF!"}},{"$f":"SUMIFS(#REF!,#REF!,$B16,#REF!,F$4,#REF!,\">=30\")","v":{"$error":"#REF!"}},{"$f":"COUNTIFS(#REF!,$B16,#REF!,I$4,#REF!,\">=30\")","v":{"$error":"#REF!"}},{"$f":"SUMIFS(#REF!,#REF!,$B16,#REF!,I$4,#REF!,\">=30\")","v":{"$error":"#REF!"}},{"$f":"SUMIFS(#REF!,#REF!,$B16,#REF!,I$4,#REF!,\">=30\")","v":{"$error":"#REF!"}},{"$f":"COUNTIFS(#REF!,$B16,#REF!,L$4,#REF!,\">=30\")","v":{"$error":"#REF!"}},{"$f":"SUMIFS(#REF!,#REF!,$B16,#REF!,L$4,#REF!,\">=30\")","v":{"$error":"#REF!"}},{"$f":"SUMIFS(#REF!,#REF!,$B16,#REF!,L$4,#REF!,\">=30\")","v":{"$error":"#REF!"}},{"$f":"COUNTIFS(#REF!,$B16,#REF!,O$4,#REF!,\">=30\")","v":{"$error":"#REF!"}},{"$f":"SUMIFS(#REF!,#REF!,$B16,#REF!,O$4,#REF!,\">=30\")","v":{"$error":"#REF!"}},{"$f":"SUMIFS(#REF!,#REF!,$B16,#REF!,O$4,#REF!,\">=30\")","v":{"$error":"#REF!"}},null,{"$error":"#REF!"},{"$error":"#REF!"},{"$error":"#REF!"}]
[" 도   봉 Dobong-gu","도봉구",{"$error":"#REF!"},{"$error":"#REF!"},{"$error":"#REF!"},{"$f":"COUNTIFS(#REF!,$B17,#REF!,F$4,#REF!,\">=30\")","v":{"$error":"#REF!"}},{"$f":"SUMIFS(#REF!,#REF!,$B17,#REF!,F$4,#REF!,\">=30\")","v":{"$error":"#REF!"}},{"$f":"SUMIFS(#REF!,#REF!,$B17,#REF!,F$4,#REF!,\">=30\")","v":{"$error":"#REF!"}},{"$f":"COUNTIFS(#REF!,$B17,#REF!,I$4,#REF!,\">=30\")","v":{"$error":"#REF!"}},{"$f":"SUMIFS(#REF!,#REF!,$B17,#REF!,I$4,#REF!,\">=30\")","v":{"$error":"#REF!"}},{"$f":"SUMIFS(#REF!,#REF!,$B17,#REF!,I$4,#REF!,\">=30\")","v":{"$error":"#REF!"}},{"$f":"COUNTIFS(#REF!,$B17,#REF!,L$4,#REF!,\">=30\")","v":{"$error":"#REF!"}},{"$f":"SUMIFS(#REF!,#REF!,$B17,#REF!,L$4,#REF!,\">=30\")","v":{"$error":"#REF!"}},{"$f":"SUMIFS(#REF!,#REF!,$B17,#REF!,L$4,#REF!,\">=30\")","v":{"$error":"#REF!"}},{"$f":"COUNTIFS(#REF!,$B17,#REF!,O$4,#REF!,\">=30\")","v":{"$error":"#REF!"}},{"$f":"SUMIFS(#REF!,#REF!,$B17,#REF!,O$4,#REF!,\">=30\")","v":{"$error":"#REF!"}},{"$f":"SUMIFS(#REF!,#REF!,$B17,#REF!,O$4,#REF!,\">=30\")","v":{"$error":"#REF!"}},null,{"$error":"#REF!"},{"$error":"#REF!"},{"$error":"#REF!"}]
[" 노   원 Nowon-gu","노원구",{"$error":"#REF!"},{"$error":"#REF!"},{"$error":"#REF!"},{"$f":"COUNTIFS(#REF!,$B18,#REF!,F$4,#REF!,\">=30\")","v":{"$error":"#REF!"}},{"$f":"SUMIFS(#REF!,#REF!,$B18,#REF!,F$4,#REF!,\">=30\")","v":{"$error":"#REF!"}},{"$f":"SUMIFS(#REF!,#REF!,$B18,#REF!,F$4,#REF!,\">=30\")","v":{"$error":"#REF!"}},{"$f":"COUNTIFS(#REF!,$B18,#REF!,I$4,#REF!,\">=30\")","v":{"$error":"#REF!"}},{"$f":"SUMIFS(#REF!,#REF!,$B18,#REF!,I$4,#REF!,\">=30\")","v":{"$error":"#REF!"}},{"$f":"SUMIFS(#REF!,#REF!,$B18,#REF!,I$4,#REF!,\">=30\")","v":{"$error":"#REF!"}},{"$f":"COUNTIFS(#REF!,$B18,#REF!,L$4,#REF!,\">=30\")","v":{"$error":"#REF!"}},{"$f":"SUMIFS(#REF!,#REF!,$B18,#REF!,L$4,#REF!,\">=30\")","v":{"$error":"#REF!"}},{"$f":"SUMIFS(#REF!,#REF!,$B18,#REF!,L$4,#REF!,\">=30\")","v":{"$error":"#REF!"}},{"$f":"COUNTIFS(#REF!,$B18,#REF!,O$4,#REF!,\">=30\")","v":{"$error":"#REF!"}},{"$f":"SUMIFS(#REF!,#REF!,$B18,#REF!,O$4,#REF!,\">=30\")","v":{"$error":"#REF!"}},{"$f":"SUMIFS(#REF!,#REF!,$B18,#REF!,O$4,#REF!,\">=30\")","v":{"$error":"#REF!"}},null,{"$error":"#REF!"},{"$error":"#REF!"},{"$error":"#REF!"}]
[" 은   평 Eunpyeong-gu","은평구",{"$error":"#REF!"},{"$error":"#REF!"},{"$error":"#REF!"},{"$f":"COUNTIFS(#REF!,$B19,#REF!,F$4,#REF!,\">=30\")","v":{"$error":"#REF!"}},{"$f":"SUMIFS(#REF!,#REF!,$B19,#REF!,F$4,#REF!,\">=30\")","v":{"$error":"#REF!"}},{"$f":"SUMIFS(#REF!,#REF!,$B19,#REF!,F$4,#REF!,\">=30\")","v":{"$error":"#REF!"}},{"$f":"COUNTIFS(#REF!,$B19,#REF!,I$4,#REF!,\">=30\")","v":{"$error":"#REF!"}},{"$f":"SUMIFS(#REF!,#REF!,$B19,#REF!,I$4,#REF!,\">=30\")","v":{"$error":"#REF!"}},{"$f":"SUMIFS(#REF!,#REF!,$B19,#REF!,I$4,#REF!,\">=30\")","v":{"$error":"#REF!"}},{"$f":"COUNTIFS(#REF!,$B19,#REF!,L$4,#REF!,\">=30\")","v":{"$error":"#REF!"}},{"$f":"SUMIFS(#REF!,#REF!,$B19,#REF!,L$4,#REF!,\">=30\")","v":{"$error":"#REF!"}},{"$f":"SUMIFS(#REF!,#REF!,$B19,#REF!,L$4,#REF!,\">=30\")","v":{"$error":"#REF!"}},{"$f":"COUNTIFS(#REF!,$B19,#REF!,O$4,#REF!,\">=30\")","v":{"$error":"#REF!"}},{"$f":"SUMIFS(#REF!,#REF!,$B19,#REF!,O$4,#REF!,\">=30\")","v":{"$error":"#REF!"}},{"$f":"SUMIFS(#REF!,#REF!,$B19,#REF!,O$4,#REF!,\">=30\")","v":{"$error":"#REF!"}},null,{"$error":"#REF!"},{"$error":"#REF!"},{"$error":"#REF!"}]
[" 서대문 Seodaemun-gu","서대문구",{"$error":"#REF!"},{"$error":"#REF!"},{"$error":"#REF!"},{"$f":"COUNTIFS(#REF!,$B20,#REF!,F$4,#REF!,\">=30\")","v":{"$error":"#REF!"}},{"$f":"SUMIFS(#REF!,#REF!,$B20,#REF!,F$4,#REF!,\">=30\")","v":{"$error":"#REF!"}},{"$f":"SUMIFS(#REF!,#REF!,$B20,#REF!,F$4,#REF!,\">=30\")","v":{"$error":"#REF!"}},{"$f":"COUNTIFS(#REF!,$B20,#REF!,I$4,#REF!,\">=30\")","v":{"$error":"#REF!"}},{"$f":"SUMIFS(#REF!,#REF!,$B20,#REF!,I$4,#REF!,\">=30\")","v":{"$error":"#REF!"}},{"$f":"SUMIFS(#REF!,#REF!,$B20,#REF!,I$4,#REF!,\">=30\")","v":{"$error":"#REF!"}},{"$f":"COUNTIFS(#REF!,$B20,#REF!,L$4,#REF!,\">=30\")","v":{"$error":"#REF!"}},{"$f":"SUMIFS(#REF!,#REF!,$B20,#REF!,L$4,#REF!,\">=30\")","v":{"$error":"#REF!"}},{"$f":"SUMIFS(#REF!,#REF!,$B20,#REF!,L$4,#REF!,\">=30\")","v":{"$error":"#REF!"}},{"$f":"COUNTIFS(#REF!,$B20,#REF!,O$4,#REF!,\">=30\")","v":{"$error":"#REF!"}},{"$f":"SUMIFS(#REF!,#REF!,$B20,#REF!,O$4,#REF!,\">=30\")","v":{"$error":"#REF!"}},{"$f":"SUMIFS(#REF!,#REF!,$B20,#REF!,O$4,#REF!,\">=30\")","v":{"$error":"#REF!"}},null,{"$error":"#REF!"},{"$error":"#REF!"},{"$error":"#REF!"}]
[" 마   포 Mapo-gu","마포구",{"$error":"#REF!"},{"$error":"#REF!"},{"$error":"#REF!"},{"$f":"COUNTIFS(#REF!,$B21,#REF!,F$4,#REF!,\">=30\")","v":{"$error":"#REF!"}},{"$f":"SUMIFS(#REF!,#REF!,$B21,#REF!,F$4,#REF!,\">=30\")","v":{"$error":"#REF!"}},{"$f":"SUMIFS(#REF!,#REF!,$B21,#REF!,F$4,#REF!,\">=30\")","v":{"$error":"#REF!"}},{"$f":"COUNTIFS(#REF!,$B21,#REF!,I$4,#REF!,\">=30\")","v":{"$error":"#REF!"}},{"$f":"SUMIFS(#REF!,#REF!,$B21,#REF!,I$4,#REF!,\">=30\")","v":{"$error":"#REF!"}},{"$f":"SUMIFS(#REF!,#REF!,$B21,#REF!,I$4,#REF!,\">=30\")","v":{"$error":"#REF!"}},{"$f":"COUNTIFS(#REF!,$B21,#REF!,L$4,#REF!,\">=30\")","v":{"$error":"#REF!"}},{"$f":"SUMIFS(#REF!,#REF!,$B21,#REF!,L$4,#REF!,\">=30\")","v":{"$error":"#REF!"}},{"$f":"SUMIFS(#REF!,#REF!,$B21,#REF!,L$4,#REF!,\">=30\")","v":{"$error":"#REF!"}},{"$f":"COUNTIFS(#REF!,$B21,#REF!,O$4,#REF!,\">=30\")","v":{"$error":"#REF!"}},{"$f":"SUMIFS(#REF!,#REF!,$B21,#REF!,O$4,#REF!,\">=30\")","v":{"$error":"#REF!"}},{"$f":"SUMIFS(#REF!,#REF!,$B21,#REF!,O$4,#REF!,\">=30\")","v":{"$error":"#REF!"}},null,{"$error":"#REF!"},{"$error":"#REF!"},{"$error":"#REF!"}]
[" 양   천 Yangcheon-gu","양천구",{"$error":"#REF!"},{"$error":"#REF!"},{"$error":"#REF!"},{"$f":"COUNTIFS(#REF!,$B22,#REF!,F$4,#REF!,\">=30\")","v":{"$error":"#REF!"}},{"$f":"SUMIFS(#REF!,#REF!,$B22,#REF!,F$4,#REF!,\">=30\")","v":{"$error":"#REF!"}},{"$f":"SUMIFS(#REF!,#REF!,$B22,#REF!,F$4,#REF!,\">=30\")","v":{"$error":"#REF!"}},{"$f":"COUNTIFS(#REF!,$B22,#REF!,I$4,#REF!,\">=30\")","v":{"$error":"#REF!"}},{"$f":"SUMIFS(#REF!,#REF!,$B22,#REF!,I$4,#REF!,\">=30\")","v":{"$error":"#REF!"}},{"$f":"SUMIFS(#REF!,#REF!,$B22,#REF!,I$4,#REF!,\">=30\")","v":{"$error":"#REF!"}},{"$f":"COUNTIFS(#REF!,$B22,#REF!,L$4,#REF!,\">=30\")","v":{"$error":"#REF!"}},{"$f":"SUMIFS(#REF!,#REF!,$B22,#REF!,L$4,#REF!,\">=30\")","v":{"$error":"#REF!"}},{"$f":"SUMIFS(#REF!,#REF!,$B22,#REF!,L$4,#REF!,\">=30\")","v":{"$error":"#REF!"}},{"$f":"COUNTIFS(#REF!,$B22,#REF!,O$4,#REF!,\">=30\")","v":{"$error":"#REF!"}},{"$f":"SUMIFS(#REF!,#REF!,$B22,#REF!,O$4,#REF!,\">=30\")","v":{"$error":"#REF!"}},{"$f":"SUMIFS(#REF!,#REF!,$B22,#REF!,O$4,#REF!,\">=30\")","v":{"$error":"#REF!"}},null,{"$error":"#REF!"},{"$error":"#REF!"},{"$error":"#REF!"}]
[" 강   서 Gangseo-gu","강서구",{"$error":"#REF!"},{"$error":"#REF!"},{"$error":"#REF!"},{"$f":"COUNTIFS(#REF!,$B23,#REF!,F$4,#REF!,\">=30\")","v":{"$error":"#REF!"}},{"$f":"SUMIFS(#REF!,#REF!,$B23,#REF!,F$4,#REF!,\">=30\")","v":{"$error":"#REF!"}},{"$f":"SUMIFS(#REF!,#REF!,$B23,#REF!,F$4,#REF!,\">=30\")","v":{"$error":"#REF!"}},{"$f":"COUNTIFS(#REF!,$B23,#REF!,I$4,#REF!,\">=30\")","v":{"$error":"#REF!"}},{"$f":"SUMIFS(#REF!,#REF!,$B23,#REF!,I$4,#REF!,\">=30\")","v":{"$error":"#REF!"}},{"$f":"SUMIFS(#REF!,#REF!,$B23,#REF!,I$4,#REF!,\">=30\")","v":{"$error":"#REF!"}},{"$f":"COUNTIFS(#REF!,$B23,#REF!,L$4,#REF!,\">=30\")","v":{"$error":"#REF!"}},{"$f":"SUMIFS(#REF!,#REF!,$B23,#REF!,L$4,#REF!,\">=30\")","v":{"$error":"#REF!"}},{"$f":"SUMIFS(#REF!,#REF!,$B23,#REF!,L$4,#REF!,\">=30\")","v":{"$error":"#REF!"}},{"$f":"COUNTIFS(#REF!,$B23,#REF!,O$4,#REF!,\">=30\")","v":{"$error":"#REF!"}},{"$f":"SUMIFS(#REF!,#REF!,$B23,#REF!,O$4,#REF!,\">=30\")","v":{"$error":"#REF!"}},{"$f":"SUMIFS(#REF!,#REF!,$B23,#REF!,O$4,#REF!,\">=30\")","v":{"$error":"#REF!"}},null,{"$error":"#REF!"},{"$error":"#REF!"},{"$error":"#REF!"}]
[" 구   로 Guro-gu","구로구",{"$error":"#REF!"},{"$error":"#REF!"},{"$error":"#REF!"},{"$f":"COUNTIFS(#REF!,$B24,#REF!,F$4,#REF!,\">=30\")","v":{"$error":"#REF!"}},{"$f":"SUMIFS(#REF!,#REF!,$B24,#REF!,F$4,#REF!,\">=30\")","v":{"$error":"#REF!"}},{"$f":"SUMIFS(#REF!,#REF!,$B24,#REF!,F$4,#REF!,\">=30\")","v":{"$error":"#REF!"}},{"$f":"COUNTIFS(#REF!,$B24,#REF!,I$4,#REF!,\">=30\")","v":{"$error":"#REF!"}},{"$f":"SUMIFS(#REF!,#REF!,$B24,#REF!,I$4,#REF!,\">=30\")","v":{"$error":"#REF!"}},{"$f":"SUMIFS(#REF!,#REF!,$B24,#REF!,I$4,#REF!,\">=30\")","v":{"$error":"#REF!"}},{"$f":"COUNTIFS(#REF!,$B24,#REF!,L$4,#REF!,\">=30\")","v":{"$error":"#REF!"}},{"$f":"SUMIFS(#REF!,#REF!,$B24,#REF!,L$4,#REF!,\">=30\")","v":{"$error":"#REF!"}},{"$f":"SUMIFS(#REF!,#REF!,$B24,#REF!,L$4,#REF!,\">=30\")","v":{"$error":"#REF!"}},{"$f":"COUNTIFS(#REF!,$B24,#REF!,O$4,#REF!,\">=30\")","v":{"$error":"#REF!"}},{"$f":"SUMIFS(#REF!,#REF!,$B24,#REF!,O$4,#REF!,\">=30\")","v":{"$error":"#REF!"}},{"$f":"SUMIFS(#REF!,#REF!,$B24,#REF!,O$4,#REF!,\">=30\")","v":{"$error":"#REF!"}},null,{"$error":"#REF!"},{"$error":"#REF!"},{"$error":"#REF!"}]
[" 금   천 Geumcheon-gu","금천구",{"$error":"#REF!"},{"$error":"#REF!"},{"$error":"#REF!"},{"$f":"COUNTIFS(#REF!,$B25,#REF!,F$4,#REF!,\">=30\")","v":{"$error":"#REF!"}},{"$f":"SUMIFS(#REF!,#REF!,$B25,#REF!,F$4,#REF!,\">=30\")","v":{"$error":"#REF!"}},{"$f":"SUMIFS(#REF!,#REF!,$B25,#REF!,F$4,#REF!,\">=30\")","v":{"$error":"#REF!"}},{"$f":"COUNTIFS(#REF!,$B25,#REF!,I$4,#REF!,\">=30\")","v":{"$error":"#REF!"}},{"$f":"SUMIFS(#REF!,#REF!,$B25,#REF!,I$4,#REF!,\">=30\")","v":{"$error":"#REF!"}},{"$f":"SUMIFS(#REF!,#REF!,$B25,#REF!,I$4,#REF!,\">=30\")","v":{"$error":"#REF!"}},{"$f":"COUNTIFS(#REF!,$B25,#REF!,L$4,#REF!,\">=30\")","v":{"$error":"#REF!"}},{"$f":"SUMIFS(#REF!,#REF!,$B25,#REF!,L$4,#REF!,\">=30\")","v":{"$error":"#REF!"}},{"$f":"SUMIFS(#REF!,#REF!,$B25,#REF!,L$4,#REF!,\">=30\")","v":{"$error":"#REF!"}},{"$f":"COUNTIFS(#REF!,$B25,#REF!,O$4,#REF!,\">=30\")","v":{"$error":"#REF!"}},{"$f":"SUMIFS(#REF!,#REF!,$B25,#REF!,O$4,#REF!,\">=30\")","v":{"$error":"#REF!"}},{"$f":"SUMIFS(#REF!,#REF!,$B25,#REF!,O$4,#REF!,\">=30\")","v":{"$error":"#REF!"}},null,{"$error":"#REF!"},{"$error":"#REF!"},{"$error":"#REF!"}]
[" 영등포 Yeongdeungpo-gu","영등포구",{"$error":"#REF!"},{"$error":"#REF!"},{"$error":"#REF!"},{"$f":"COUNTIFS(#REF!,$B26,#REF!,F$4,#REF!,\">=30\")","v":{"$error":"#REF!"}},{"$f":"SUMIFS(#REF!,#REF!,$B26,#REF!,F$4,#REF!,\">=30\")","v":{"$error":"#REF!"}},{"$f":"SUMIFS(#REF!,#REF!,$B26,#REF!,F$4,#REF!,\">=30\")","v":{"$error":"#REF!"}},{"$f":"COUNTIFS(#REF!,$B26,#REF!,I$4,#REF!,\">=30\")","v":{"$error":"#REF!"}},{"$f":"SUMIFS(#REF!,#REF!,$B26,#REF!,I$4,#REF!,\">=30\")","v":{"$error":"#REF!"}},{"$f":"SUMIFS(#REF!,#REF!,$B26,#REF!,I$4,#REF!,\">=30\")","v":{"$error":"#REF!"}},{"$f":"COUNTIFS(#REF!,$B26,#REF!,L$4,#REF!,\">=30\")","v":{"$error":"#REF!"}},{"$f":"SUMIFS(#REF!,#REF!,$B26,#REF!,L$4,#REF!,\">=30\")","v":{"$error":"#REF!"}},{"$f":"SUMIFS(#REF!,#REF!,$B26,#REF!,L$4,#REF!,\">=30\")","v":{"$error":"#REF!"}},{"$f":"COUNTIFS(#REF!,$B26,#REF!,O$4,#REF!,\">=30\")","v":{"$error":"#REF!"}},{"$f":"SUMIFS(#REF!,#REF!,$B26,#REF!,O$4,#REF!,\">=30\")","v":{"$error":"#REF!"}},{"$f":"SUMIFS(#REF!,#REF!,$B26,#REF!,O$4,#REF!,\">=30\")","v":{"$error":"#REF!"}},null,{"$error":"#REF!"},{"$error":"#REF!"},{"$error":"#REF!"}]
[" 동   작 Dongjak-gu","동작구",{"$error":"#REF!"},{"$error":"#REF!"},{"$error":"#REF!"},{"$f":"COUNTIFS(#REF!,$B27,#REF!,F$4,#REF!,\">=30\")","v":{"$error":"#REF!"}},{"$f":"SUMIFS(#REF!,#REF!,$B27,#REF!,F$4,#REF!,\">=30\")","v":{"$error":"#REF!"}},{"$f":"SUMIFS(#REF!,#REF!,$B27,#REF!,F$4,#REF!,\">=30\")","v":{"$error":"#REF!"}},{"$f":"COUNTIFS(#REF!,$B27,#REF!,I$4,#REF!,\">=30\")","v":{"$error":"#REF!"}},{"$f":"SUMIFS(#REF!,#REF!,$B27,#REF!,I$4,#REF!,\">=30\")","v":{"$error":"#REF!"}},{"$f":"SUMIFS(#REF!,#REF!,$B27,#REF!,I$4,#REF!,\">=30\")","v":{"$error":"#REF!"}},{"$f":"COUNTIFS(#REF!,$B27,#REF!,L$4,#REF!,\">=30\")","v":{"$error":"#REF!"}},{"$f":"SUMIFS(#REF!,#REF!,$B27,#REF!,L$4,#REF!,\">=30\")","v":{"$error":"#REF!"}},{"$f":"SUMIFS(#REF!,#REF!,$B27,#REF!,L$4,#REF!,\">=30\")","v":{"$error":"#REF!"}},{"$f":"COUNTIFS(#REF!,$B27,#REF!,O$4,#REF!,\">=30\")","v":{"$error":"#REF!"}},{"$f":"SUMIFS(#REF!,#REF!,$B27,#REF!,O$4,#REF!,\">=30\")","v":{"$error":"#REF!"}},{"$f":"SUMIFS(#REF!,#REF!,$B27,#REF!,O$4,#REF!,\">=30\")","v":{"$error":"#REF!"}},null,{"$error":"#REF!"},{"$error":"#REF!"},{"$error":"#REF!"}]
[" 관   악 Gwanak-gu","관악구",{"$error":"#REF!"},{"$error":"#REF!"},{"$error":"#REF!"},{"$f":"COUNTIFS(#REF!,$B28,#REF!,F$4,#REF!,\">=30\")","v":{"$error":"#REF!"}},{"$f":"SUMIFS(#REF!,#REF!,$B28,#REF!,F$4,#REF!,\">=30\")","v":{"$error":"#REF!"}},{"$f":"SUMIFS(#REF!,#REF!,$B28,#REF!,F$4,#REF!,\">=30\")","v":{"$error":"#REF!"}},{"$f":"COUNTIFS(#REF!,$B28,#REF!,I$4,#REF!,\">=30\")","v":{"$error":"#REF!"}},{"$f":"SUMIFS(#REF!,#REF!,$B28,#REF!,I$4,#REF!,\">=30\")","v":{"$error":"#REF!"}},{"$f":"SUMIFS(#REF!,#REF!,$B28,#REF!,I$4,#REF!,\">=30\")","v":{"$error":"#REF!"}},{"$f":"COUNTIFS(#REF!,$B28,#REF!,L$4,#REF!,\">=30\")","v":{"$error":"#REF!"}},{"$f":"SUMIFS(#REF!,#REF!,$B28,#REF!,L$4,#REF!,\">=30\")","v":{"$error":"#REF!"}},{"$f":"SUMIFS(#REF!,#REF!,$B28,#REF!,L$4,#REF!,\">=30\")","v":{"$error":"#REF!"}},{"$f":"COUNTIFS(#REF!,$B28,#REF!,O$4,#REF!,\">=30\")","v":{"$error":"#REF!"}},{"$f":"SUMIFS(#REF!,#REF!,$B28,#REF!,O$4,#REF!,\">=30\")","v":{"$error":"#REF!"}},{"$f":"SUMIFS(#REF!,#REF!,$B28,#REF!,O$4,#REF!,\">=30\")","v":{"$error":"#REF!"}},null,{"$error":"#REF!"},{"$error":"#REF!"},{"$error":"#REF!"}]
[" 서   초 Seocho-gu","서초구",{"$error":"#REF!"},{"$error":"#REF!"},{"$error":"#REF!"},{"$f":"COUNTIFS(#REF!,$B29,#REF!,F$4,#REF!,\">=30\")","v":{"$error":"#REF!"}},{"$f":"SUMIFS(#REF!,#REF!,$B29,#REF!,F$4,#REF!,\">=30\")","v":{"$error":"#REF!"}},{"$f":"SUMIFS(#REF!,#REF!,$B29,#REF!,F$4,#REF!,\">=30\")","v":{"$error":"#REF!"}},{"$f":"COUNTIFS(#REF!,$B29,#REF!,I$4,#REF!,\">=30\")","v":{"$error":"#REF!"}},{"$f":"SUMIFS(#REF!,#REF!,$B29,#REF!,I$4,#REF!,\">=30\")","v":{"$error":"#REF!"}},{"$f":"SUMIFS(#REF!,#REF!,$B29,#REF!,I$4,#REF!,\">=30\")","v":{"$error":"#REF!"}},{"$f":"COUNTIFS(#REF!,$B29,#REF!,L$4,#REF!,\">=30\")","v":{"$error":"#REF!"}},{"$f":"SUMIFS(#REF!,#REF!,$B29,#REF!,L$4,#REF!,\">=30\")","v":{"$error":"#REF!"}},{"$f":"SUMIFS(#REF!,#REF!,$B29,#REF!,L$4,#REF!,\">=30\")","v":{"$error":"#REF!"}},{"$f":"COUNTIFS(#REF!,$B29,#REF!,O$4,#REF!,\">=30\")","v":{"$error":"#REF!"}},{"$f":"SUMIFS(#REF!,#REF!,$B29,#REF!,O$4,#REF!,\">=30\")","v":{"$error":"#REF!"}},{"$f":"SUMIFS(#REF!,#REF!,$B29,#REF!,O$4,#REF!,\">=30\")","v":{"$error":"#REF!"}},null,{"$error":"#REF!"},{"$error":"#REF!"},{"$error":"#REF!"}]
[" 강   남 Gangnam-gu","강남구",{"$error":"#REF!"},{"$error":"#REF!"},{"$error":"#REF!"},{"$f":"COUNTIFS(#REF!,$B30,#REF!,F$4,#REF!,\">=30\")","v":{"$error":"#REF!"}},{"$f":"SUMIFS(#REF!,#REF!,$B30,#REF!,F$4,#REF!,\">=30\")","v":{"$error":"#REF!"}},{"$f":"SUMIFS(#REF!,#REF!,$B30,#REF!,F$4,#REF!,\">=30\")","v":{"$error":"#REF!"}},{"$f":"COUNTIFS(#REF!,$B30,#REF!,I$4,#REF!,\">=30\")","v":{"$error":"#REF!"}},{"$f":"SUMIFS(#REF!,#REF!,$B30,#REF!,I$4,#REF!,\">=30\")","v":{"$error":"#REF!"}},{"$f":"SUMIFS(#REF!,#REF!,$B30,#REF!,I$4,#REF!,\">=30\")","v":{"$error":"#REF!"}},{"$f":"COUNTIFS(#REF!,$B30,#REF!,L$4,#REF!,\">=30\")","v":{"$error":"#REF!"}},{"$f":"SUMIFS(#REF!,#REF!,$B30,#REF!,L$4,#REF!,\">=30\")","v":{"$error":"#REF!"}},{"$f":"SUMIFS(#REF!,#REF!,$B30,#REF!,L$4,#REF!,\">=30\")","v":{"$error":"#REF!"}},{"$f":"COUNTIFS(#REF!,$B30,#REF!,O$4,#REF!,\">=30\")","v":{"$error":"#REF!"}},{"$f":"SUMIFS(#REF!,#REF!,$B30,#REF!,O$4,#REF!,\">=30\")","v":{"$error":"#REF!"}},{"$f":"SUMIFS(#REF!,#REF!,$B30,#REF!,O$4,#REF!,\">=30\")","v":{"$error":"#REF!"}},null,{"$error":"#REF!"},{"$error":"#REF!"},{"$error":"#REF!"}]
[" 송   파 Songpa-gu","송파구",{"$error":"#REF!"},{"$error":"#REF!"},{"$error":"#REF!"},{"$f":"COUNTIFS(#REF!,$B31,#REF!,F$4,#REF!,\">=30\")","v":{"$error":"#REF!"}},{"$f":"SUMIFS(#REF!,#REF!,$B31,#REF!,F$4,#REF!,\">=30\")","v":{"$error":"#REF!"}},{"$f":"SUMIFS(#REF!,#REF!,$B31,#REF!,F$4,#REF!,\">=30\")","v":{"$error":"#REF!"}},{"$f":"COUNTIFS(#REF!,$B31,#REF!,I$4,#REF!,\">=30\")","v":{"$error":"#REF!"}},{"$f":"SUMIFS(#REF!,#REF!,$B31,#REF!,I$4,#REF!,\">=30\")","v":{"$error":"#REF!"}},{"$f":"SUMIFS(#REF!,#REF!,$B31,#REF!,I$4,#REF!,\">=30\")","v":{"$error":"#REF!"}},{"$f":"COUNTIFS(#REF!,$B31,#REF!,L$4,#REF!,\">=30\")","v":{"$error":"#REF!"}},{"$f":"SUMIFS(#REF!,#REF!,$B31,#REF!,L$4,#REF!,\">=30\")","v":{"$error":"#REF!"}},{"$f":"SUMIFS(#REF!,#REF!,$B31,#REF!,L$4,#REF!,\">=30\")","v":{"$error":"#REF!"}},{"$f":"COUNTIFS(#REF!,$B31,#REF!,O$4,#REF!,\">=30\")","v":{"$error":"#REF!"}},{"$f":"SUMIFS(#REF!,#REF!,$B31,#REF!,O$4,#REF!,\">=30\")","v":{"$error":"#REF!"}},{"$f":"SUMIFS(#REF!,#REF!,$B31,#REF!,O$4,#REF!,\">=30\")","v":{"$error":"#REF!"}},0,{"$error":"#REF!"},{"$error":"#REF!"},{"$error":"#REF!"}]
[" 강   동 Gangdong-gu","강동구",{"$error":"#REF!"},{"$error":"#REF!"},{"$error":"#REF!"},{"$f":"COUNTIFS(#REF!,$B32,#REF!,F$4,#REF!,\">=30\")","v":{"$error":"#REF!"}},{"$f":"SUMIFS(#REF!,#REF!,$B32,#REF!,F$4,#REF!,\">=30\")","v":{"$error":"#REF!"}},{"$f":"SUMIFS(#REF!,#REF!,$B32,#REF!,F$4,#REF!,\">=30\")","v":{"$error":"#REF!"}},{"$f":"COUNTIFS(#REF!,$B32,#REF!,I$4,#REF!,\">=30\")","v":{"$error":"#REF!"}},{"$f":"SUMIFS(#REF!,#REF!,$B32,#REF!,I$4,#REF!,\">=30\")","v":{"$error":"#REF!"}},{"$f":"SUMIFS(#REF!,#REF!,$B32,#REF!,I$4,#REF!,\">=30\")","v":{"$error":"#REF!"}},{"$f":"COUNTIFS(#REF!,$B32,#REF!,L$4,#REF!,\">=30\")","v":{"$error":"#REF!"}},{"$f":"SUMIFS(#REF!,#REF!,$B32,#REF!,L$4,#REF!,\">=30\")","v":{"$error":"#REF!"}},{"$f":"SUMIFS(#REF!,#REF!,$B32,#REF!,L$4,#REF!,\">=30\")","v":{"$error":"#REF!"}},{"$f":"COUNTIFS(#REF!,$B32,#REF!,O$4,#REF!,\">=30\")","v":{"$error":"#REF!"}},{"$f":"SUMIFS(#REF!,#REF!,$B32,#REF!,O$4,#REF!,\">=30\")","v":{"$error":"#REF!"}},{"$f":"SUMIFS(#REF!,#REF!,$B32,#REF!,O$4,#REF!,\">=30\")","v":{"$error":"#REF!"}},0,{"$error":"#REF!"},{"$error":"#REF!"},{"$error":"#REF!"}]
[]
[" 자료 : 공동주택과"]
["    주 : 1) 분양가구수가 30가구 이상인 아파트,주상복합,연립,다세대 기준."]
[]
[null,null,{"$f":"C7-SUM(C8:C32)","v":{"$error":"#REF!"}},{"$f":"D7-SUM(D8:D32)","v":{"$error":"#REF!"}},{"$error":"#REF!"},{"$error":"#REF!"},{"$error":"#REF!"},{"$error":"#REF!"},{"$error":"#REF!"},{"$error":"#REF!"},{"$error":"#REF!"},{"$error":"#REF!"},{"$error":"#REF!"},{"$error":"#REF!"},{"$error":"#REF!"},{"$error":"#REF!"},{"$error":"#REF!"}]

{"sheet":"169-3. 사용년수별","index":9,"n_rows":37,"n_cols":33,"rows_kept":37,"cut":false,"hidden":true,"merged":[[33,0,33,9],[34,0,34,9],[35,0,35,8],[3,8,3,10],[0,0,0,28],[2,8,2,9],[3,5,3,7],[3,11,3,13],[3,17,3,19],[3,20,3,22],[3,23,3,25],[3,26,3,28],[3,14,3,16],[3,2,3,4],[3,0,4,1]]}
["169-3. 공동주택 현황(사용년수별) Apartment Houses by Years"]
[]
["단위 : 개수",null,null,null,{"$f":"TODAY()","v":"2024-12-24"},null,null,"2013-01-01",null,null,{"$f":"DATE(YEAR(H3)-5,1,1)","v":"2008-01-01"},null,null,{"$f":"DATE(YEAR(K3)-5,1,1)","v":"2003-01-01"},null,null,{"$f":"DATE(YEAR(N3)-5,1,1)","v":"1998-01-01"},null,null,{"$f":"DATE(YEAR(Q3)-10,1,1)","v":"1988-01-01"},null,null,{"$f":"DATE(YEAR(T3)-10,1,1)","v":"1978-01-01"},null,null,{"$f":"DATE(YEAR(W3)-10,1,1)","v":"1968-01-01"},null,null,"1900-01-01"]
[null,null,"총계",null,null,"5년 미만",null,null,"5년 이상 10년 미만",null,null,"10년 이상 15년 미만",null,null,"15년 이상 20년 미만",null,null,"20년 이상 30년 미만",null,null,"30년 이상 40년 미만",null,null,"40년 이상 50년 미만",null,null,"50년 이상"]
[null,null,"단지수","동수","세대수","단지수","동수","세대수","단지수","동수","세대수","단지수","동수","세대수","단지수","동수","세대수","단지수","동수","세대수","단지수","동수","세대수","단지수","동수","세대수","단지수","동수","세대수",null,"단지수","동수","세대수"]
[]
[2017,null,{"$f":"SUM(C$8:C$32)","v":{"$error":"#REF!"}},{"$f":"SUM(D$8:D$32)","v":{"$error":"#REF!"}},{"$error":"#REF!"},{"$error":"#REF!"},{"$error":"#REF!"},{"$error":"#REF!"},{"$error":"#REF!"},{"$error":"#REF!"},{"$error":"#REF!"},{"$error":"#REF!"},{"$error":"#REF!"},{"$error":"#REF!"},{"$error":"#REF!"},{"$error":"#REF!"},{"$error":"#REF!"},{"$error":"#REF!"},{"$error":"#REF!"},{"$error":"#REF!"},{"$error":"#REF!"},{"$error":"#REF!"},{"$error":"#REF!"},{"$error":"#REF!"},{"$error":"#REF!"},{"$error":"#REF!"},{"$error":"#REF!"},{"$error":"#REF!"},{"$error":"#REF!"},null,{"$f":"C7-SUM(F7,I7,L7,O7,R7,U7,X7,AA7)","v":{"$error":"#REF!"}},{"$f":"D7-SUM(G7,J7,M7,P7,S7,V7,Y7,AB7)","v":{"$error":"#REF!"}},{"$f":"E7-SUM(H7,K7,N7,Q7,T7,W7,Z7,AC7)","v":{"$error":"#REF!"}}]
[" 종   로 Jongno-gu","종로구",{"$f":"SUM(F8,I8,L8,O8,R8,U8,X8,AA8)","v":{"$error":"#REF!"}},{"$f":"SUM(G8,J8,M8,P8,S8,V8,Y8,AB8)","v":{"$error":"#REF!"}},{"$f":"SUM(H8,K8,N8,Q8,T8,W8,Z8,AC8)","v":{"$error":"#REF!"}},{"$f":"COUNTIFS(#REF!,$B8,#REF!,\">=30\",#REF!,\">\"&H$3,#REF!,\"<=\"&E$3)","v":{"$error":"#REF!"}},{"$f":"SUMIFS(#REF!,#REF!,$B8,#REF!,\">=30\",#REF!,\">\"&H$3,#REF!,\"<=\"&E$3)","v":{"$error":"#REF!"}},{"$f":"SUMIFS(#REF!,#REF!,$B8,#REF!,\">=30\",#REF!,\">\"&H$3,#REF!,\"<=\"&E$3)","v":{"$error":"#REF!"}},{"$f":"COUNTIFS(#REF!,$B8,#REF!,\">=30\",#REF!,\">\"&K$3,#REF!,\"<=\"&H$3)","v":{"$error":"#REF!"}},{"$f":"SUMIFS(#REF!,#REF!,$B8,#REF!,\">=30\",#REF!,\">\"&K$3,#REF!,\"<=\"&H$3)","v":{"$error":"#REF!"}},{"$f":"SUMIFS(#REF!,#REF!,$B8,#REF!,\">=30\",#REF!,\">\"&K$3,#REF!,\"<=\"&H$3)","v":{"$error":"#REF!"}},{"$f":"COUNTIFS(#REF!,$B8,#REF!,\">=30\",#REF!,\">\"&N$3,#REF!,\"<=\"&K$3)","v":{"$error":"#REF!"}},{"$f":"SUMIFS(#REF!,#REF!,$B8,#REF!,\">=30\",#REF!,\">\"&N$3,#REF!,\"<=\"&K$3)","v":{"$error":"#REF!"}},{"$f":"SUMIFS(#REF!,#REF!,$B8,#REF!,\">=30\",#REF!,\">\"&N$3,#REF!,\"<=\"&K$3)","v":{"$error":"#REF!"}},{"$f":"COUNTIFS(#REF!,$B8,#REF!,\">=30\",#REF!,\">\"&Q$3,#REF!,\"<=\"&N$3)","v":{"$error":"#REF!"}},{"$f":"SUMIFS(#REF!,#REF!,$B8,#REF!,\">=30\",#REF!,\">\"&Q$3,#REF!,\"<=\"&N$3)","v":{"$error":"#REF!"}},{"$f":"SUMIFS(#REF!,#REF!,$B8,#REF!,\">=30\",#REF!,\">\"&Q$3,#REF!,\"<=\"&N$3)","v":{"$error":"#REF!"}},{"$f":"COUNTIFS(#REF!,$B8,#REF!,\">=30\",#REF!,\">\"&T$3,#REF!,\"<=\"&Q$3)","v":{"$error":"#REF!"}},{"$f":"SUMIFS(#REF!,#REF!,$B8,#REF!,\">=30\",#REF!,\">\"&T$3,#REF!,\"<=\"&Q$3)","v":{"$error":"#REF!"}},{"$f":"SUMIFS(#REF!,#REF!,$B8,#REF!,\">=30\",#REF!,\">\"&T$3,#REF!,\"<=\"&Q$3)","v":{"$error":"#REF!"}},{"$f":"COUNTIFS(#REF!,$B8,#REF!,\">=30\",#REF!,\">\"&W$3,#REF!,\"<=\"&T$3)","v":{"$error":"#REF!"}},{"$f":"SUMIFS(#REF!,#REF!,$B8,#REF!,\">=30\",#REF!,\">\"&W$3,#REF!,\"<=\"&T$3)","v":{"$error":"#REF!"}},{"$f":"SUMIFS(#REF!,#REF!,$B8,#REF!,\">=30\",#REF!,\">\"&W$3,#REF!,\"<=\"&T$3)","v":{"$error":"#REF!"}},{"$f":"COUNTIFS(#REF!,$B8,#REF!,\">=30\",#REF!,\">\"&Z$3,#REF!,\"<=\"&W$3)","v":{"$error":"#REF!"}},{"$f":"SUMIFS(#REF!,#REF!,$B8,#REF!,\">=30\",#REF!,\">\"&Z$3,#REF!,\"<=\"&W$3)","v":{"$error":"#REF!"}},{"$f":"SUMIFS(#REF!,#REF!,$B8,#REF!,\">=30\",#REF!,\">\"&Z$3,#REF!,\"<=\"&W$3)","v":{"$error":"#REF!"}},{"$f":"COUNTIFS(#REF!,$B8,#REF!,\">=30\",#REF!,\">\"&AC$3,#REF!,\"<=\"&Z$3)","v":{"$error":"#REF!"}},{"$f":"SUMIFS(#REF!,#REF!,$B8,#REF!,\">=30\",#REF!,\">\"&AC$3,#REF!,\"<=\"&Z$3)","v":{"$error":"#REF!"}},{"$f":"SUMIFS(#REF!,#REF!,$B8,#REF!,\">=30\",#REF!,\">\"&AC$3,#REF!,\"<=\"&Z$3)","v":{"$error":"#REF!"}},null,{"$f":"C8-SUM(F8,I8,L8,O8,R8,U8,X8,AA8)","v":{"$error":"#REF!"}},{"$f":"D8-SUM(G8,J8,M8,P8,S8,V8,Y8,AB8)","v":{"$error":"#REF!"}},{"$f":"E8-SUM(H8,K8,N8,Q8,T8,W8,Z8,AC8)","v":{"$error":"#REF!"}}]
[" 중   구 Jung-gu","중구",{"$f":"SUM(F9,I9,L9,O9,R9,U9,X9,AA9)","v":{"$error":"#REF!"}},{"$f":"SUM(G9,J9,M9,P9,S9,V9,Y9,AB9)","v":{"$error":"#REF!"}},{"$f":"SUM(H9,K9,N9,Q9,T9,W9,Z9,AC9)","v":{"$error":"#REF!"}},{"$f":"COUNTIFS(#REF!,$B9,#REF!,\">=30\",#REF!,\">\"&H$3,#REF!,\"<=\"&E$3)","v":{"$error":"#REF!"}},{"$f":"SUMIFS(#REF!,#REF!,$B9,#REF!,\">=30\",#REF!,\">\"&H$3,#REF!,\"<=\"&E$3)","v":{"$error":"#REF!"}},{"$f":"SUMIFS(#REF!,#REF!,$B9,#REF!,\">=30\",#REF!,\">\"&H$3,#REF!,\"<=\"&E$3)","v":{"$error":"#REF!"}},{"$f":"COUNTIFS(#REF!,$B9,#REF!,\">=30\",#REF!,\">\"&K$3,#REF!,\"<=\"&H$3)","v":{"$error":"#REF!"}},{"$f":"SUMIFS(#REF!,#REF!,$B9,#REF!,\">=30\",#REF!,\">\"&K$3,#REF!,\"<=\"&H$3)","v":{"$error":"#REF!"}},{"$f":"SUMIFS(#REF!,#REF!,$B9,#REF!,\">=30\",#REF!,\">\"&K$3,#REF!,\"<=\"&H$3)","v":{"$error":"#REF!"}},{"$f":"COUNTIFS(#REF!,$B9,#REF!,\">=30\",#REF!,\">\"&N$3,#REF!,\"<=\"&K$3)","v":{"$error":"#REF!"}},{"$f":"SUMIFS(#REF!,#REF!,$B9,#REF!,\">=30\",#REF!,\">\"&N$3,#REF!,\"<=\"&K$3)","v":{"$error":"#REF!"}},{"$f":"SUMIFS(#REF!,#REF!,$B9,#REF!,\">=30\",#REF!,\">\"&N$3,#REF!,\"<=\"&K$3)","v":{"$error":"#REF!"}},{"$f":"COUNTIFS(#REF!,$B9,#REF!,\">=30\",#REF!,\">\"&Q$3,#REF!,\"<=\"&N$3)","v":{"$error":"#REF!"}},{"$f":"SUMIFS(#REF!,#REF!,$B9,#REF!,\">=30\",#REF!,\">\"&Q$3,#REF!,\"<=\"&N$3)","v":{"$error":"#REF!"}},{"$f":"SUMIFS(#REF!,#REF!,$B9,#REF!,\">=30\",#REF!,\">\"&Q$3,#REF!,\"<=\"&N$3)","v":{"$error":"#REF!"}},{"$f":"COUNTIFS(#REF!,$B9,#REF!,\">=30\",#REF!,\">\"&T$3,#REF!,\"<=\"&Q$3)","v":{"$error":"#REF!"}},{"$f":"SUMIFS(#REF!,#REF!,$B9,#REF!,\">=30\",#REF!,\">\"&T$3,#REF!,\"<=\"&Q$3)","v":{"$error":"#REF!"}},{"$f":"SUMIFS(#REF!,#REF!,$B9,#REF!,\">=30\",#REF!,\">\"&T$3,#REF!,\"<=\"&Q$3)","v":{"$error":"#REF!"}},{"$f":"COUNTIFS(#REF!,$B9,#REF!,\">=30\",#REF!,\">\"&W$3,#REF!,\"<=\"&T$3)","v":{"$error":"#REF!"}},{"$f":"SUMIFS(#REF!,#REF!,$B9,#REF!,\">=30\",#REF!,\">\"&W$3,#REF!,\"<=\"&T$3)","v":{"$error":"#REF!"}},{"$f":"SUMIFS(#REF!,#REF!,$B9,#REF!,\">=30\",#REF!,\">\"&W$3,#REF!,\"<=\"&T$3)","v":{"$error":"#REF!"}},{"$f":"COUNTIFS(#REF!,$B9,#REF!,\">=30\",#REF!,\">\"&Z$3,#REF!,\"<=\"&W$3)","v":{"$error":"#REF!"}},{"$f":"SUMIFS(#REF!,#REF!,$B9,#REF!,\">=30\",#REF!,\">\"&Z$3,#REF!,\"<=\"&W$3)","v":{"$error":"#REF!"}},{"$f":"SUMIFS(#REF!,#REF!,$B9,#REF!,\">=30\",#REF!,\">\"&Z$3,#REF!,\"<=\"&W$3)","v":{"$error":"#REF!"}},{"$f":"COUNTIFS(#REF!,$B9,#REF!,\">=30\",#REF!,\">\"&AC$3,#REF!,\"<=\"&Z$3)","v":{"$error":"#REF!"}},{"$f":"SUMIFS(#REF!,#REF!,$B9,#REF!,\">=30\",#REF!,\">\"&AC$3,#REF!,\"<=\"&Z$3)","v":{"$error":"#REF!"}},{"$f":"SUMIFS(#REF!,#REF!,$B9,#REF!,\">=30\",#REF!,\">\"&AC$3,#REF!,\"<=\"&Z$3)","v":{"$error":"#REF!"}},null,{"$error":"#REF!"},{"$error":"#REF!"},{"$error":"#REF!"}]
[" 용   산 Yongsan-gu","용산구",{"$error":"#REF!"},{"$error":"#REF!"},{"$error":"#REF!"},{"$f":"COUNTIFS(#REF!,$B10,#REF!,\">=30\",#REF!,\">\"&H$3,#REF!,\"<=\"&E$3)","v":{"$error":"#REF!"}},{"$f":"SUMIFS(#REF!,#REF!,$B10,#REF!,\">=30\",#REF!,\">\"&H$3,#REF!,\"<=\"&E$3)","v":{"$error":"#REF!"}},{"$f":"SUMIFS(#REF!,#REF!,$B10,#REF!,\">=30\",#REF!,\">\"&H$3,#REF!,\"<=\"&E$3)","v":{"$error":"#REF!"}},{"$f":"COUNTIFS(#REF!,$B10,#REF!,\">=30\",#REF!,\">\"&K$3,#REF!,\"<=\"&H$3)","v":{"$error":"#REF!"}},{"$f":"SUMIFS(#REF!,#REF!,$B10,#REF!,\">=30\",#REF!,\">\"&K$3,#REF!,\"<=\"&H$3)","v":{"$error":"#REF!"}},{"$f":"SUMIFS(#REF!,#REF!,$B10,#REF!,\">=30\",#REF!,\">\"&K$3,#REF!,\"<=\"&H$3)","v":{"$error":"#REF!"}},{"$f":"COUNTIFS(#REF!,$B10,#REF!,\">=30\",#REF!,\">\"&N$3,#REF!,\"<=\"&K$3)","v":{"$error":"#REF!"}},{"$f":"SUMIFS(#REF!,#REF!,$B10,#REF!,\">=30\",#REF!,\">\"&N$3,#REF!,\"<=\"&K$3)","v":{"$error":"#REF!"}},{"$f":"SUMIFS(#REF!,#REF!,$B10,#REF!,\">=30\",#REF!,\">\"&N$3,#REF!,\"<=\"&K$3)","v":{"$error":"#REF!"}},{"$f":"COUNTIFS(#REF!,$B10,#REF!,\">=30\",#REF!,\">\"&Q$3,#REF!,\"<=\"&N$3)","v":{"$error":"#REF!"}},{"$f":"SUMIFS(#REF!,#REF!,$B10,#REF!,\">=30\",#REF!,\">\"&Q$3,#REF!,\"<=\"&N$3)","v":{"$error":"#REF!"}},{"$f":"SUMIFS(#REF!,#REF!,$B10,#REF!,\">=30\",#REF!,\">\"&Q$3,#REF!,\"<=\"&N$3)","v":{"$error":"#REF!"}},{"$f":"COUNTIFS(#REF!,$B10,#REF!,\">=30\",#REF!,\">\"&T$3,#REF!,\"<=\"&Q$3)","v":{"$error":"#REF!"}},{"$f":"SUMIFS(#REF!,#REF!,$B10,#REF!,\">=30\",#REF!,\">\"&T$3,#REF!,\"<=\"&Q$3)","v":{"$error":"#REF!"}},{"$f":"SUMIFS(#REF!,#REF!,$B10,#REF!,\">=30\",#REF!,\">\"&T$3,#REF!,\"<=\"&Q$3)","v":{"$error":"#REF!"}},{"$f":"COUNTIFS(#REF!,$B10,#REF!,\">=30\",#REF!,\">\"&W$3,#REF!,\"<=\"&T$3)","v":{"$error":"#REF!"}},{"$f":"SUMIFS(#REF!,#REF!,$B10,#REF!,\">=30\",#REF!,\">\"&W$3,#REF!,\"<=\"&T$3)","v":{"$error":"#REF!"}},{"$f":"SUMIFS(#REF!,#REF!,$B10,#REF!,\">=30\",#REF!,\">\"&W$3,#REF!,\"<=\"&T$3)","v":{"$error":"#REF!"}},{"$f":"COUNTIFS(#REF!,$B10,#REF!,\">=30\",#REF!,\">\"&Z$3,#REF!,\"<=\"&W$3)","v":{"$error":"#REF!"}},{"$f":"SUMIFS(#REF!,#REF!,$B10,#REF!,\">=30\",#REF!,\">\"&Z$3,#REF!,\"<=\"&W$3)","v":{"$error":"#REF!"}},{"$f":"SUMIFS(#REF!,#REF!,$B10,#REF!,\">=30\",#REF!,\">\"&Z$3,#REF!,\"<=\"&W$3)","v":{"$error":"#REF!"}},{"$f":"COUNTIFS(#REF!,$B10,#REF!,\">=30\",#REF!,\">\"&AC$3,#REF!,\"<=\"&Z$3)","v":{"$error":"#REF!"}},{"$f":"SUMIFS(#REF!,#REF!,$B10,#REF!,\">=30\",#REF!,\">\"&AC$3,#REF!,\"<=\"&Z$3)","v":{"$error":"#REF!"}},{"$f":"SUMIFS(#REF!,#REF!,$B10,#REF!,\">=30\",#REF!,\">\"&AC$3,#REF!,\"<=\"&Z$3)","v":{"$error":"#REF!"}},null,{"$error":"#REF!"},{"$error":"#REF!"},{"$error":"#REF!"}]
[" 성   동 Seongdong-gu","성동구",{"$error":"#REF!"},{"$error":"#REF!"},{"$error":"#REF!"},{"$f":"COUNTIFS(#REF!,$B11,#REF!,\">=30\",#REF!,\">\"&H$3,#REF!,\"<=\"&E$3)","v":{"$error":"#REF!"}},{"$f":"SUMIFS(#REF!,#REF!,$B11,#REF!,\">=30\",#REF!,\">\"&H$3,#REF!,\"<=\"&E$3)","v":{"$error":"#REF!"}},{"$f":"SUMIFS(#REF!,#REF!,$B11,#REF!,\">=30\",#REF!,\">\"&H$3,#REF!,\"<=\"&E$3)","v":{"$error":"#REF!"}},{"$f":"COUNTIFS(#REF!,$B11,#REF!,\">=30\",#REF!,\">\"&K$3,#REF!,\"<=\"&H$3)","v":{"$error":"#REF!"}},{"$f":"SUMIFS(#REF!,#REF!,$B11,#REF!,\">=30\",#REF!,\">\"&K$3,#REF!,\"<=\"&H$3)","v":{"$error":"#REF!"}},{"$f":"SUMIFS(#REF!,#REF!,$B11,#REF!,\">=30\",#REF!,\">\"&K$3,#REF!,\"<=\"&H$3)","v":{"$error":"#REF!"}},{"$f":"COUNTIFS(#REF!,$B11,#REF!,\">=30\",#REF!,\">\"&N$3,#REF!,\"<=\"&K$3)","v":{"$error":"#REF!"}},{"$f":"SUMIFS(#REF!,#REF!,$B11,#REF!,\">=30\",#REF!,\">\"&N$3,#REF!,\"<=\"&K$3)","v":{"$error":"#REF!"}},{"$f":"SUMIFS(#REF!,#REF!,$B11,#REF!,\">=30\",#REF!,\">\"&N$3,#REF!,\"<=\"&K$3)","v":{"$error":"#REF!"}},{"$f":"COUNTIFS(#REF!,$B11,#REF!,\">=30\",#REF!,\">\"&Q$3,#REF!,\"<=\"&N$3)","v":{"$error":"#REF!"}},{"$f":"SUMIFS(#REF!,#REF!,$B11,#REF!,\">=30\",#REF!,\">\"&Q$3,#REF!,\"<=\"&N$3)","v":{"$error":"#REF!"}},{"$f":"SUMIFS(#REF!,#REF!,$B11,#REF!,\">=30\",#REF!,\">\"&Q$3,#REF!,\"<=\"&N$3)","v":{"$error":"#REF!"}},{"$f":"COUNTIFS(#REF!,$B11,#REF!,\">=30\",#REF!,\">\"&T$3,#REF!,\"<=\"&Q$3)","v":{"$error":"#REF!"}},{"$f":"SUMIFS(#REF!,#REF!,$B11,#REF!,\">=30\",#REF!,\">\"&T$3,#REF!,\"<=\"&Q$3)","v":{"$error":"#REF!"}},{"$f":"SUMIFS(#REF!,#REF!,$B11,#REF!,\">=30\",#REF!,\">\"&T$3,#REF!,\"<=\"&Q$3)","v":{"$error":"#REF!"}},{"$f":"COUNTIFS(#REF!,$B11,#REF!,\">=30\",#REF!,\">\"&W$3,#REF!,\"<=\"&T$3)","v":{"$error":"#REF!"}},{"$f":"SUMIFS(#REF!,#REF!,$B11,#REF!,\">=30\",#REF!,\">\"&W$3,#REF!,\"<=\"&T$3)","v":{"$error":"#REF!"}},{"$f":"SUMIFS(#REF!,#REF!,$B11,#REF!,\">=30\",#REF!,\">\"&W$3,#REF!,\"<=\"&T$3)","v":{"$error":"#REF!"}},{"$f":"COUNTIFS(#REF!,$B11,#REF!,\">=30\",#REF!,\">\"&Z$3,#REF!,\"<=\"&W$3)","v":{"$error":"#REF!"}},{"$f":"SUMIFS(#REF!,#REF!,$B11,#REF!,\">=30\",#REF!,\">\"&Z$3,#REF!,\"<=\"&W$3)","v":{"$error":"#REF!"}},{"$f":"SUMIFS(#REF!,#REF!,$B11,#REF!,\">=30\",#REF!,\">\"&Z$3,#REF!,\"<=\"&W$3)","v":{"$error":"#REF!"}},{"$f":"COUNTIFS(#REF!,$B11,#REF!,\">=30\",#REF!,\">\"&AC$3,#REF!,\"<=\"&Z$3)","v":{"$error":"#REF!"}},{"$f":"SUMIFS(#REF!,#REF!,$B11,#REF!,\">=30\",#REF!,\">\"&AC$3,#REF!,\"<=\"&Z$3)","v":{"$error":"#REF!"}},{"$f":"SUMIFS(#REF!,#REF!,$B11,#REF!,\">=30\",#REF!,\">\"&AC$3,#REF!,\"<=\"&Z$3)","v":{"$error":"#REF!"}},null,{"$error":"#REF!"},{"$error":"#REF!"},{"$error":"#REF!"}]
[" 광   진 Gwangjin-gu","광진구",{"$error":"#REF!"},{"$error":"#REF!"},{"$error":"#REF!"},{"$f":"COUNTIFS(#REF!,$B12,#REF!,\">=30\",#REF!,\">\"&H$3,#REF!,\"<=\"&E$3)","v":{"$error":"#REF!"}},{"$f":"SUMIFS(#REF!,#REF!,$B12,#REF!,\">=30\",#REF!,\">\"&H$3,#REF!,\"<=\"&E$3)","v":{"$error":"#REF!"}},{"$f":"SUMIFS(#REF!,#REF!,$B12,#REF!,\">=30\",#REF!,\">\"&H$3,#REF!,\"<=\"&E$3)","v":{"$error":"#REF!"}},{"$f":"COUNTIFS(#REF!,$B12,#REF!,\">=30\",#REF!,\">\"&K$3,#REF!,\"<=\"&H$3)","v":{"$error":"#REF!"}},{"$f":"SUMIFS(#REF!,#REF!,$B12,#REF!,\">=30\",#REF!,\">\"&K$3,#REF!,\"<=\"&H$3)","v":{"$error":"#REF!"}},{"$f":"SUMIFS(#REF!,#REF!,$B12,#REF!,\">=30\",#REF!,\">\"&K$3,#REF!,\"<=\"&H$3)","v":{"$error":"#REF!"}},{"$f":"COUNTIFS(#REF!,$B12,#REF!,\">=30\",#REF!,\">\"&N$3,#REF!,\"<=\"&K$3)","v":{"$error":"#REF!"}},{"$f":"SUMIFS(#REF!,#REF!,$B12,#REF!,\">=30\",#REF!,\">\"&N$3,#REF!,\"<=\"&K$3)","v":{"$error":"#REF!"}},{"$f":"SUMIFS(#REF!,#REF!,$B12,#REF!,\">=30\",#REF!,\">\"&N$3,#REF!,\"<=\"&K$3)","v":{"$error":"#REF!"}},{"$f":"COUNTIFS(#REF!,$B12,#REF!,\">=30\",#REF!,\">\"&Q$3,#REF!,\"<=\"&N$3)","v":{"$error":"#REF!"}},{"$f":"SUMIFS(#REF!,#REF!,$B12,#REF!,\">=30\",#REF!,\">\"&Q$3,#REF!,\"<=\"&N$3)","v":{"$error":"#REF!"}},{"$f":"SUMIFS(#REF!,#REF!,$B12,#REF!,\">=30\",#REF!,\">\"&Q$3,#REF!,\"<=\"&N$3)","v":{"$error":"#REF!"}},{"$f":"COUNTIFS(#REF!,$B12,#REF!,\">=30\",#REF!,\">\"&T$3,#REF!,\"<=\"&Q$3)","v":{"$error":"#REF!"}},{"$f":"SUMIFS(#REF!,#REF!,$B12,#REF!,\">=30\",#REF!,\">\"&T$3,#REF!,\"<=\"&Q$3)","v":{"$error":"#REF!"}},{"$f":"SUMIFS(#REF!,#REF!,$B12,#REF!,\">=30\",#REF!,\">\"&T$3,#REF!,\"<=\"&Q$3)","v":{"$error":"#REF!"}},{"$f":"COUNTIFS(#REF!,$B12,#REF!,\">=30\",#REF!,\">\"&W$3,#REF!,\"<=\"&T$3)","v":{"$error":"#REF!"}},{"$f":"SUMIFS(#REF!,#REF!,$B12,#REF!,\">=30\",#REF!,\">\"&W$3,#REF!,\"<=\"&T$3)","v":{"$error":"#REF!"}},{"$f":"SUMIFS(#REF!,#REF!,$B12,#REF!,\">=30\",#REF!,\">\"&W$3,#REF!,\"<=\"&T$3)","v":{"$error":"#REF!"}},{"$f":"COUNTIFS(#REF!,$B12,#REF!,\">=30\",#REF!,\">\"&Z$3,#REF!,\"<=\"&W$3)","v":{"$error":"#REF!"}},{"$f":"SUMIFS(#REF!,#REF!,$B12,#REF!,\">=30\",#REF!,\">\"&Z$3,#REF!,\"<=\"&W$3)","v":{"$error":"#REF!"}},{"$f":"SUMIFS(#REF!,#REF!,$B12,#REF!,\">=30\",#REF!,\">\"&Z$3,#REF!,\"<=\"&W$3)","v":{"$error":"#REF!"}},{"$f":"COUNTIFS(#REF!,$B12,#REF!,\">=30\",#REF!,\">\"&AC$3,#REF!,\"<=\"&Z$3)","v":{"$error":"#REF!"}},{"$f":"SUMIFS(#REF!,#REF!,$B12,#REF!,\">=30\",#REF!,\">\"&AC$3,#REF!,\"<=\"&Z$3)","v":{"$error":"#REF!"}},{"$f":"SUMIFS(#REF!,#REF!,$B12,#REF!,\">=30\",#REF!,\">\"&AC$3,#REF!,\"<=\"&Z$3)","v":{"$error":"#REF!"}},null,{"$error":"#REF!"},{"$error":"#REF!"},{"$error":"#REF!"}]
[" 동대문 Dongdaemun-gu","동대문구",{"$error":"#REF!"},{"$error":"#REF!"},{"$error":"#REF!"},{"$f":"COUNTIFS(#REF!,$B13,#REF!,\">=30\",#REF!,\">\"&H$3,#REF!,\"<=\"&E$3)","v":{"$error":"#REF!"}},{"$f":"SUMIFS(#REF!,#REF!,$B13,#REF!,\">=30\",#REF!,\">\"&H$3,#REF!,\"<=\"&E$3)","v":{"$error":"#REF!"}},{"$f":"SUMIFS(#REF!,#REF!,$B13,#REF!,\">=30\",#REF!,\">\"&H$3,#REF!,\"<=\"&E$3)","v":{"$error":"#REF!"}},{"$f":"COUNTIFS(#REF!,$B13,#REF!,\">=30\",#REF!,\">\"&K$3,#REF!,\"<=\"&H$3)","v":{"$error":"#REF!"}},{"$f":"SUMIFS(#REF!,#REF!,$B13,#REF!,\">=30\",#REF!,\">\"&K$3,#REF!,\"<=\"&H$3)","v":{"$error":"#REF!"}},{"$f":"SUMIFS(#REF!,#REF!,$B13,#REF!,\">=30\",#REF!,\">\"&K$3,#REF!,\"<=\"&H$3)","v":{"$error":"#REF!"}},{"$f":"COUNTIFS(#REF!,$B13,#REF!,\">=30\",#REF!,\">\"&N$3,#REF!,\"<=\"&K$3)","v":{"$error":"#REF!"}},{"$f":"SUMIFS(#REF!,#REF!,$B13,#REF!,\">=30\",#REF!,\">\"&N$3,#REF!,\"<=\"&K$3)","v":{"$error":"#REF!"}},{"$f":"SUMIFS(#REF!,#REF!,$B13,#REF!,\">=30\",#REF!,\">\"&N$3,#REF!,\"<=\"&K$3)","v":{"$error":"#REF!"}},{"$f":"COUNTIFS(#REF!,$B13,#REF!,\">=30\",#REF!,\">\"&Q$3,#REF!,\"<=\"&N$3)","v":{"$error":"#REF!"}},{"$f":"SUMIFS(#REF!,#REF!,$B13,#REF!,\">=30\",#REF!,\">\"&Q$3,#REF!,\"<=\"&N$3)","v":{"$error":"#REF!"}},{"$f":"SUMIFS(#REF!,#REF!,$B13,#REF!,\">=30\",#REF!,\">\"&Q$3,#REF!,\"<=\"&N$3)","v":{"$error":"#REF!"}},{"$f":"COUNTIFS(#REF!,$B13,#REF!,\">=30\",#REF!,\">\"&T$3,#REF!,\"<=\"&Q$3)","v":{"$error":"#REF!"}},{"$f":"SUMIFS(#REF!,#REF!,$B13,#REF!,\">=30\",#REF!,\">\"&T$3,#REF!,\"<=\"&Q$3)","v":{"$error":"#REF!"}},{"$f":"SUMIFS(#REF!,#REF!,$B13,#REF!,\">=30\",#REF!,\">\"&T$3,#REF!,\"<=\"&Q$3)","v":{"$error":"#REF!"}},{"$f":"COUNTIFS(#REF!,$B13,#REF!,\">=30\",#REF!,\">\"&W$3,#REF!,\"<=\"&T$3)","v":{"$error":"#REF!"}},{"$f":"SUMIFS(#REF!,#REF!,$B13,#REF!,\">=30\",#REF!,\">\"&W$3,#REF!,\"<=\"&T$3)","v":{"$error":"#REF!"}},{"$f":"SUMIFS(#REF!,#REF!,$B13,#REF!,\">=30\",#REF!,\">\"&W$3,#REF!,\"<=\"&T$3)","v":{"$error":"#REF!"}},{"$f":"COUNTIFS(#REF!,$B13,#REF!,\">=30\",#REF!,\">\"&Z$3,#REF!,\"<=\"&W$3)","v":{"$error":"#REF!"}},{"$f":"SUMIFS(#REF!,#REF!,$B13,#REF!,\">=30\",#REF!,\">\"&Z$3,#REF!,\"<=\"&W$3)","v":{"$error":"#REF!"}},{"$f":"SUMIFS(#REF!,#REF!,$B13,#REF!,\">=30\",#REF!,\">\"&Z$3,#REF!,\"<=\"&W$3)","v":{"$error":"#REF!"}},{"$f":"COUNTIFS(#REF!,$B13,#REF!,\">=30\",#REF!,\">\"&AC$3,#REF!,\"<=\"&Z$3)","v":{"$error":"#REF!"}},{"$f":"SUMIFS(#REF!,#REF!,$B13,#REF!,\">=30\",#REF!,\">\"&AC$3,#REF!,\"<=\"&Z$3)","v":{"$error":"#REF!"}},{"$f":"SUMIFS(#REF!,#REF!,$B13,#REF!,\">=30\",#REF!,\">\"&AC$3,#REF!,\"<=\"&Z$3)","v":{"$error":"#REF!"}},null,{"$error":"#REF!"},{"$error":"#REF!"},{"$error":"#REF!"}]
[" 중   랑 Jungnang-gu","중랑구",{"$error":"#REF!"},{"$error":"#REF!"},{"$error":"#REF!"},{"$f":"COUNTIFS(#REF!,$B14,#REF!,\">=30\",#REF!,\">\"&H$3,#REF!,\"<=\"&E$3)","v":{"$error":"#REF!"}},{"$f":"SUMIFS(#REF!,#REF!,$B14,#REF!,\">=30\",#REF!,\">\"&H$3,#REF!,\"<=\"&E$3)","v":{"$error":"#REF!"}},{"$f":"SUMIFS(#REF!,#REF!,$B14,#REF!,\">=30\",#REF!,\">\"&H$3,#REF!,\"<=\"&E$3)","v":{"$error":"#REF!"}},{"$f":"COUNTIFS(#REF!,$B14,#REF!,\">=30\",#REF!,\">\"&K$3,#REF!,\"<=\"&H$3)","v":{"$error":"#REF!"}},{"$f":"SUMIFS(#REF!,#REF!,$B14,#REF!,\">=30\",#REF!,\">\"&K$3,#REF!,\"<=\"&H$3)","v":{"$error":"#REF!"}},{"$f":"SUMIFS(#REF!,#REF!,$B14,#REF!,\">=30\",#REF!,\">\"&K$3,#REF!,\"<=\"&H$3)","v":{"$error":"#REF!"}},{"$f":"COUNTIFS(#REF!,$B14,#REF!,\">=30\",#REF!,\">\"&N$3,#REF!,\"<=\"&K$3)","v":{"$error":"#REF!"}},{"$f":"SUMIFS(#REF!,#REF!,$B14,#REF!,\">=30\",#REF!,\">\"&N$3,#REF!,\"<=\"&K$3)","v":{"$error":"#REF!"}},{"$f":"SUMIFS(#REF!,#REF!,$B14,#REF!,\">=30\",#REF!,\">\"&N$3,#REF!,\"<=\"&K$3)","v":{"$error":"#REF!"}},{"$f":"COUNTIFS(#REF!,$B14,#REF!,\">=30\",#REF!,\">\"&Q$3,#REF!,\"<=\"&N$3)","v":{"$error":"#REF!"}},{"$f":"SUMIFS(#REF!,#REF!,$B14,#REF!,\">=30\",#REF!,\">\"&Q$3,#REF!,\"<=\"&N$3)","v":{"$error":"#REF!"}},{"$f":"SUMIFS(#REF!,#REF!,$B14,#REF!,\">=30\",#REF!,\">\"&Q$3,#REF!,\"<=\"&N$3)","v":{"$error":"#REF!"}},{"$f":"COUNTIFS(#REF!,$B14,#REF!,\">=30\",#REF!,\">\"&T$3,#REF!,\"<=\"&Q$3)","v":{"$error":"#REF!"}},{"$f":"SUMIFS(#REF!,#REF!,$B14,#REF!,\">=30\",#REF!,\">\"&T$3,#REF!,\"<=\"&Q$3)","v":{"$error":"#REF!"}},{"$f":"SUMIFS(#REF!,#REF!,$B14,#REF!,\">=30\",#REF!,\">\"&T$3,#REF!,\"<=\"&Q$3)","v":{"$error":"#REF!"}},{"$f":"COUNTIFS(#REF!,$B14,#REF!,\">=30\",#REF!,\">\"&W$3,#REF!,\"<=\"&T$3)","v":{"$error":"#REF!"}},{"$f":"SUMIFS(#REF!,#REF!,$B14,#REF!,\">=30\",#REF!,\">\"&W$3,#REF!,\"<=\"&T$3)","v":{"$error":"#REF!"}},{"$f":"SUMIFS(#REF!,#REF!,$B14,#REF!,\">=30\",#REF!,\">\"&W$3,#REF!,\"<=\"&T$3)","v":{"$error":"#REF!"}},{"$f":"COUNTIFS(#REF!,$B14,#REF!,\">=30\",#REF!,\">\"&Z$3,#REF!,\"<=\"&W$3)","v":{"$error":"#REF!"}},{"$f":"SUMIFS(#REF!,#REF!,$B14,#REF!,\">=30\",#REF!,\">\"&Z$3,#REF!,\"<=\"&W$3)","v":{"$error":"#REF!"}},{"$f":"SUMIFS(#REF!,#REF!,$B14,#REF!,\">=30\",#REF!,\">\"&Z$3,#REF!,\"<=\"&W$3)","v":{"$error":"#REF!"}},{"$f":"COUNTIFS(#REF!,$B14,#REF!,\">=30\",#REF!,\">\"&AC$3,#REF!,\"<=\"&Z$3)","v":{"$error":"#REF!"}},{"$f":"SUMIFS(#REF!,#REF!,$B14,#REF!,\">=30\",#REF!,\">\"&AC$3,#REF!,\"<=\"&Z$3)","v":{"$error":"#REF!"}},{"$f":"SUMIFS(#REF!,#REF!,$B14,#REF!,\">=30\",#REF!,\">\"&AC$3,#REF!,\"<=\"&Z$3)","v":{"$error":"#REF!"}},null,{"$error":"#REF!"},{"$error":"#REF!"},{"$error":"#REF!"}]
[" 성   북 Seongbuk-gu","성북구",{"$error":"#REF!"},{"$error":"#REF!"},{"$error":"#REF!"},{"$f":"COUNTIFS(#REF!,$B15,#REF!,\">=30\",#REF!,\">\"&H$3,#REF!,\"<=\"&E$3)","v":{"$error":"#REF!"}},{"$f":"SUMIFS(#REF!,#REF!,$B15,#REF!,\">=30\",#REF!,\">\"&H$3,#REF!,\"<=\"&E$3)","v":{"$error":"#REF!"}},{"$f":"SUMIFS(#REF!,#REF!,$B15,#REF!,\">=30\",#REF!,\">\"&H$3,#REF!,\"<=\"&E$3)","v":{"$error":"#REF!"}},{"$f":"COUNTIFS(#REF!,$B15,#REF!,\">=30\",#REF!,\">\"&K$3,#REF!,\"<=\"&H$3)","v":{"$error":"#REF!"}},{"$f":"SUMIFS(#REF!,#REF!,$B15,#REF!,\">=30\",#REF!,\">\"&K$3,#REF!,\"<=\"&H$3)","v":{"$error":"#REF!"}},{"$f":"SUMIFS(#REF!,#REF!,$B15,#REF!,\">=30\",#REF!,\">\"&K$3,#REF!,\"<=\"&H$3)","v":{"$error":"#REF!"}},{"$f":"COUNTIFS(#REF!,$B15,#REF!,\">=30\",#REF!,\">\"&N$3,#REF!,\"<=\"&K$3)","v":{"$error":"#REF!"}},{"$f":"SUMIFS(#REF!,#REF!,$B15,#REF!,\">=30\",#REF!,\">\"&N$3,#REF!,\"<=\"&K$3)","v":{"$error":"#REF!"}},{"$f":"SUMIFS(#REF!,#REF!,$B15,#REF!,\">=30\",#REF!,\">\"&N$3,#REF!,\"<=\"&K$3)","v":{"$error":"#REF!"}},{"$f":"COUNTIFS(#REF!,$B15,#REF!,\">=30\",#REF!,\">\"&Q$3,#REF!,\"<=\"&N$3)","v":{"$error":"#REF!"}},{"$f":"SUMIFS(#REF!,#REF!,$B15,#REF!,\">=30\",#REF!,\">\"&Q$3,#REF!,\"<=\"&N$3)","v":{"$error":"#REF!"}},{"$f":"SUMIFS(#REF!,#REF!,$B15,#REF!,\">=30\",#REF!,\">\"&Q$3,#REF!,\"<=\"&N$3)","v":{"$error":"#REF!"}},{"$f":"COUNTIFS(#REF!,$B15,#REF!,\">=30\",#REF!,\">\"&T$3,#REF!,\"<=\"&Q$3)","v":{"$error":"#REF!"}},{"$f":"SUMIFS(#REF!,#REF!,$B15,#REF!,\">=30\",#REF!,\">\"&T$3,#REF!,\"<=\"&Q$3)","v":{"$error":"#REF!"}},{"$f":"SUMIFS(#REF!,#REF!,$B15,#REF!,\">=30\",#REF!,\">\"&T$3,#REF!,\"<=\"&Q$3)","v":{"$error":"#REF!"}},{"$f":"COUNTIFS(#REF!,$B15,#REF!,\">=30\",#REF!,\">\"&W$3,#REF!,\"<=\"&T$3)","v":{"$error":"#REF!"}},{"$f":"SUMIFS(#REF!,#REF!,$B15,#REF!,\">=30\",#REF!,\">\"&W$3,#REF!,\"<=\"&T$3)","v":{"$error":"#REF!"}},{"$f":"SUMIFS(#REF!,#REF!,$B15,#REF!,\">=30\",#REF!,\">\"&W$3,#REF!,\"<=\"&T$3)","v":{"$error":"#REF!"}},{"$f":"COUNTIFS(#REF!,$B15,#REF!,\">=30\",#REF!,\">\"&Z$3,#REF!,\"<=\"&W$3)","v":{"$error":"#REF!"}},{"$f":"SUMIFS(#REF!,#REF!,$B15,#REF!,\">=30\",#REF!,\">\"&Z$3,#REF!,\"<=\"&W$3)","v":{"$error":"#REF!"}},{"$f":"SUMIFS(#REF!,#REF!,$B15,#REF!,\">=30\",#REF!,\">\"&Z$3,#REF!,\"<=\"&W$3)","v":{"$error":"#REF!"}},{"$f":"COUNTIFS(#REF!,$B15,#REF!,\">=30\",#REF!,\">\"&AC$3,#REF!,\"<=\"&Z$3)","v":{"$error":"#REF!"}},{"$f":"SUMIFS(#REF!,#REF!,$B15,#REF!,\">=30\",#REF!,\">\"&AC$3,#REF!,\"<=\"&Z$3)","v":{"$error":"#REF!"}},{"$f":"SUMIFS(#REF!,#REF!,$B15,#REF!,\">=30\",#REF!,\">\"&AC$3,#REF!,\"<=\"&Z$3)","v":{"$error":"#REF!"}},null,{"$error":"#REF!"},{"$error":"#REF!"},{"$error":"#REF!"}]
[" 강   북 Gangbuk-gu","강북구",{"$error":"#REF!"},{"$error":"#REF!"},{"$error":"#REF!"},{"$f":"COUNTIFS(#REF!,$B16,#REF!,\">=30\",#REF!,\">\"&H$3,#REF!,\"<=\"&E$3)","v":{"$error":"#REF!"}},{"$f":"SUMIFS(#REF!,#REF!,$B16,#REF!,\">=30\",#REF!,\">\"&H$3,#REF!,\"<=\"&E$3)","v":{"$error":"#REF!"}},{"$f":"SUMIFS(#REF!,#REF!,$B16,#REF!,\">=30\",#REF!,\">\"&H$3,#REF!,\"<=\"&E$3)","v":{"$error":"#REF!"}},{"$f":"COUNTIFS(#REF!,$B16,#REF!,\">=30\",#REF!,\">\"&K$3,#REF!,\"<=\"&H$3)","v":{"$error":"#REF!"}},{"$f":"SUMIFS(#REF!,#REF!,$B16,#REF!,\">=30\",#REF!,\">\"&K$3,#REF!,\"<=\"&H$3)","v":{"$error":"#REF!"}},{"$f":"SUMIFS(#REF!,#REF!,$B16,#REF!,\">=30\",#REF!,\">\"&K$3,#REF!,\"<=\"&H$3)","v":{"$error":"#REF!"}},{"$f":"COUNTIFS(#REF!,$B16,#REF!,\">=30\",#REF!,\">\"&N$3,#REF!,\"<=\"&K$3)","v":{"$error":"#REF!"}},{"$f":"SUMIFS(#REF!,#REF!,$B16,#REF!,\">=30\",#REF!,\">\"&N$3,#REF!,\"<=\"&K$3)","v":{"$error":"#REF!"}},{"$f":"SUMIFS(#REF!,#REF!,$B16,#REF!,\">=30\",#REF!,\">\"&N$3,#REF!,\"<=\"&K$3)","v":{"$error":"#REF!"}},{"$f":"COUNTIFS(#REF!,$B16,#REF!,\">=30\",#REF!,\">\"&Q$3,#REF!,\"<=\"&N$3)","v":{"$error":"#REF!"}},{"$f":"SUMIFS(#REF!,#REF!,$B16,#REF!,\">=30\",#REF!,\">\"&Q$3,#REF!,\"<=\"&N$3)","v":{"$error":"#REF!"}},{"$f":"SUMIFS(#REF!,#REF!,$B16,#REF!,\">=30\",#REF!,\">\"&Q$3,#REF!,\"<=\"&N$3)","v":{"$error":"#REF!"}},{"$f":"COUNTIFS(#REF!,$B16,#REF!,\">=30\",#REF!,\">\"&T$3,#REF!,\"<=\"&Q$3)","v":{"$error":"#REF!"}},{"$f":"SUMIFS(#REF!,#REF!,$B16,#REF!,\">=30\",#REF!,\">\"&T$3,#REF!,\"<=\"&Q$3)","v":{"$error":"#REF!"}},{"$f":"SUMIFS(#REF!,#REF!,$B16,#REF!,\">=30\",#REF!,\">\"&T$3,#REF!,\"<=\"&Q$3)","v":{"$error":"#REF!"}},{"$f":"COUNTIFS(#REF!,$B16,#REF!,\">=30\",#REF!,\">\"&W$3,#REF!,\"<=\"&T$3)","v":{"$error":"#REF!"}},{"$f":"SUMIFS(#REF!,#REF!,$B16,#REF!,\">=30\",#REF!,\">\"&W$3,#REF!,\"<=\"&T$3)","v":{"$error":"#REF!"}},{"$f":"SUMIFS(#REF!,#REF!,$B16,#REF!,\">=30\",#REF!,\">\"&W$3,#REF!,\"<=\"&T$3)","v":{"$error":"#REF!"}},{"$f":"COUNTIFS(#REF!,$B16,#REF!,\">=30\",#REF!,\">\"&Z$3,#REF!,\"<=\"&W$3)","v":{"$error":"#REF!"}},{"$f":"SUMIFS(#REF!,#REF!,$B16,#REF!,\">=30\",#REF!,\">\"&Z$3,#REF!,\"<=\"&W$3)","v":{"$error":"#REF!"}},{"$f":"SUMIFS(#REF!,#REF!,$B16,#REF!,\">=30\",#REF!,\">\"&Z$3,#REF!,\"<=\"&W$3)","v":{"$error":"#REF!"}},{"$f":"COUNTIFS(#REF!,$B16,#REF!,\">=30\",#REF!,\">\"&AC$3,#REF!,\"<=\"&Z$3)","v":{"$error":"#REF!"}},{"$f":"SUMIFS(#REF!,#REF!,$B16,#REF!,\">=30\",#REF!,\">\"&AC$3,#REF!,\"<=\"&Z$3)","v":{"$error":"#REF!"}},{"$f":"SUMIFS(#REF!,#REF!,$B16,#REF!,\">=30\",#REF!,\">\"&AC$3,#REF!,\"<=\"&Z$3)","v":{"$error":"#REF!"}},null,{"$error":"#REF!"},{"$error":"#REF!"},{"$error":"#REF!"}]
[" 도   봉 Dobong-gu","도봉구",{"$error":"#REF!"},{"$error":"#REF!"},{"$error":"#REF!"},{"$f":"COUNTIFS(#REF!,$B17,#REF!,\">=30\",#REF!,\">\"&H$3,#REF!,\"<=\"&E$3)","v":{"$error":"#REF!"}},{"$f":"SUMIFS(#REF!,#REF!,$B17,#REF!,\">=30\",#REF!,\">\"&H$3,#REF!,\"<=\"&E$3)","v":{"$error":"#REF!"}},{"$f":"SUMIFS(#REF!,#REF!,$B17,#REF!,\">=30\",#REF!,\">\"&H$3,#REF!,\"<=\"&E$3)","v":{"$error":"#REF!"}},{"$f":"COUNTIFS(#REF!,$B17,#REF!,\">=30\",#REF!,\">\"&K$3,#REF!,\"<=\"&H$3)","v":{"$error":"#REF!"}},{"$f":"SUMIFS(#REF!,#REF!,$B17,#REF!,\">=30\",#REF!,\">\"&K$3,#REF!,\"<=\"&H$3)","v":{"$error":"#REF!"}},{"$f":"SUMIFS(#REF!,#REF!,$B17,#REF!,\">=30\",#REF!,\">\"&K$3,#REF!,\"<=\"&H$3)","v":{"$error":"#REF!"}},{"$f":"COUNTIFS(#REF!,$B17,#REF!,\">=30\",#REF!,\">\"&N$3,#REF!,\"<=\"&K$3)","v":{"$error":"#REF!"}},{"$f":"SUMIFS(#REF!,#REF!,$B17,#REF!,\">=30\",#REF!,\">\"&N$3,#REF!,\"<=\"&K$3)","v":{"$error":"#REF!"}},{"$f":"SUMIFS(#REF!,#REF!,$B17,#REF!,\">=30\",#REF!,\">\"&N$3,#REF!,\"<=\"&K$3)","v":{"$error":"#REF!"}},{"$f":"COUNTIFS(#REF!,$B17,#REF!,\">=30\",#REF!,\">\"&Q$3,#REF!,\"<=\"&N$3)","v":{"$error":"#REF!"}},{"$f":"SUMIFS(#REF!,#REF!,$B17,#REF!,\">=30\",#REF!,\">\"&Q$3,#REF!,\"<=\"&N$3)","v":{"$error":"#REF!"}},{"$f":"SUMIFS(#REF!,#REF!,$B17,#REF!,\">=30\",#REF!,\">\"&Q$3,#REF!,\"<=\"&N$3)","v":{"$error":"#REF!"}},{"$f":"COUNTIFS(#REF!,$B17,#REF!,\">=30\",#REF!,\">\"&T$3,#REF!,\"<=\"&Q$3)","v":{"$error":"#REF!"}},{"$f":"SUMIFS(#REF!,#REF!,$B17,#REF!,\">=30\",#REF!,\">\"&T$3,#REF!,\"<=\"&Q$3)","v":{"$error":"#REF!"}},{"$f":"SUMIFS(#REF!,#REF!,$B17,#REF!,\">=30\",#REF!,\">\"&T$3,#REF!,\"<=\"&Q$3)","v":{"$error":"#REF!"}},{"$f":"COUNTIFS(#REF!,$B17,#REF!,\">=30\",#REF!,\">\"&W$3,#REF!,\"<=\"&T$3)","v":{"$error":"#REF!"}},{"$f":"SUMIFS(#REF!,#REF!,$B17,#REF!,\">=30\",#REF!,\">\"&W$3,#REF!,\"<=\"&T$3)","v":{"$error":"#REF!"}},{"$f":"SUMIFS(#REF!,#REF!,$B17,#REF!,\">=30\",#REF!,\">\"&W$3,#REF!,\"<=\"&T$3)","v":{"$error":"#REF!"}},{"$f":"COUNTIFS(#REF!,$B17,#REF!,\">=30\",#REF!,\">\"&Z$3,#REF!,\"<=\"&W$3)","v":{"$error":"#REF!"}},{"$f":"SUMIFS(#REF!,#REF!,$B17,#REF!,\">=30\",#REF!,\">\"&Z$3,#REF!,\"<=\"&W$3)","v":{"$error":"#REF!"}},{"$f":"SUMIFS(#REF!,#REF!,$B17,#REF!,\">=30\",#REF!,\">\"&Z$3,#REF!,\"<=\"&W$3)","v":{"$error":"#REF!"}},{"$f":"COUNTIFS(#REF!,$B17,#REF!,\">=30\",#REF!,\">\"&AC$3,#REF!,\"<=\"&Z$3)","v":{"$error":"#REF!"}},{"$f":"SUMIFS(#REF!,#REF!,$B17,#REF!,\">=30\",#REF!,\">\"&AC$3,#REF!,\"<=\"&Z$3)","v":{"$error":"#REF!"}},{"$f":"SUMIFS(#REF!,#REF!,$B17,#REF!,\">=30\",#REF!,\">\"&AC$3,#REF!,\"<=\"&Z$3)","v":{"$error":"#REF!"}},null,{"$error":"#REF!"},{"$error":"#REF!"},{"$error":"#REF!"}]
[" 노   원 Nowon-gu","노원구",{"$error":"#REF!"},{"$error":"#REF!"},{"$error":"#REF!"},{"$f":"COUNTIFS(#REF!,$B18,#REF!,\">=30\",#REF!,\">\"&H$3,#REF!,\"<=\"&E$3)","v":{"$error":"#REF!"}},{"$f":"SUMIFS(#REF!,#REF!,$B18,#REF!,\">=30\",#REF!,\">\"&H$3,#REF!,\"<=\"&E$3)","v":{"$error":"#REF!"}},{"$f":"SUMIFS(#REF!,#REF!,$B18,#REF!,\">=30\",#REF!,\">\"&H$3,#REF!,\"<=\"&E$3)","v":{"$error":"#REF!"}},{"$f":"COUNTIFS(#REF!,$B18,#REF!,\">=30\",#REF!,\">\"&K$3,#REF!,\"<=\"&H$3)","v":{"$error":"#REF!"}},{"$f":"SUMIFS(#REF!,#REF!,$B18,#REF!,\">=30\",#REF!,\">\"&K$3,#REF!,\"<=\"&H$3)","v":{"$error":"#REF!"}},{"$f":"SUMIFS(#REF!,#REF!,$B18,#REF!,\">=30\",#REF!,\">\"&K$3,#REF!,\"<=\"&H$3)","v":{"$error":"#REF!"}},{"$f":"COUNTIFS(#REF!,$B18,#REF!,\">=30\",#REF!,\">\"&N$3,#REF!,\"<=\"&K$3)","v":{"$error":"#REF!"}},{"$f":"SUMIFS(#REF!,#REF!,$B18,#REF!,\">=30\",#REF!,\">\"&N$3,#REF!,\"<=\"&K$3)","v":{"$error":"#REF!"}},{"$f":"SUMIFS(#REF!,#REF!,$B18,#REF!,\">=30\",#REF!,\">\"&N$3,#REF!,\"<=\"&K$3)","v":{"$error":"#REF!"}},{"$f":"COUNTIFS(#REF!,$B18,#REF!,\">=30\",#REF!,\">\"&Q$3,#REF!,\"<=\"&N$3)","v":{"$error":"#REF!"}},{"$f":"SUMIFS(#REF!,#REF!,$B18,#REF!,\">=30\",#REF!,\">\"&Q$3,#REF!,\"<=\"&N$3)","v":{"$error":"#REF!"}},{"$f":"SUMIFS(#REF!,#REF!,$B18,#REF!,\">=30\",#REF!,\">\"&Q$3,#REF!,\"<=\"&N$3)","v":{"$error":"#REF!"}},{"$f":"COUNTIFS(#REF!,$B18,#REF!,\">=30\",#REF!,\">\"&T$3,#REF!,\"<=\"&Q$3)","v":{"$error":"#REF!"}},{"$f":"SUMIFS(#REF!,#REF!,$B18,#REF!,\">=30\",#REF!,\">\"&T$3,#REF!,\"<=\"&Q$3)","v":{"$error":"#REF!"}},{"$f":"SUMIFS(#REF!,#REF!,$B18,#REF!,\">=30\",#REF!,\">\"&T$3,#REF!,\"<=\"&Q$3)","v":{"$error":"#REF!"}},{"$f":"COUNTIFS(#REF!,$B18,#REF!,\">=30\",#REF!,\">\"&W$3,#REF!,\"<=\"&T$3)","v":{"$error":"#REF!"}},{"$f":"SUMIFS(#REF!,#REF!,$B18,#REF!,\">=30\",#REF!,\">\"&W$3,#REF!,\"<=\"&T$3)","v":{"$error":"#REF!"}},{"$f":"SUMIFS(#REF!,#REF!,$B18,#REF!,\">=30\",#REF!,\">\"&W$3,#REF!,\"<=\"&T$3)","v":{"$error":"#REF!"}},{"$f":"COUNTIFS(#REF!,$B18,#REF!,\">=30\",#REF!,\">\"&Z$3,#REF!,\"<=\"&W$3)","v":{"$error":"#REF!"}},{"$f":"SUMIFS(#REF!,#REF!,$B18,#REF!,\">=30\",#REF!,\">\"&Z$3,#REF!,\"<=\"&W$3)","v":{"$error":"#REF!"}},{"$f":"SUMIFS(#REF!,#REF!,$B18,#REF!,\">=30\",#REF!,\">\"&Z$3,#REF!,\"<=\"&W$3)","v":{"$error":"#REF!"}},{"$f":"COUNTIFS(#REF!,$B18,#REF!,\">=30\",#REF!,\">\"&AC$3,#REF!,\"<=\"&Z$3)","v":{"$error":"#REF!"}},{"$f":"SUMIFS(#REF!,#REF!,$B18,#REF!,\">=30\",#REF!,\">\"&AC$3,#REF!,\"<=\"&Z$3)","v":{"$error":"#REF!"}},{"$f":"SUMIFS(#REF!,#REF!,$B18,#REF!,\">=30\",#REF!,\">\"&AC$3,#REF!,\"<=\"&Z$3)","v":{"$error":"#REF!"}},null,{"$error":"#REF!"},{"$error":"#REF!"},{"$error":"#REF!"}]
[" 은   평 Eunpyeong-gu","은평구",{"$error":"#REF!"},{"$error":"#REF!"},{"$error":"#REF!"},{"$f":"COUNTIFS(#REF!,$B19,#REF!,\">=30\",#REF!,\">\"&H$3,#REF!,\"<=\"&E$3)","v":{"$error":"#REF!"}},{"$f":"SUMIFS(#REF!,#REF!,$B19,#REF!,\">=30\",#REF!,\">\"&H$3,#REF!,\"<=\"&E$3)","v":{"$error":"#REF!"}},{"$f":"SUMIFS(#REF!,#REF!,$B19,#REF!,\">=30\",#REF!,\">\"&H$3,#REF!,\"<=\"&E$3)","v":{"$error":"#REF!"}},{"$f":"COUNTIFS(#REF!,$B19,#REF!,\">=30\",#REF!,\">\"&K$3,#REF!,\"<=\"&H$3)","v":{"$error":"#REF!"}},{"$f":"SUMIFS(#REF!,#REF!,$B19,#REF!,\">=30\",#REF!,\">\"&K$3,#REF!,\"<=\"&H$3)","v":{"$error":"#REF!"}},{"$f":"SUMIFS(#REF!,#REF!,$B19,#REF!,\">=30\",#REF!,\">\"&K$3,#REF!,\"<=\"&H$3)","v":{"$error":"#REF!"}},{"$f":"COUNTIFS(#REF!,$B19,#REF!,\">=30\",#REF!,\">\"&N$3,#REF!,\"<=\"&K$3)","v":{"$error":"#REF!"}},{"$f":"SUMIFS(#REF!,#REF!,$B19,#REF!,\">=30\",#REF!,\">\"&N$3,#REF!,\"<=\"&K$3)","v":{"$error":"#REF!"}},{"$f":"SUMIFS(#REF!,#REF!,$B19,#REF!,\">=30\",#REF!,\">\"&N$3,#REF!,\"<=\"&K$3)","v":{"$error":"#REF!"}},{"$f":"COUNTIFS(#REF!,$B19,#REF!,\">=30\",#REF!,\">\"&Q$3,#REF!,\"<=\"&N$3)","v":{"$error":"#REF!"}},{"$f":"SUMIFS(#REF!,#REF!,$B19,#REF!,\">=30\",#REF!,\">\"&Q$3,#REF!,\"<=\"&N$3)","v":{"$error":"#REF!"}},{"$f":"SUMIFS(#REF!,#REF!,$B19,#REF!,\">=30\",#REF!,\">\"&Q$3,#REF!,\"<=\"&N$3)","v":{"$error":"#REF!"}},{"$f":"COUNTIFS(#REF!,$B19,#REF!,\">=30\",#REF!,\">\"&T$3,#REF!,\"<=\"&Q$3)","v":{"$error":"#REF!"}},{"$f":"SUMIFS(#REF!,#REF!,$B19,#REF!,\">=30\",#REF!,\">\"&T$3,#REF!,\"<=\"&Q$3)","v":{"$error":"#REF!"}},{"$f":"SUMIFS(#REF!,#REF!,$B19,#REF!,\">=30\",#REF!,\">\"&T$3,#REF!,\"<=\"&Q$3)","v":{"$error":"#REF!"}},{"$f":"COUNTIFS(#REF!,$B19,#REF!,\">=30\",#REF!,\">\"&W$3,#REF!,\"<=\"&T$3)","v":{"$error":"#REF!"}},{"$f":"SUMIFS(#REF!,#REF!,$B19,#REF!,\">=30\",#REF!,\">\"&W$3,#REF!,\"<=\"&T$3)","v":{"$error":"#REF!"}},{"$f":"SUMIFS(#REF!,#REF!,$B19,#REF!,\">=30\",#REF!,\">\"&W$3,#REF!,\"<=\"&T$3)","v":{"$error":"#REF!"}},{"$f":"COUNTIFS(#REF!,$B19,#REF!,\">=30\",#REF!,\">\"&Z$3,#REF!,\"<=\"&W$3)","v":{"$error":"#REF!"}},{"$f":"SUMIFS(#REF!,#REF!,$B19,#REF!,\">=30\",#REF!,\">\"&Z$3,#REF!,\"<=\"&W$3)","v":{"$error":"#REF!"}},{"$f":"SUMIFS(#REF!,#REF!,$B19,#REF!,\">=30\",#REF!,\">\"&Z$3,#REF!,\"<=\"&W$3)","v":{"$error":"#REF!"}},{"$f":"COUNTIFS(#REF!,$B19,#REF!,\">=30\",#REF!,\">\"&AC$3,#REF!,\"<=\"&Z$3)","v":{"$error":"#REF!"}},{"$f":"SUMIFS(#REF!,#REF!,$B19,#REF!,\">=30\",#REF!,\">\"&AC$3,#REF!,\"<=\"&Z$3)","v":{"$error":"#REF!"}},{"$f":"SUMIFS(#REF!,#REF!,$B19,#REF!,\">=30\",#REF!,\">\"&AC$3,#REF!,\"<=\"&Z$3)","v":{"$error":"#REF!"}},null,{"$error":"#REF!"},{"$error":"#REF!"},{"$error":"#REF!"}]
[" 서대문 Seodaemun-gu","서대문구",{"$error":"#REF!"},{"$error":"#REF!"},{"$error":"#REF!"},{"$f":"COUNTIFS(#REF!,$B20,#REF!,\">=30\",#REF!,\">\"&H$3,#REF!,\"<=\"&E$3)","v":{"$error":"#REF!"}},{"$f":"SUMIFS(#REF!,#REF!,$B20,#REF!,\">=30\",#REF!,\">\"&H$3,#REF!,\"<=\"&E$3)","v":{"$error":"#REF!"}},{"$f":"SUMIFS(#REF!,#REF!,$B20,#REF!,\">=30\",#REF!,\">\"&H$3,#REF!,\"<=\"&E$3)","v":{"$error":"#REF!"}},{"$f":"COUNTIFS(#REF!,$B20,#REF!,\">=30\",#REF!,\">\"&K$3,#REF!,\"<=\"&H$3)","v":{"$error":"#REF!"}},{"$f":"SUMIFS(#REF!,#REF!,$B20,#REF!,\">=30\",#REF!,\">\"&K$3,#REF!,\"<=\"&H$3)","v":{"$error":"#REF!"}},{"$f":"SUMIFS(#REF!,#REF!,$B20,#REF!,\">=30\",#REF!,\">\"&K$3,#REF!,\"<=\"&H$3)","v":{"$error":"#REF!"}},{"$f":"COUNTIFS(#REF!,$B20,#REF!,\">=30\",#REF!,\">\"&N$3,#REF!,\"<=\"&K$3)","v":{"$error":"#REF!"}},{"$f":"SUMIFS(#REF!,#REF!,$B20,#REF!,\">=30\",#REF!,\">\"&N$3,#REF!,\"<=\"&K$3)","v":{"$error":"#REF!"}},{"$f":"SUMIFS(#REF!,#REF!,$B20,#REF!,\">=30\",#REF!,\">\"&N$3,#REF!,\"<=\"&K$3)","v":{"$error":"#REF!"}},{"$f":"COUNTIFS(#REF!,$B20,#REF!,\">=30\",#REF!,\">\"&Q$3,#REF!,\"<=\"&N$3)","v":{"$error":"#REF!"}},{"$f":"SUMIFS(#REF!,#REF!,$B20,#REF!,\">=30\",#REF!,\">\"&Q$3,#REF!,\"<=\"&N$3)","v":{"$error":"#REF!"}},{"$f":"SUMIFS(#REF!,#REF!,$B20,#REF!,\">=30\",#REF!,\">\"&Q$3,#REF!,\"<=\"&N$3)","v":{"$error":"#REF!"}},{"$f":"COUNTIFS(#REF!,$B20,#REF!,\">=30\",#REF!,\">\"&T$3,#REF!,\"<=\"&Q$3)","v":{"$error":"#REF!"}},{"$f":"SUMIFS(#REF!,#REF!,$B20,#REF!,\">=30\",#REF!,\">\"&T$3,#REF!,\"<=\"&Q$3)","v":{"$error":"#REF!"}},{"$f":"SUMIFS(#REF!,#REF!,$B20,#REF!,\">=30\",#REF!,\">\"&T$3,#REF!,\"<=\"&Q$3)","v":{"$error":"#REF!"}},{"$f":"COUNTIFS(#REF!,$B20,#REF!,\">=30\",#REF!,\">\"&W$3,#REF!,\"<=\"&T$3)","v":{"$error":"#REF!"}},{"$f":"SUMIFS(#REF!,#REF!,$B20,#REF!,\">=30\",#REF!,\">\"&W$3,#REF!,\"<=\"&T$3)","v":{"$error":"#REF!"}},{"$f":"SUMIFS(#REF!,#REF!,$B20,#REF!,\">=30\",#REF!,\">\"&W$3,#REF!,\"<=\"&T$3)","v":{"$error":"#REF!"}},{"$f":"COUNTIFS(#REF!,$B20,#REF!,\">=30\",#REF!,\">\"&Z$3,#REF!,\"<=\"&W$3)","v":{"$error":"#REF!"}},{"$f":"SUMIFS(#REF!,#REF!,$B20,#REF!,\">=30\",#REF!,\">\"&Z$3,#REF!,\"<=\"&W$3)","v":{"$error":"#REF!"}},{"$f":"SUMIFS(#REF!,#REF!,$B20,#REF!,\">=30\",#REF!,\">\"&Z$3,#REF!,\"<=\"&W$3)","v":{"$error":"#REF!"}},{"$f":"COUNTIFS(#REF!,$B20,#REF!,\">=30\",#REF!,\">\"&AC$3,#REF!,\"<=\"&Z$3)","v":{"$error":"#REF!"}},{"$f":"SUMIFS(#REF!,#REF!,$B20,#REF!,\">=30\",#REF!,\">\"&AC$3,#REF!,\"<=\"&Z$3)","v":{"$error":"#REF!"}},{"$f":"SUMIFS(#REF!,#REF!,$B20,#REF!,\">=30\",#REF!,\">\"&AC$3,#REF!,\"<=\"&Z$3)","v":{"$error":"#REF!"}},null,{"$error":"#REF!"},{"$error":"#REF!"},{"$error":"#REF!"}]
[" 마   포 Mapo-gu","마포구",{"$error":"#REF!"},{"$error":"#REF!"},{"$error":"#REF!"},{"$f":"COUNTIFS(#REF!,$B21,#REF!,\">=30\",#REF!,\">\"&H$3,#REF!,\"<=\"&E$3)","v":{"$error":"#REF!"}},{"$f":"SUMIFS(#REF!,#REF!,$B21,#REF!,\">=30\",#REF!,\">\"&H$3,#REF!,\"<=\"&E$3)","v":{"$error":"#REF!"}},{"$f":"SUMIFS(#REF!,#REF!,$B21,#REF!,\">=30\",#REF!,\">\"&H$3,#REF!,\"<=\"&E$3)","v":{"$error":"#REF!"}},{"$f":"COUNTIFS(#REF!,$B21,#REF!,\">=30\",#REF!,\">\"&K$3,#REF!,\"<=\"&H$3)","v":{"$error":"#REF!"}},{"$f":"SUMIFS(#REF!,#REF!,$B21,#REF!,\">=30\",#REF!,\">\"&K$3,#REF!,\"<=\"&H$3)","v":{"$error":"#REF!"}},{"$f":"SUMIFS(#REF!,#REF!,$B21,#REF!,\">=30\",#REF!,\">\"&K$3,#REF!,\"<=\"&H$3)","v":{"$error":"#REF!"}},{"$f":"COUNTIFS(#REF!,$B21,#REF!,\">=30\",#REF!,\">\"&N$3,#REF!,\"<=\"&K$3)","v":{"$error":"#REF!"}},{"$f":"SUMIFS(#REF!,#REF!,$B21,#REF!,\">=30\",#REF!,\">\"&N$3,#REF!,\"<=\"&K$3)","v":{"$error":"#REF!"}},{"$f":"SUMIFS(#REF!,#REF!,$B21,#REF!,\">=30\",#REF!,\">\"&N$3,#REF!,\"<=\"&K$3)","v":{"$error":"#REF!"}},{"$f":"COUNTIFS(#REF!,$B21,#REF!,\">=30\",#REF!,\">\"&Q$3,#REF!,\"<=\"&N$3)","v":{"$error":"#REF!"}},{"$f":"SUMIFS(#REF!,#REF!,$B21,#REF!,\">=30\",#REF!,\">\"&Q$3,#REF!,\"<=\"&N$3)","v":{"$error":"#REF!"}},{"$f":"SUMIFS(#REF!,#REF!,$B21,#REF!,\">=30\",#REF!,\">\"&Q$3,#REF!,\"<=\"&N$3)","v":{"$error":"#REF!"}},{"$f":"COUNTIFS(#REF!,$B21,#REF!,\">=30\",#REF!,\">\"&T$3,#REF!,\"<=\"&Q$3)","v":{"$error":"#REF!"}},{"$f":"SUMIFS(#REF!,#REF!,$B21,#REF!,\">=30\",#REF!,\">\"&T$3,#REF!,\"<=\"&Q$3)","v":{"$error":"#REF!"}},{"$f":"SUMIFS(#REF!,#REF!,$B21,#REF!,\">=30\",#REF!,\">\"&T$3,#REF!,\"<=\"&Q$3)","v":{"$error":"#REF!"}},{"$f":"COUNTIFS(#REF!,$B21,#REF!,\">=30\",#REF!,\">\"&W$3,#REF!,\"<=\"&T$3)","v":{"$error":"#REF!"}},{"$f":"SUMIFS(#REF!,#REF!,$B21,#REF!,\">=30\",#REF!,\">\"&W$3,#REF!,\"<=\"&T$3)","v":{"$error":"#REF!"}},{"$f":"SUMIFS(#REF!,#REF!,$B21,#REF!,\">=30\",#REF!,\">\"&W$3,#REF!,\"<=\"&T$3)","v":{"$error":"#REF!"}},{"$f":"COUNTIFS(#REF!,$B21,#REF!,\">=30\",#REF!,\">\"&Z$3,#REF!,\"<=\"&W$3)","v":{"$error":"#REF!"}},{"$f":"SUMIFS(#REF!,#REF!,$B21,#REF!,\">=30\",#REF!,\">\"&Z$3,#REF!,\"<=\"&W$3)","v":{"$error":"#REF!"}},{"$f":"SUMIFS(#REF!,#REF!,$B21,#REF!,\">=30\",#REF!,\">\"&Z$3,#REF!,\"<=\"&W$3)","v":{"$error":"#REF!"}},{"$f":"COUNTIFS(#REF!,$B21,#REF!,\">=30\",#REF!,\">\"&AC$3,#REF!,\"<=\"&Z$3)","v":{"$error":"#REF!"}},{"$f":"SUMIFS(#REF!,#REF!,$B21,#REF!,\">=30\",#REF!,\">\"&AC$3,#REF!,\"<=\"&Z$3)","v":{"$error":"#REF!"}},{"$f":"SUMIFS(#REF!,#REF!,$B21,#REF!,\">=30\",#REF!,\">\"&AC$3,#REF!,\"<=\"&Z$3)","v":{"$error":"#REF!"}},null,{"$error":"#REF!"},{"$error":"#REF!"},{"$error":"#REF!"}]
[" 양   천 Yangcheon-gu","양천구",{"$error":"#REF!"},{"$error":"#REF!"},{"$error":"#REF!"},{"$f":"COUNTIFS(#REF!,$B22,#REF!,\">=30\",#REF!,\">\"&H$3,#REF!,\"<=\"&E$3)","v":{"$error":"#REF!"}},{"$f":"SUMIFS(#REF!,#REF!,$B22,#REF!,\">=30\",#REF!,\">\"&H$3,#REF!,\"<=\"&E$3)","v":{"$error":"#REF!"}},{"$f":"SUMIFS(#REF!,#REF!,$B22,#REF!,\">=30\",#REF!,\">\"&H$3,#REF!,\"<=\"&E$3)","v":{"$error":"#REF!"}},{"$f":"COUNTIFS(#REF!,$B22,#REF!,\">=30\",#REF!,\">\"&K$3,#REF!,\"<=\"&H$3)","v":{"$error":"#REF!"}},{"$f":"SUMIFS(#REF!,#REF!,$B22,#REF!,\">=30\",#REF!,\">\"&K$3,#REF!,\"<=\"&H$3)","v":{"$error":"#REF!"}},{"$f":"SUMIFS(#REF!,#REF!,$B22,#REF!,\">=30\",#REF!,\">\"&K$3,#REF!,\"<=\"&H$3)","v":{"$error":"#REF!"}},{"$f":"COUNTIFS(#REF!,$B22,#REF!,\">=30\",#REF!,\">\"&N$3,#REF!,\"<=\"&K$3)","v":{"$error":"#REF!"}},{"$f":"SUMIFS(#REF!,#REF!,$B22,#REF!,\">=30\",#REF!,\">\"&N$3,#REF!,\"<=\"&K$3)","v":{"$error":"#REF!"}},{"$f":"SUMIFS(#REF!,#REF!,$B22,#REF!,\">=30\",#REF!,\">\"&N$3,#REF!,\"<=\"&K$3)","v":{"$error":"#REF!"}},{"$f":"COUNTIFS(#REF!,$B22,#REF!,\">=30\",#REF!,\">\"&Q$3,#REF!,\"<=\"&N$3)","v":{"$error":"#REF!"}},{"$f":"SUMIFS(#REF!,#REF!,$B22,#REF!,\">=30\",#REF!,\">\"&Q$3,#REF!,\"<=\"&N$3)","v":{"$error":"#REF!"}},{"$f":"SUMIFS(#REF!,#REF!,$B22,#REF!,\">=30\",#REF!,\">\"&Q$3,#REF!,\"<=\"&N$3)","v":{"$error":"#REF!"}},{"$f":"COUNTIFS(#REF!,$B22,#REF!,\">=30\",#REF!,\">\"&T$3,#REF!,\"<=\"&Q$3)","v":{"$error":"#REF!"}},{"$f":"SUMIFS(#REF!,#REF!,$B22,#REF!,\">=30\",#REF!,\">\"&T$3,#REF!,\"<=\"&Q$3)","v":{"$error":"#REF!"}},{"$f":"SUMIFS(#REF!,#REF!,$B22,#REF!,\">=30\",#REF!,\">\"&T$3,#REF!,\"<=\"&Q$3)","v":{"$error":"#REF!"}},{"$f":"COUNTIFS(#REF!,$B22,#REF!,\">=30\",#REF!,\">\"&W$3,#REF!,\"<=\"&T$3)","v":{"$error":"#REF!"}},{"$f":"SUMIFS(#REF!,#REF!,$B22,#REF!,\">=30\",#REF!,\">\"&W$3,#REF!,\"<=\"&T$3)","v":{"$error":"#REF!"}},{"$f":"SUMIFS(#REF!,#REF!,$B22,#REF!,\">=30\",#REF!,\">\"&W$3,#REF!,\"<=\"&T$3)","v":{"$error":"#REF!"}},{"$f":"COUNTIFS(#REF!,$B22,#REF!,\">=30\",#REF!,\">\"&Z$3,#REF!,\"<=\"&W$3)","v":{"$error":"#REF!"}},{"$f":"SUMIFS(#REF!,#REF!,$B22,#REF!,\">=30\",#REF!,\">\"&Z$3,#REF!,\"<=\"&W$3)","v":{"$error":"#REF!"}},{"$f":"SUMIFS(#REF!,#REF!,$B22,#REF!,\">=30\",#REF!,\">\"&Z$3,#REF!,\"<=\"&W$3)","v":{"$error":"#REF!"}},{"$f":"COUNTIFS(#REF!,$B22,#REF!,\">=30\",#REF!,\">\"&AC$3,#REF!,\"<=\"&Z$3)","v":{"$error":"#REF!"}},{"$f":"SUMIFS(#REF!,#REF!,$B22,#REF!,\">=30\",#REF!,\">\"&AC$3,#REF!,\"<=\"&Z$3)","v":{"$error":"#REF!"}},{"$f":"SUMIFS(#REF!,#REF!,$B22,#REF!,\">=30\",#REF!,\">\"&AC$3,#REF!,\"<=\"&Z$3)","v":{"$error":"#REF!"}},null,{"$error":"#REF!"},{"$error":"#REF!"},{"$error":"#REF!"}]
[" 강   서 Gangseo-gu","강서구",{"$error":"#REF!"},{"$error":"#REF!"},{"$error":"#REF!"},{"$f":"COUNTIFS(#REF!,$B23,#REF!,\">=30\",#REF!,\">\"&H$3,#REF!,\"<=\"&E$3)","v":{"$error":"#REF!"}},{"$f":"SUMIFS(#REF!,#REF!,$B23,#REF!,\">=30\",#REF!,\">\"&H$3,#REF!,\"<=\"&E$3)","v":{"$error":"#REF!"}},{"$f":"SUMIFS(#REF!,#REF!,$B23,#REF!,\">=30\",#REF!,\">\"&H$3,#REF!,\"<=\"&E$3)","v":{"$error":"#REF!"}},{"$f":"COUNTIFS(#REF!,$B23,#REF!,\">=30\",#REF!,\">\"&K$3,#REF!,\"<=\"&H$3)","v":{"$error":"#REF!"}},{"$f":"SUMIFS(#REF!,#REF!,$B23,#REF!,\">=30\",#REF!,\">\"&K$3,#REF!,\"<=\"&H$3)","v":{"$error":"#REF!"}},{"$f":"SUMIFS(#REF!,#REF!,$B23,#REF!,\">=30\",#REF!,\">\"&K$3,#REF!,\"<=\"&H$3)","v":{"$error":"#REF!"}},{"$f":"COUNTIFS(#REF!,$B23,#REF!,\">=30\",#REF!,\">\"&N$3,#REF!,\"<=\"&K$3)","v":{"$error":"#REF!"}},{"$f":"SUMIFS(#REF!,#REF!,$B23,#REF!,\">=30\",#REF!,\">\"&N$3,#REF!,\"<=\"&K$3)","v":{"$error":"#REF!"}},{"$f":"SUMIFS(#REF!,#REF!,$B23,#REF!,\">=30\",#REF!,\">\"&N$3,#REF!,\"<=\"&K$3)","v":{"$error":"#REF!"}},{"$f":"COUNTIFS(#REF!,$B23,#REF!,\">=30\",#REF!,\">\"&Q$3,#REF!,\"<=\"&N$3)","v":{"$error":"#REF!"}},{"$f":"SUMIFS(#REF!,#REF!,$B23,#REF!,\">=30\",#REF!,\">\"&Q$3,#REF!,\"<=\"&N$3)","v":{"$error":"#REF!"}},{"$f":"SUMIFS(#REF!,#REF!,$B23,#REF!,\">=30\",#REF!,\">\"&Q$3,#REF!,\"<=\"&N$3)","v":{"$error":"#REF!"}},{"$f":"COUNTIFS(#REF!,$B23,#REF!,\">=30\",#REF!,\">\"&T$3,#REF!,\"<=\"&Q$3)","v":{"$error":"#REF!"}},{"$f":"SUMIFS(#REF!,#REF!,$B23,#REF!,\">=30\",#REF!,\">\"&T$3,#REF!,\"<=\"&Q$3)","v":{"$error":"#REF!"}},{"$f":"SUMIFS(#REF!,#REF!,$B23,#REF!,\">=30\",#REF!,\">\"&T$3,#REF!,\"<=\"&Q$3)","v":{"$error":"#REF!"}},{"$f":"COUNTIFS(#REF!,$B23,#REF!,\">=30\",#REF!,\">\"&W$3,#REF!,\"<=\"&T$3)","v":{"$error":"#REF!"}},{"$f":"SUMIFS(#REF!,#REF!,$B23,#REF!,\">=30\",#REF!,\">\"&W$3,#REF!,\"<=\"&T$3)","v":{"$error":"#REF!"}},{"$f":"SUMIFS(#REF!,#REF!,$B23,#REF!,\">=30\",#REF!,\">\"&W$3,#REF!,\"<=\"&T$3)","v":{"$error":"#REF!"}},{"$f":"COUNTIFS(#REF!,$B23,#REF!,\">=30\",#REF!,\">\"&Z$3,#REF!,\"<=\"&W$3)","v":{"$error":"#REF!"}},{"$f":"SUMIFS(#REF!,#REF!,$B23,#REF!,\">=30\",#REF!,\">\"&Z$3,#REF!,\"<=\"&W$3)","v":{"$error":"#REF!"}},{"$f":"SUMIFS(#REF!,#REF!,$B23,#REF!,\">=30\",#REF!,\">\"&Z$3,#REF!,\"<=\"&W$3)","v":{"$error":"#REF!"}},{"$f":"COUNTIFS(#REF!,$B23,#REF!,\">=30\",#REF!,\">\"&AC$3,#REF!,\"<=\"&Z$3)","v":{"$error":"#REF!"}},{"$f":"SUMIFS(#REF!,#REF!,$B23,#REF!,\">=30\",#REF!,\">\"&AC$3,#REF!,\"<=\"&Z$3)","v":{"$error":"#REF!"}},{"$f":"SUMIFS(#REF!,#REF!,$B23,#REF!,\">=30\",#REF!,\">\"&AC$3,#REF!,\"<=\"&Z$3)","v":{"$error":"#REF!"}},null,{"$error":"#REF!"},{"$error":"#REF!"},{"$error":"#REF!"}]
[" 구   로 Guro-gu","구로구",{"$error":"#REF!"},{"$error":"#REF!"},{"$error":"#REF!"},{"$f":"COUNTIFS(#REF!,$B24,#REF!,\">=30\",#REF!,\">\"&H$3,#REF!,\"<=\"&E$3)","v":{"$error":"#REF!"}},{"$f":"SUMIFS(#REF!,#REF!,$B24,#REF!,\">=30\",#REF!,\">\"&H$3,#REF!,\"<=\"&E$3)","v":{"$error":"#REF!"}},{"$f":"SUMIFS(#REF!,#REF!,$B24,#REF!,\">=30\",#REF!,\">\"&H$3,#REF!,\"<=\"&E$3)","v":{"$error":"#REF!"}},{"$f":"COUNTIFS(#REF!,$B24,#REF!,\">=30\",#REF!,\">\"&K$3,#REF!,\"<=\"&H$3)","v":{"$error":"#REF!"}},{"$f":"SUMIFS(#REF!,#REF!,$B24,#REF!,\">=30\",#REF!,\">\"&K$3,#REF!,\"<=\"&H$3)","v":{"$error":"#REF!"}},{"$f":"SUMIFS(#REF!,#REF!,$B24,#REF!,\">=30\",#REF!,\">\"&K$3,#REF!,\"<=\"&H$3)","v":{"$error":"#REF!"}},{"$f":"COUNTIFS(#REF!,$B24,#REF!,\">=30\",#REF!,\">\"&N$3,#REF!,\"<=\"&K$3)","v":{"$error":"#REF!"}},{"$f":"SUMIFS(#REF!,#REF!,$B24,#REF!,\">=30\",#REF!,\">\"&N$3,#REF!,\"<=\"&K$3)","v":{"$error":"#REF!"}},{"$f":"SUMIFS(#REF!,#REF!,$B24,#REF!,\">=30\",#REF!,\">\"&N$3,#REF!,\"<=\"&K$3)","v":{"$error":"#REF!"}},{"$f":"COUNTIFS(#REF!,$B24,#REF!,\">=30\",#REF!,\">\"&Q$3,#REF!,\"<=\"&N$3)","v":{"$error":"#REF!"}},{"$f":"SUMIFS(#REF!,#REF!,$B24,#REF!,\">=30\",#REF!,\">\"&Q$3,#REF!,\"<=\"&N$3)","v":{"$error":"#REF!"}},{"$f":"SUMIFS(#REF!,#REF!,$B24,#REF!,\">=30\",#REF!,\">\"&Q$3,#REF!,\"<=\"&N$3)","v":{"$error":"#REF!"}},{"$f":"COUNTIFS(#REF!,$B24,#REF!,\">=30\",#REF!,\">\"&T$3,#REF!,\"<=\"&Q$3)","v":{"$error":"#REF!"}},{"$f":"SUMIFS(#REF!,#REF!,$B24,#REF!,\">=30\",#REF!,\">\"&T$3,#REF!,\"<=\"&Q$3)","v":{"$error":"#REF!"}},{"$f":"SUMIFS(#REF!,#REF!,$B24,#REF!,\">=30\",#REF!,\">\"&T$3,#REF!,\"<=\"&Q$3)","v":{"$error":"#REF!"}},{"$f":"COUNTIFS(#REF!,$B24,#REF!,\">=30\",#REF!,\">\"&W$3,#REF!,\"<=\"&T$3)","v":{"$error":"#REF!"}},{"$f":"SUMIFS(#REF!,#REF!,$B24,#REF!,\">=30\",#REF!,\">\"&W$3,#REF!,\"<=\"&T$3)","v":{"$error":"#REF!"}},{"$f":"SUMIFS(#REF!,#REF!,$B24,#REF!,\">=30\",#REF!,\">\"&W$3,#REF!,\"<=\"&T$3)","v":{"$error":"#REF!"}},{"$f":"COUNTIFS(#REF!,$B24,#REF!,\">=30\",#REF!,\">\"&Z$3,#REF!,\"<=\"&W$3)","v":{"$error":"#REF!"}},{"$f":"SUMIFS(#REF!,#REF!,$B24,#REF!,\">=30\",#REF!,\">\"&Z$3,#REF!,\"<=\"&W$3)","v":{"$error":"#REF!"}},{"$f":"SUMIFS(#REF!,#REF!,$B24,#REF!,\">=30\",#REF!,\">\"&Z$3,#REF!,\"<=\"&W$3)","v":{"$error":"#REF!"}},{"$f":"COUNTIFS(#REF!,$B24,#REF!,\">=30\",#REF!,\">\"&AC$3,#REF!,\"<=\"&Z$3)","v":{"$error":"#REF!"}},{"$f":"SUMIFS(#REF!,#REF!,$B24,#REF!,\">=30\",#REF!,\">\"&AC$3,#REF!,\"<=\"&Z$3)","v":{"$error":"#REF!"}},{"$f":"SUMIFS(#REF!,#REF!,$B24,#REF!,\">=30\",#REF!,\">\"&AC$3,#REF!,\"<=\"&Z$3)","v":{"$error":"#REF!"}},null,{"$error":"#REF!"},{"$error":"#REF!"},{"$error":"#REF!"}]
[" 금   천 Geumcheon-gu","금천구",{"$error":"#REF!"},{"$error":"#REF!"},{"$error":"#REF!"},{"$f":"COUNTIFS(#REF!,$B25,#REF!,\">=30\",#REF!,\">\"&H$3,#REF!,\"<=\"&E$3)","v":{"$error":"#REF!"}},{"$f":"SUMIFS(#REF!,#REF!,$B25,#REF!,\">=30\",#REF!,\">\"&H$3,#REF!,\"<=\"&E$3)","v":{"$error":"#REF!"}},{"$f":"SUMIFS(#REF!,#REF!,$B25,#REF!,\">=30\",#REF!,\">\"&H$3,#REF!,\"<=\"&E$3)","v":{"$error":"#REF!"}},{"$f":"COUNTIFS(#REF!,$B25,#REF!,\">=30\",#REF!,\">\"&K$3,#REF!,\"<=\"&H$3)","v":{"$error":"#REF!"}},{"$f":"SUMIFS(#REF!,#REF!,$B25,#REF!,\">=30\",#REF!,\">\"&K$3,#REF!,\"<=\"&H$3)","v":{"$error":"#REF!"}},{"$f":"SUMIFS(#REF!,#REF!,$B25,#REF!,\">=30\",#REF!,\">\"&K$3,#REF!,\"<=\"&H$3)","v":{"$error":"#REF!"}},{"$f":"COUNTIFS(#REF!,$B25,#REF!,\">=30\",#REF!,\">\"&N$3,#REF!,\"<=\"&K$3)","v":{"$error":"#REF!"}},{"$f":"SUMIFS(#REF!,#REF!,$B25,#REF!,\">=30\",#REF!,\">\"&N$3,#REF!,\"<=\"&K$3)","v":{"$error":"#REF!"}},{"$f":"SUMIFS(#REF!,#REF!,$B25,#REF!,\">=30\",#REF!,\">\"&N$3,#REF!,\"<=\"&K$3)","v":{"$error":"#REF!"}},{"$f":"COUNTIFS(#REF!,$B25,#REF!,\">=30\",#REF!,\">\"&Q$3,#REF!,\"<=\"&N$3)","v":{"$error":"#REF!"}},{"$f":"SUMIFS(#REF!,#REF!,$B25,#REF!,\">=30\",#REF!,\">\"&Q$3,#REF!,\"<=\"&N$3)","v":{"$error":"#REF!"}},{"$f":"SUMIFS(#REF!,#REF!,$B25,#REF!,\">=30\",#REF!,\">\"&Q$3,#REF!,\"<=\"&N$3)","v":{"$error":"#REF!"}},{"$f":"COUNTIFS(#REF!,$B25,#REF!,\">=30\",#REF!,\">\"&T$3,#REF!,\"<=\"&Q$3)","v":{"$error":"#REF!"}},{"$f":"SUMIFS(#REF!,#REF!,$B25,#REF!,\">=30\",#REF!,\">\"&T$3,#REF!,\"<=\"&Q$3)","v":{"$error":"#REF!"}},{"$f":"SUMIFS(#REF!,#REF!,$B25,#REF!,\">=30\",#REF!,\">\"&T$3,#REF!,\"<=\"&Q$3)","v":{"$error":"#REF!"}},{"$f":"COUNTIFS(#REF!,$B25,#REF!,\">=30\",#REF!,\">\"&W$3,#REF!,\"<=\"&T$3)","v":{"$error":"#REF!"}},{"$f":"SUMIFS(#REF!,#REF!,$B25,#REF!,\">=30\",#REF!,\">\"&W$3,#REF!,\"<=\"&T$3)","v":{"$error":"#REF!"}},{"$f":"SUMIFS(#REF!,#REF!,$B25,#REF!,\">=30\",#REF!,\">\"&W$3,#REF!,\"<=\"&T$3)","v":{"$error":"#REF!"}},{"$f":"COUNTIFS(#REF!,$B25,#REF!,\">=30\",#REF!,\">\"&Z$3,#REF!,\"<=\"&W$3)","v":{"$error":"#REF!"}},{"$f":"SUMIFS(#REF!,#REF!,$B25,#REF!,\">=30\",#REF!,\">\"&Z$3,#REF!,\"<=\"&W$3)","v":{"$error":"#REF!"}},{"$f":"SUMIFS(#REF!,#REF!,$B25,#REF!,\">=30\",#REF!,\">\"&Z$3,#REF!,\"<=\"&W$3)","v":{"$error":"#REF!"}},{"$f":"COUNTIFS(#REF!,$B25,#REF!,\">=30\",#REF!,\">\"&AC$3,#REF!,\"<=\"&Z$3)","v":{"$error":"#REF!"}},{"$f":"SUMIFS(#REF!,#REF!,$B25,#REF!,\">=30\",#REF!,\">\"&AC$3,#REF!,\"<=\"&Z$3)","v":{"$error":"#REF!"}},{"$f":"SUMIFS(#REF!,#REF!,$B25,#REF!,\">=30\",#REF!,\">\"&AC$3,#REF!,\"<=\"&Z$3)","v":{"$error":"#REF!"}},null,{"$error":"#REF!"},{"$error":"#REF!"},{"$error":"#REF!"}]
[" 영등포 Yeongdeungpo-gu","영등포구",{"$error":"#REF!"},{"$error":"#REF!"},{"$error":"#REF!"},{"$f":"COUNTIFS(#REF!,$B26,#REF!,\">=30\",#REF!,\">\"&H$3,#REF!,\"<=\"&E$3)","v":{"$error":"#REF!"}},{"$f":"SUMIFS(#REF!,#REF!,$B26,#REF!,\">=30\",#REF!,\">\"&H$3,#REF!,\"<=\"&E$3)","v":{"$error":"#REF!"}},{"$f":"SUMIFS(#REF!,#REF!,$B26,#REF!,\">=30\",#REF!,\">\"&H$3,#REF!,\"<=\"&E$3)","v":{"$error":"#REF!"}},{"$f":"COUNTIFS(#REF!,$B26,#REF!,\">=30\",#REF!,\">\"&K$3,#REF!,\"<=\"&H$3)","v":{"$error":"#REF!"}},{"$f":"SUMIFS(#REF!,#REF!,$B26,#REF!,\">=30\",#REF!,\">\"&K$3,#REF!,\"<=\"&H$3)","v":{"$error":"#REF!"}},{"$f":"SUMIFS(#REF!,#REF!,$B26,#REF!,\">=30\",#REF!,\">\"&K$3,#REF!,\"<=\"&H$3)","v":{"$error":"#REF!"}},{"$f":"COUNTIFS(#REF!,$B26,#REF!,\">=30\",#REF!,\">\"&N$3,#REF!,\"<=\"&K$3)","v":{"$error":"#REF!"}},{"$f":"SUMIFS(#REF!,#REF!,$B26,#REF!,\">=30\",#REF!,\">\"&N$3,#REF!,\"<=\"&K$3)","v":{"$error":"#REF!"}},{"$f":"SUMIFS(#REF!,#REF!,$B26,#REF!,\">=30\",#REF!,\">\"&N$3,#REF!,\"<=\"&K$3)","v":{"$error":"#REF!"}},{"$f":"COUNTIFS(#REF!,$B26,#REF!,\">=30\",#REF!,\">\"&Q$3,#REF!,\"<=\"&N$3)","v":{"$error":"#REF!"}},{"$f":"SUMIFS(#REF!,#REF!,$B26,#REF!,\">=30\",#REF!,\">\"&Q$3,#REF!,\"<=\"&N$3)","v":{"$error":"#REF!"}},{"$f":"SUMIFS(#REF!,#REF!,$B26,#REF!,\">=30\",#REF!,\">\"&Q$3,#REF!,\"<=\"&N$3)","v":{"$error":"#REF!"}},{"$f":"COUNTIFS(#REF!,$B26,#REF!,\">=30\",#REF!,\">\"&T$3,#REF!,\"<=\"&Q$3)","v":{"$error":"#REF!"}},{"$f":"SUMIFS(#REF!,#REF!,$B26,#REF!,\">=30\",#REF!,\">\"&T$3,#REF!,\"<=\"&Q$3)","v":{"$error":"#REF!"}},{"$f":"SUMIFS(#REF!,#REF!,$B26,#REF!,\">=30\",#REF!,\">\"&T$3,#REF!,\"<=\"&Q$3)","v":{"$error":"#REF!"}},{"$f":"COUNTIFS(#REF!,$B26,#REF!,\">=30\",#REF!,\">\"&W$3,#REF!,\"<=\"&T$3)","v":{"$error":"#REF!"}},{"$f":"SUMIFS(#REF!,#REF!,$B26,#REF!,\">=30\",#REF!,\">\"&W$3,#REF!,\"<=\"&T$3)","v":{"$error":"#REF!"}},{"$f":"SUMIFS(#REF!,#REF!,$B26,#REF!,\">=30\",#REF!,\">\"&W$3,#REF!,\"<=\"&T$3)","v":{"$error":"#REF!"}},{"$f":"COUNTIFS(#REF!,$B26,#REF!,\">=30\",#REF!,\">\"&Z$3,#REF!,\"<=\"&W$3)","v":{"$error":"#REF!"}},{"$f":"SUMIFS(#REF!,#REF!,$B26,#REF!,\">=30\",#REF!,\">\"&Z$3,#REF!,\"<=\"&W$3)","v":{"$error":"#REF!"}},{"$f":"SUMIFS(#REF!,#REF!,$B26,#REF!,\">=30\",#REF!,\">\"&Z$3,#REF!,\"<=\"&W$3)","v":{"$error":"#REF!"}},{"$f":"COUNTIFS(#REF!,$B26,#REF!,\">=30\",#REF!,\">\"&AC$3,#REF!,\"<=\"&Z$3)","v":{"$error":"#REF!"}},{"$f":"SUMIFS(#REF!,#REF!,$B26,#REF!,\">=30\",#REF!,\">\"&AC$3,#REF!,\"<=\"&Z$3)","v":{"$error":"#REF!"}},{"$f":"SUMIFS(#REF!,#REF!,$B26,#REF!,\">=30\",#REF!,\">\"&AC$3,#REF!,\"<=\"&Z$3)","v":{"$error":"#REF!"}},null,{"$error":"#REF!"},{"$error":"#REF!"},{"$error":"#REF!"}]
[" 동   작 Dongjak-gu","동작구",{"$error":"#REF!"},{"$error":"#REF!"},{"$error":"#REF!"},{"$f":"COUNTIFS(#REF!,$B27,#REF!,\">=30\",#REF!,\">\"&H$3,#REF!,\"<=\"&E$3)","v":{"$error":"#REF!"}},{"$f":"SUMIFS(#REF!,#REF!,$B27,#REF!,\">=30\",#REF!,\">\"&H$3,#REF!,\"<=\"&E$3)","v":{"$error":"#REF!"}},{"$f":"SUMIFS(#REF!,#REF!,$B27,#REF!,\">=30\",#REF!,\">\"&H$3,#REF!,\"<=\"&E$3)","v":{"$error":"#REF!"}},{"$f":"COUNTIFS(#REF!,$B27,#REF!,\">=30\",#REF!,\">\"&K$3,#REF!,\"<=\"&H$3)","v":{"$error":"#REF!"}},{"$f":"SUMIFS(#REF!,#REF!,$B27,#REF!,\">=30\",#REF!,\">\"&K$3,#REF!,\"<=\"&H$3)","v":{"$error":"#REF!"}},{"$f":"SUMIFS(#REF!,#REF!,$B27,#REF!,\">=30\",#REF!,\">\"&K$3,#REF!,\"<=\"&H$3)","v":{"$error":"#REF!"}},{"$f":"COUNTIFS(#REF!,$B27,#REF!,\">=30\",#REF!,\">\"&N$3,#REF!,\"<=\"&K$3)","v":{"$error":"#REF!"}},{"$f":"SUMIFS(#REF!,#REF!,$B27,#REF!,\">=30\",#REF!,\">\"&N$3,#REF!,\"<=\"&K$3)","v":{"$error":"#REF!"}},{"$f":"SUMIFS(#REF!,#REF!,$B27,#REF!,\">=30\",#REF!,\">\"&N$3,#REF!,\"<=\"&K$3)","v":{"$error":"#REF!"}},{"$f":"COUNTIFS(#REF!,$B27,#REF!,\">=30\",#REF!,\">\"&Q$3,#REF!,\"<=\"&N$3)","v":{"$error":"#REF!"}},{"$f":"SUMIFS(#REF!,#REF!,$B27,#REF!,\">=30\",#REF!,\">\"&Q$3,#REF!,\"<=\"&N$3)","v":{"$error":"#REF!"}},{"$f":"SUMIFS(#REF!,#REF!,$B27,#REF!,\">=30\",#REF!,\">\"&Q$3,#REF!,\"<=\"&N$3)","v":{"$error":"#REF!"}},{"$f":"COUNTIFS(#REF!,$B27,#REF!,\">=30\",#REF!,\">\"&T$3,#REF!,\"<=\"&Q$3)","v":{"$error":"#REF!"}},{"$f":"SUMIFS(#REF!,#REF!,$B27,#REF!,\">=30\",#REF!,\">\"&T$3,#REF!,\"<=\"&Q$3)","v":{"$error":"#REF!"}},{"$f":"SUMIFS(#REF!,#REF!,$B27,#REF!,\">=30\",#REF!,\">\"&T$3,#REF!,\"<=\"&Q$3)","v":{"$error":"#REF!"}},{"$f":"COUNTIFS(#REF!,$B27,#REF!,\">=30\",#REF!,\">\"&W$3,#REF!,\"<=\"&T$3)","v":{"$error":"#REF!"}},{"$f":"SUMIFS(#REF!,#REF!,$B27,#REF!,\">=30\",#REF!,\">\"&W$3,#REF!,\"<=\"&T$3)","v":{"$error":"#REF!"}},{"$f":"SUMIFS(#REF!,#REF!,$B27,#REF!,\">=30\",#REF!,\">\"&W$3,#REF!,\"<=\"&T$3)","v":{"$error":"#REF!"}},{"$f":"COUNTIFS(#REF!,$B27,#REF!,\">=30\",#REF!,\">\"&Z$3,#REF!,\"<=\"&W$3)","v":{"$error":"#REF!"}},{"$f":"SUMIFS(#REF!,#REF!,$B27,#REF!,\">=30\",#REF!,\">\"&Z$3,#REF!,\"<=\"&W$3)","v":{"$error":"#REF!"}},{"$f":"SUMIFS(#REF!,#REF!,$B27,#REF!,\">=30\",#REF!,\">\"&Z$3,#REF!,\"<=\"&W$3)","v":{"$error":"#REF!"}},{"$f":"COUNTIFS(#REF!,$B27,#REF!,\">=30\",#REF!,\">\"&AC$3,#REF!,\"<=\"&Z$3)","v":{"$error":"#REF!"}},{"$f":"SUMIFS(#REF!,#REF!,$B27,#REF!,\">=30\",#REF!,\">\"&AC$3,#REF!,\"<=\"&Z$3)","v":{"$error":"#REF!"}},{"$f":"SUMIFS(#REF!,#REF!,$B27,#REF!,\">=30\",#REF!,\">\"&AC$3,#REF!,\"<=\"&Z$3)","v":{"$error":"#REF!"}},null,{"$error":"#REF!"},{"$error":"#REF!"},{"$error":"#REF!"}]
[" 관   악 Gwanak-gu","관악구",{"$error":"#REF!"},{"$error":"#REF!"},{"$error":"#REF!"},{"$f":"COUNTIFS(#REF!,$B28,#REF!,\">=30\",#REF!,\">\"&H$3,#REF!,\"<=\"&E$3)","v":{"$error":"#REF!"}},{"$f":"SUMIFS(#REF!,#REF!,$B28,#REF!,\">=30\",#REF!,\">\"&H$3,#REF!,\"<=\"&E$3)","v":{"$error":"#REF!"}},{"$f":"SUMIFS(#REF!,#REF!,$B28,#REF!,\">=30\",#REF!,\">\"&H$3,#REF!,\"<=\"&E$3)","v":{"$error":"#REF!"}},{"$f":"COUNTIFS(#REF!,$B28,#REF!,\">=30\",#REF!,\">\"&K$3,#REF!,\"<=\"&H$3)","v":{"$error":"#REF!"}},{"$f":"SUMIFS(#REF!,#REF!,$B28,#REF!,\">=30\",#REF!,\">\"&K$3,#REF!,\"<=\"&H$3)","v":{"$error":"#REF!"}},{"$f":"SUMIFS(#REF!,#REF!,$B28,#REF!,\">=30\",#REF!,\">\"&K$3,#REF!,\"<=\"&H$3)","v":{"$error":"#REF!"}},{"$f":"COUNTIFS(#REF!,$B28,#REF!,\">=30\",#REF!,\">\"&N$3,#REF!,\"<=\"&K$3)","v":{"$error":"#REF!"}},{"$f":"SUMIFS(#REF!,#REF!,$B28,#REF!,\">=30\",#REF!,\">\"&N$3,#REF!,\"<=\"&K$3)","v":{"$error":"#REF!"}},{"$f":"SUMIFS(#REF!,#REF!,$B28,#REF!,\">=30\",#REF!,\">\"&N$3,#REF!,\"<=\"&K$3)","v":{"$error":"#REF!"}},{"$f":"COUNTIFS(#REF!,$B28,#REF!,\">=30\",#REF!,\">\"&Q$3,#REF!,\"<=\"&N$3)","v":{"$error":"#REF!"}},{"$f":"SUMIFS(#REF!,#REF!,$B28,#REF!,\">=30\",#REF!,\">\"&Q$3,#REF!,\"<=\"&N$3)","v":{"$error":"#REF!"}},{"$f":"SUMIFS(#REF!,#REF!,$B28,#REF!,\">=30\",#REF!,\">\"&Q$3,#REF!,\"<=\"&N$3)","v":{"$error":"#REF!"}},{"$f":"COUNTIFS(#REF!,$B28,#REF!,\">=30\",#REF!,\">\"&T$3,#REF!,\"<=\"&Q$3)","v":{"$error":"#REF!"}},{"$f":"SUMIFS(#REF!,#REF!,$B28,#REF!,\">=30\",#REF!,\">\"&T$3,#REF!,\"<=\"&Q$3)","v":{"$error":"#REF!"}},{"$f":"SUMIFS(#REF!,#REF!,$B28,#REF!,\">=30\",#REF!,\">\"&T$3,#REF!,\"<=\"&Q$3)","v":{"$error":"#REF!"}},{"$f":"COUNTIFS(#REF!,$B28,#REF!,\">=30\",#REF!,\">\"&W$3,#REF!,\"<=\"&T$3)","v":{"$error":"#REF!"}},{"$f":"SUMIFS(#REF!,#REF!,$B28,#REF!,\">=30\",#REF!,\">\"&W$3,#REF!,\"<=\"&T$3)","v":{"$error":"#REF!"}},{"$f":"SUMIFS(#REF!,#REF!,$B28,#REF!,\">=30\",#REF!,\">\"&W$3,#REF!,\"<=\"&T$3)","v":{"$error":"#REF!"}},{"$f":"COUNTIFS(#REF!,$B28,#REF!,\">=30\",#REF!,\">\"&Z$3,#REF!,\"<=\"&W$3)","v":{"$error":"#REF!"}},{"$f":"SUMIFS(#REF!,#REF!,$B28,#REF!,\">=30\",#REF!,\">\"&Z$3,#REF!,\"<=\"&W$3)","v":{"$error":"#REF!"}},{"$f":"SUMIFS(#REF!,#REF!,$B28,#REF!,\">=30\",#REF!,\">\"&Z$3,#REF!,\"<=\"&W$3)","v":{"$error":"#REF!"}},{"$f":"COUNTIFS(#REF!,$B28,#REF!,\">=30\",#REF!,\">\"&AC$3,#REF!,\"<=\"&Z$3)","v":{"$error":"#REF!"}},{"$f":"SUMIFS(#REF!,#REF!,$B28,#REF!,\">=30\",#REF!,\">\"&AC$3,#REF!,\"<=\"&Z$3)","v":{"$error":"#REF!"}},{"$f":"SUMIFS(#REF!,#REF!,$B28,#REF!,\">=30\",#REF!,\">\"&AC$3,#REF!,\"<=\"&Z$3)","v":{"$error":"#REF!"}},null,{"$error":"#REF!"},{"$error":"#REF!"},{"$error":"#REF!"}]
[" 서   초 Seocho-gu","서초구",{"$error":"#REF!"},{"$error":"#REF!"},{"$error":"#REF!"},{"$f":"COUNTIFS(#REF!,$B29,#REF!,\">=30\",#REF!,\">\"&H$3,#REF!,\"<=\"&E$3)","v":{"$error":"#REF!"}},{"$f":"SUMIFS(#REF!,#REF!,$B29,#REF!,\">=30\",#REF!,\">\"&H$3,#REF!,\"<=\"&E$3)","v":{"$error":"#REF!"}},{"$f":"SUMIFS(#REF!,#REF!,$B29,#REF!,\">=30\",#REF!,\">\"&H$3,#REF!,\"<=\"&E$3)","v":{"$error":"#REF!"}},{"$f":"COUNTIFS(#REF!,$B29,#REF!,\">=30\",#REF!,\">\"&K$3,#REF!,\"<=\"&H$3)","v":{"$error":"#REF!"}},{"$f":"SUMIFS(#REF!,#REF!,$B29,#REF!,\">=30\",#REF!,\">\"&K$3,#REF!,\"<=\"&H$3)","v":{"$error":"#REF!"}},{"$f":"SUMIFS(#REF!,#REF!,$B29,#REF!,\">=30\",#REF!,\">\"&K$3,#REF!,\"<=\"&H$3)","v":{"$error":"#REF!"}},{"$f":"COUNTIFS(#REF!,$B29,#REF!,\">=30\",#REF!,\">\"&N$3,#REF!,\"<=\"&K$3)","v":{"$error":"#REF!"}},{"$f":"SUMIFS(#REF!,#REF!,$B29,#REF!,\">=30\",#REF!,\">\"&N$3,#REF!,\"<=\"&K$3)","v":{"$error":"#REF!"}},{"$f":"SUMIFS(#REF!,#REF!,$B29,#REF!,\">=30\",#REF!,\">\"&N$3,#REF!,\"<=\"&K$3)","v":{"$error":"#REF!"}},{"$f":"COUNTIFS(#REF!,$B29,#REF!,\">=30\",#REF!,\">\"&Q$3,#REF!,\"<=\"&N$3)","v":{"$error":"#REF!"}},{"$f":"SUMIFS(#REF!,#REF!,$B29,#REF!,\">=30\",#REF!,\">\"&Q$3,#REF!,\"<=\"&N$3)","v":{"$error":"#REF!"}},{"$f":"SUMIFS(#REF!,#REF!,$B29,#REF!,\">=30\",#REF!,\">\"&Q$3,#REF!,\"<=\"&N$3)","v":{"$error":"#REF!"}},{"$f":"COUNTIFS(#REF!,$B29,#REF!,\">=30\",#REF!,\">\"&T$3,#REF!,\"<=\"&Q$3)","v":{"$error":"#REF!"}},{"$f":"SUMIFS(#REF!,#REF!,$B29,#REF!,\">=30\",#REF!,\">\"&T$3,#REF!,\"<=\"&Q$3)","v":{"$error":"#REF!"}},{"$f":"SUMIFS(#REF!,#REF!,$B29,#REF!,\">=30\",#REF!,\">\"&T$3,#REF!,\"<=\"&Q$3)","v":{"$error":"#REF!"}},{"$f":"COUNTIFS(#REF!,$B29,#REF!,\">=30\",#REF!,\">\"&W$3,#REF!,\"<=\"&T$3)","v":{"$error":"#REF!"}},{"$f":"SUMIFS(#REF!,#REF!,$B29,#REF!,\">=30\",#REF!,\">\"&W$3,#REF!,\"<=\"&T$3)","v":{"$error":"#REF!"}},{"$f":"SUMIFS(#REF!,#REF!,$B29,#REF!,\">=30\",#REF!,\">\"&W$3,#REF!,\"<=\"&T$3)","v":{"$error":"#REF!"}},{"$f":"COUNTIFS(#REF!,$B29,#REF!,\">=30\",#REF!,\">\"&Z$3,#REF!,\"<=\"&W$3)","v":{"$error":"#REF!"}},{"$f":"SUMIFS(#REF!,#REF!,$B29,#REF!,\">=30\",#REF!,\">\"&Z$3,#REF!,\"<=\"&W$3)","v":{"$error":"#REF!"}},{"$f":"SUMIFS(#REF!,#REF!,$B29,#REF!,\">=30\",#REF!,\">\"&Z$3,#REF!,\"<=\"&W$3)","v":{"$error":"#REF!"}},{"$f":"COUNTIFS(#REF!,$B29,#REF!,\">=30\",#REF!,\">\"&AC$3,#REF!,\"<=\"&Z$3)","v":{"$error":"#REF!"}},{"$f":"SUMIFS(#REF!,#REF!,$B29,#REF!,\">=30\",#REF!,\">\"&AC$3,#REF!,\"<=\"&Z$3)","v":{"$error":"#REF!"}},{"$f":"SUMIFS(#REF!,#REF!,$B29,#REF!,\">=30\",#REF!,\">\"&AC$3,#REF!,\"<=\"&Z$3)","v":{"$error":"#REF!"}},null,{"$error":"#REF!"},{"$error":"#REF!"},{"$error":"#REF!"}]
[" 강   남 Gangnam-gu","강남구",{"$error":"#REF!"},{"$error":"#REF!"},{"$error":"#REF!"},{"$f":"COUNTIFS(#REF!,$B30,#REF!,\">=30\",#REF!,\">\"&H$3,#REF!,\"<=\"&E$3)","v":{"$error":"#REF!"}},{"$f":"SUMIFS(#REF!,#REF!,$B30,#REF!,\">=30\",#REF!,\">\"&H$3,#REF!,\"<=\"&E$3)","v":{"$error":"#REF!"}},{"$f":"SUMIFS(#REF!,#REF!,$B30,#REF!,\">=30\",#REF!,\">\"&H$3,#REF!,\"<=\"&E$3)","v":{"$error":"#REF!"}},{"$f":"COUNTIFS(#REF!,$B30,#REF!,\">=30\",#REF!,\">\"&K$3,#REF!,\"<=\"&H$3)","v":{"$error":"#REF!"}},{"$f":"SUMIFS(#REF!,#REF!,$B30,#REF!,\">=30\",#REF!,\">\"&K$3,#REF!,\"<=\"&H$3)","v":{"$error":"#REF!"}},{"$f":"SUMIFS(#REF!,#REF!,$B30,#REF!,\">=30\",#REF!,\">\"&K$3,#REF!,\"<=\"&H$3)","v":{"$error":"#REF!"}},{"$f":"COUNTIFS(#REF!,$B30,#REF!,\">=30\",#REF!,\">\"&N$3,#REF!,\"<=\"&K$3)","v":{"$error":"#REF!"}},{"$f":"SUMIFS(#REF!,#REF!,$B30,#REF!,\">=30\",#REF!,\">\"&N$3,#REF!,\"<=\"&K$3)","v":{"$error":"#REF!"}},{"$f":"SUMIFS(#REF!,#REF!,$B30,#REF!,\">=30\",#REF!,\">\"&N$3,#REF!,\"<=\"&K$3)","v":{"$error":"#REF!"}},{"$f":"COUNTIFS(#REF!,$B30,#REF!,\">=30\",#REF!,\">\"&Q$3,#REF!,\"<=\"&N$3)","v":{"$error":"#REF!"}},{"$f":"SUMIFS(#REF!,#REF!,$B30,#REF!,\">=30\",#REF!,\">\"&Q$3,#REF!,\"<=\"&N$3)","v":{"$error":"#REF!"}},{"$f":"SUMIFS(#REF!,#REF!,$B30,#REF!,\">=30\",#REF!,\">\"&Q$3,#REF!,\"<=\"&N$3)","v":{"$error":"#REF!"}},{"$f":"COUNTIFS(#REF!,$B30,#REF!,\">=30\",#REF!,\">\"&T$3,#REF!,\"<=\"&Q$3)","v":{"$error":"#REF!"}},{"$f":"SUMIFS(#REF!,#REF!,$B30,#REF!,\">=30\",#REF!,\">\"&T$3,#REF!,\"<=\"&Q$3)","v":{"$error":"#REF!"}},{"$f":"SUMIFS(#REF!,#REF!,$B30,#REF!,\">=30\",#REF!,\">\"&T$3,#REF!,\"<=\"&Q$3)","v":{"$error":"#REF!"}},{"$f":"COUNTIFS(#REF!,$B30,#REF!,\">=30\",#REF!,\">\"&W$3,#REF!,\"<=\"&T$3)","v":{"$error":"#REF!"}},{"$f":"SUMIFS(#REF!,#REF!,$B30,#REF!,\">=30\",#REF!,\">\"&W$3,#REF!,\"<=\"&T$3)","v":{"$error":"#REF!"}},{"$f":"SUMIFS(#REF!,#REF!,$B30,#REF!,\">=30\",#REF!,\">\"&W$3,#REF!,\"<=\"&T$3)","v":{"$error":"#REF!"}},{"$f":"COUNTIFS(#REF!,$B30,#REF!,\">=30\",#REF!,\">\"&Z$3,#REF!,\"<=\"&W$3)","v":{"$error":"#REF!"}},{"$f":"SUMIFS(#REF!,#REF!,$B30,#REF!,\">=30\",#REF!,\">\"&Z$3,#REF!,\"<=\"&W$3)","v":{"$error":"#REF!"}},{"$f":"SUMIFS(#REF!,#REF!,$B30,#REF!,\">=30\",#REF!,\">\"&Z$3,#REF!,\"<=\"&W$3)","v":{"$error":"#REF!"}},{"$f":"COUNTIFS(#REF!,$B30,#REF!,\">=30\",#REF!,\">\"&AC$3,#REF!,\"<=\"&Z$3)","v":{"$error":"#REF!"}},{"$f":"SUMIFS(#REF!,#REF!,$B30,#REF!,\">=30\",#REF!,\">\"&AC$3,#REF!,\"<=\"&Z$3)","v":{"$error":"#REF!"}},{"$f":"SUMIFS(#REF!,#REF!,$B30,#REF!,\">=30\",#REF!,\">\"&AC$3,#REF!,\"<=\"&Z$3)","v":{"$error":"#REF!"}},null,{"$error":"#REF!"},{"$error":"#REF!"},{"$error":"#REF!"}]
[" 송   파 Songpa-gu","송파구",{"$error":"#REF!"},{"$error":"#REF!"},{"$error":"#REF!"},{"$f":"COUNTIFS(#REF!,$B31,#REF!,\">=30\",#REF!,\">\"&H$3,#REF!,\"<=\"&E$3)","v":{"$error":"#REF!"}},{"$f":"SUMIFS(#REF!,#REF!,$B31,#REF!,\">=30\",#REF!,\">\"&H$3,#REF!,\"<=\"&E$3)","v":{"$error":"#REF!"}},{"$f":"SUMIFS(#REF!,#REF!,$B31,#REF!,\">=30\",#REF!,\">\"&H$3,#REF!,\"<=\"&E$3)","v":{"$error":"#REF!"}},{"$f":"COUNTIFS(#REF!,$B31,#REF!,\">=30\",#REF!,\">\"&K$3,#REF!,\"<=\"&H$3)","v":{"$error":"#REF!"}},{"$f":"SUMIFS(#REF!,#REF!,$B31,#REF!,\">=30\",#REF!,\">\"&K$3,#REF!,\"<=\"&H$3)","v":{"$error":"#REF!"}},{"$f":"SUMIFS(#REF!,#REF!,$B31,#REF!,\">=30\",#REF!,\">\"&K$3,#REF!,\"<=\"&H$3)","v":{"$error":"#REF!"}},{"$f":"COUNTIFS(#REF!,$B31,#REF!,\">=30\",#REF!,\">\"&N$3,#REF!,\"<=\"&K$3)","v":{"$error":"#REF!"}},{"$f":"SUMIFS(#REF!,#REF!,$B31,#REF!,\">=30\",#REF!,\">\"&N$3,#REF!,\"<=\"&K$3)","v":{"$error":"#REF!"}},{"$f":"SUMIFS(#REF!,#REF!,$B31,#REF!,\">=30\",#REF!,\">\"&N$3,#REF!,\"<=\"&K$3)","v":{"$error":"#REF!"}},{"$f":"COUNTIFS(#REF!,$B31,#REF!,\">=30\",#REF!,\">\"&Q$3,#REF!,\"<=\"&N$3)","v":{"$error":"#REF!"}},{"$f":"SUMIFS(#REF!,#REF!,$B31,#REF!,\">=30\",#REF!,\">\"&Q$3,#REF!,\"<=\"&N$3)","v":{"$error":"#REF!"}},{"$f":"SUMIFS(#REF!,#REF!,$B31,#REF!,\">=30\",#REF!,\">\"&Q$3,#REF!,\"<=\"&N$3)","v":{"$error":"#REF!"}},{"$f":"COUNTIFS(#REF!,$B31,#REF!,\">=30\",#REF!,\">\"&T$3,#REF!,\"<=\"&Q$3)","v":{"$error":"#REF!"}},{"$f":"SUMIFS(#REF!,#REF!,$B31,#REF!,\">=30\",#REF!,\">\"&T$3,#REF!,\"<=\"&Q$3)","v":{"$error":"#REF!"}},{"$f":"SUMIFS(#REF!,#REF!,$B31,#REF!,\">=30\",#REF!,\">\"&T$3,#REF!,\"<=\"&Q$3)","v":{"$error":"#REF!"}},{"$f":"COUNTIFS(#REF!,$B31,#REF!,\">=30\",#REF!,\">\"&W$3,#REF!,\"<=\"&T$3)","v":{"$error":"#REF!"}},{"$f":"SUMIFS(#REF!,#REF!,$B31,#REF!,\">=30\",#REF!,\">\"&W$3,#REF!,\"<=\"&T$3)","v":{"$error":"#REF!"}},{"$f":"SUMIFS(#REF!,#REF!,$B31,#REF!,\">=30\",#REF!,\">\"&W$3,#REF!,\"<=\"&T$3)","v":{"$error":"#REF!"}},{"$f":"COUNTIFS(#REF!,$B31,#REF!,\">=30\",#REF!,\">\"&Z$3,#REF!,\"<=\"&W$3)","v":{"$error":"#REF!"}},{"$f":"SUMIFS(#REF!,#REF!,$B31,#REF!,\">=30\",#REF!,\">\"&Z$3,#REF!,\"<=\"&W$3)","v":{"$error":"#REF!"}},{"$f":"SUMIFS(#REF!,#REF!,$B31,#REF!,\">=30\",#REF!,\">\"&Z$3,#REF!,\"<=\"&W$3)","v":{"$error":"#REF!"}},{"$f":"COUNTIFS(#REF!,$B31,#REF!,\">=30\",#REF!,\">\"&AC$3,#REF!,\"<=\"&Z$3)","v":{"$error":"#REF!"}},{"$f":"SUMIFS(#REF!,#REF!,$B31,#REF!,\">=30\",#REF!,\">\"&AC$3,#REF!,\"<=\"&Z$3)","v":{"$error":"#REF!"}},{"$f":"SUMIFS(#REF!,#REF!,$B31,#REF!,\">=30\",#REF!,\">\"&AC$3,#REF!,\"<=\"&Z$3)","v":{"$error":"#REF!"}},0,{"$error":"#REF!"},{"$error":"#REF!"},{"$error":"#REF!"}]
[" 강   동 Gangdong-gu","강동구",{"$error":"#REF!"},{"$error":"#REF!"},{"$error":"#REF!"},{"$f":"COUNTIFS(#REF!,$B32,#REF!,\">=30\",#REF!,\">\"&H$3,#REF!,\"<=\"&E$3)","v":{"$error":"#REF!"}},{"$f":"SUMIFS(#REF!,#REF!,$B32,#REF!,\">=30\",#REF!,\">\"&H$3,#REF!,\"<=\"&E$3)","v":{"$error":"#REF!"}},{"$f":"SUMIFS(#REF!,#REF!,$B32,#REF!,\">=30\",#REF!,\">\"&H$3,#REF!,\"<=\"&E$3)","v":{"$error":"#REF!"}},{"$f":"COUNTIFS(#REF!,$B32,#REF!,\">=30\",#REF!,\">\"&K$3,#REF!,\"<=\"&H$3)","v":{"$error":"#REF!"}},{"$f":"SUMIFS(#REF!,#REF!,$B32,#REF!,\">=30\",#REF!,\">\"&K$3,#REF!,\"<=\"&H$3)","v":{"$error":"#REF!"}},{"$f":"SUMIFS(#REF!,#REF!,$B32,#REF!,\">=30\",#REF!,\">\"&K$3,#REF!,\"<=\"&H$3)","v":{"$error":"#REF!"}},{"$f":"COUNTIFS(#REF!,$B32,#REF!,\">=30\",#REF!,\">\"&N$3,#REF!,\"<=\"&K$3)","v":{"$error":"#REF!"}},{"$f":"SUMIFS(#REF!,#REF!,$B32,#REF!,\">=30\",#REF!,\">\"&N$3,#REF!,\"<=\"&K$3)","v":{"$error":"#REF!"}},{"$f":"SUMIFS(#REF!,#REF!,$B32,#REF!,\">=30\",#REF!,\">\"&N$3,#REF!,\"<=\"&K$3)","v":{"$error":"#REF!"}},{"$f":"COUNTIFS(#REF!,$B32,#REF!,\">=30\",#REF!,\">\"&Q$3,#REF!,\"<=\"&N$3)","v":{"$error":"#REF!"}},{"$f":"SUMIFS(#REF!,#REF!,$B32,#REF!,\">=30\",#REF!,\">\"&Q$3,#REF!,\"<=\"&N$3)","v":{"$error":"#REF!"}},{"$f":"SUMIFS(#REF!,#REF!,$B32,#REF!,\">=30\",#REF!,\">\"&Q$3,#REF!,\"<=\"&N$3)","v":{"$error":"#REF!"}},{"$f":"COUNTIFS(#REF!,$B32,#REF!,\">=30\",#REF!,\">\"&T$3,#REF!,\"<=\"&Q$3)","v":{"$error":"#REF!"}},{"$f":"SUMIFS(#REF!,#REF!,$B32,#REF!,\">=30\",#REF!,\">\"&T$3,#REF!,\"<=\"&Q$3)","v":{"$error":"#REF!"}},{"$f":"SUMIFS(#REF!,#REF!,$B32,#REF!,\">=30\",#REF!,\">\"&T$3,#REF!,\"<=\"&Q$3)","v":{"$error":"#REF!"}},{"$f":"COUNTIFS(#REF!,$B32,#REF!,\">=30\",#REF!,\">\"&W$3,#REF!,\"<=\"&T$3)","v":{"$error":"#REF!"}},{"$f":"SUMIFS(#REF!,#REF!,$B32,#REF!,\">=30\",#REF!,\">\"&W$3,#REF!,\"<=\"&T$3)","v":{"$error":"#REF!"}},{"$f":"SUMIFS(#REF!,#REF!,$B32,#REF!,\">=30\",#REF!,\">\"&W$3,#REF!,\"<=\"&T$3)","v":{"$error":"#REF!"}},{"$f":"COUNTIFS(#REF!,$B32,#REF!,\">=30\",#REF!,\">\"&Z$3,#REF!,\"<=\"&W$3)","v":{"$error":"#REF!"}},{"$f":"SUMIFS(#REF!,#REF!,$B32,#REF!,\">=30\",#REF!,\">\"&Z$3,#REF!,\"<=\"&W$3)","v":{"$error":"#REF!"}},{"$f":"SUMIFS(#REF!,#REF!,$B32,#REF!,\">=30\",#REF!,\">\"&Z$3,#REF!,\"<=\"&W$3)","v":{"$error":"#REF!"}},{"$f":"COUNTIFS(#REF!,$B32,#REF!,\">=30\",#REF!,\">\"&AC$3,#REF!,\"<=\"&Z$3)","v":{"$error":"#REF!"}},{"$f":"SUMIFS(#REF!,#REF!,$B32,#REF!,\">=30\",#REF!,\">\"&AC$3,#REF!,\"<=\"&Z$3)","v":{"$error":"#REF!"}},{"$f":"SUMIFS(#REF!,#REF!,$B32,#REF!,\">=30\",#REF!,\">\"&AC$3,#REF!,\"<=\"&Z$3)","v":{"$error":"#REF!"}},0,{"$error":"#REF!"},{"$error":"#REF!"},{"$error":"#REF!"}]
[]
[" 자료 : 공동주택과"]
["    주 : 1) 해당연도 12월 31일 기준 산정\n          2) 분양가구수가 30가구 이상인 아파트,주상복합,연립,다세대 기준."]
[]
[null,null,{"$f":"C7-SUM(C8:C32)","v":{"$error":"#REF!"}},{"$f":"D7-SUM(D8:D32)","v":{"$error":"#REF!"}},{"$error":"#REF!"},{"$error":"#REF!"},{"$error":"#REF!"},{"$error":"#REF!"},{"$error":"#REF!"},{"$error":"#REF!"},{"$error":"#REF!"},{"$error":"#REF!"},{"$error":"#REF!"},{"$error":"#REF!"},{"$error":"#REF!"},{"$error":"#REF!"},{"$error":"#REF!"},{"$error":"#REF!"},{"$error":"#REF!"},{"$error":"#REF!"},{"$error":"#REF!"},{"$error":"#REF!"},{"$error":"#REF!"},{"$error":"#REF!"},{"$error":"#REF!"},{"$error":"#REF!"},{"$error":"#REF!"},{"$error":"#REF!"},{"$error":"#REF!"}]