{"text_format":"2","workbook":"xlsx","n_sheets":2,"sheets":["신청총괄표","대상(전체)"],"not_rendered":{"charts":0,"images":0,"macros":0,"external_links":0,"defined_names":1,"comments":0,"pivot_tables":0},"unopened":[],"bounds":{"document_bytes":16777216,"sheet_cells":100000,"run_cost":"one","rows_first":2000,"rows_last":500,"rows_between":2000,"halvings":0,"cell_chars":16384,"cell_head_chars":4096},"cells_cut":0,"cells_raw":0,"read":"whole","date_system":"1900"}

{"sheet":"신청총괄표","index":0,"n_rows":61,"n_cols":7,"rows_kept":61,"cut":false,"hidden":false,"merged":[[3,4,4,4],[0,0,0,6],[2,0,4,0],[2,2,2,4],[2,5,4,5],[2,6,4,6],[3,1,4,1],[3,2,3,3]]}
["2017년 도시민 상자텃밭 지원사업 선정 총괄표"]
[{"$nulls":6},"(단위 : 세트, 가구(단체))"]
["구  분","배정량","신청 접수 및 선정 내역",null,null,"잔량","비고"]
[null,"합계","신청접수",null,"가구\n(단체)수"]
[null,null,"종류","수량"]
["합  계",{"$f":"SUM(B10,B14,B18,B22,B26,B30,B34,B38,B42,B46,B50,B54,B58)","v":800},"합계",{"$f":"SUM(D7:D9)","v":800},{"$f":"SUM(E7:E9)","v":243},0,{"$f":"SUM(G7:G9)","v":1}]
[null,null,"①기능성텃밭",{"$f":"SUM(D11,D15,D19,D23,D27,D31,D35,D39,D43,D47,D51,D55,D59)","v":42},{"$f":"SUM(E11,E15,E19,E23,E27,E31,E35,E39,E43,E47,E51,E55,E59)","v":17},null,{"$f":"D7/$D$6","v":5.2499999999999998E-2}]
[null,null,"②착한농부",{"$f":"SUM(D12,D16,D20,D24,D28,D32,D36,D40,D44,D48,D52,D56,D60)","v":371},111,null,{"$f":"D8/$D$6","v":0.46375}]
[null,null,"③숨쉬는원목",{"$f":"SUM(D13,D17,D21,D25,D29,D33,D37,D41,D45,D49,D53,D57,D61)","v":387},115,null,0.48375000000000001]
["오정동",59,"소계",{"$f":"SUM(D11:D13)","v":59},{"$f":"SUM(E11:E13)","v":20}]
[null,null,"①기능성텃밭",{"$f":"SUMIFS('대상(전체)'!$F$8:$F$262,'대상(전체)'!$E$8:$E$262,\"1\",'대상(전체)'!$A$8:$A$262,\"오정동\")","v":0},{"$f":"COUNTIFS('대상(전체)'!$E$6:$E$272,\"1\",'대상(전체)'!$A$6:$A$272,\"오정동\")","v":0}]
[null,null,"②착한농부",{"$f":"SUMIFS('대상(전체)'!$F$8:$F$262,'대상(전체)'!$E$8:$E$262,\"2\",'대상(전체)'!$A$8:$A$262,\"오정동\")","v":10},{"$f":"COUNTIFS('대상(전체)'!$E$6:$E$272,\"2\",'대상(전체)'!$A$6:$A$272,\"오정동\")","v":3}]
[null,null,"③숨쉬는원목",{"$f":"SUMIFS('대상(전체)'!$F$8:$F$262,'대상(전체)'!$E$8:$E$262,\"3\",'대상(전체)'!$A$8:$A$262,\"오정동\")","v":49},{"$f":"COUNTIFS('대상(전체)'!$E$6:$E$272,\"3\",'대상(전체)'!$A$6:$A$272,\"오정동\")","v":17}]
["대화동",29,"소계",{"$f":"SUM(D15:D17)","v":29},{"$f":"SUM(E15:E17)","v":9}]
[null,null,"①기능성텃밭",{"$f":"SUMIFS('대상(전체)'!$F$8:$F$262,'대상(전체)'!$E$8:$E$262,\"1\",'대상(전체)'!$A$8:$A$262,\"대화동\")","v":0},{"$f":"COUNTIFS('대상(전체)'!$E$6:$E$272,\"1\",'대상(전체)'!$A$6:$A$272,\"대화동\")","v":0}]
[null,null,"②착한농부",{"$f":"SUMIFS('대상(전체)'!$F$8:$F$262,'대상(전체)'!$E$8:$E$262,\"2\",'대상(전체)'!$A$8:$A$262,\"대화동\")","v":9},{"$f":"COUNTIFS('대상(전체)'!$E$6:$E$272,\"2\",'대상(전체)'!$A$6:$A$272,\"대화동\")","v":3}]
[null,null,"③숨쉬는원목",{"$f":"SUMIFS('대상(전체)'!$F$8:$F$262,'대상(전체)'!$E$8:$E$262,\"3\",'대상(전체)'!$A$8:$A$262,\"대화동\")","v":20},{"$f":"COUNTIFS('대상(전체)'!$E$6:$E$272,\"3\",'대상(전체)'!$A$6:$A$272,\"대화동\")","v":6}]
["회덕동",51,"소계",{"$f":"SUM(D19:D21)","v":51},{"$f":"SUM(E19:E21)","v":17}]
[null,null,"①기능성텃밭",{"$f":"SUMIFS('대상(전체)'!$F$8:$F$262,'대상(전체)'!$E$8:$E$262,\"1\",'대상(전체)'!$A$8:$A$262,\"회덕동\")","v":0},{"$f":"COUNTIFS('대상(전체)'!$E$6:$E$272,\"1\",'대상(전체)'!$A$6:$A$272,\"회덕동\")","v":0}]
[null,null,"②착한농부",{"$f":"SUMIFS('대상(전체)'!$F$8:$F$262,'대상(전체)'!$E$8:$E$262,\"2\",'대상(전체)'!$A$8:$A$262,\"회덕동\")","v":6},{"$f":"COUNTIFS('대상(전체)'!$E$6:$E$272,\"2\",'대상(전체)'!$A$6:$A$272,\"회덕동\")","v":3}]
[null,null,"③숨쉬는원목",{"$f":"SUMIFS('대상(전체)'!$F$8:$F$262,'대상(전체)'!$E$8:$E$262,\"3\",'대상(전체)'!$A$8:$A$262,\"회덕동\")","v":45},{"$f":"COUNTIFS('대상(전체)'!$E$6:$E$272,\"3\",'대상(전체)'!$A$6:$A$272,\"회덕동\")","v":14}]
["비래동",54,"소계",{"$f":"SUM(D23:D25)","v":54},{"$f":"SUM(E23:E25)","v":17}]
[null,null,"①기능성텃밭",{"$f":"SUMIFS('대상(전체)'!$F$8:$F$262,'대상(전체)'!$E$8:$E$262,\"1\",'대상(전체)'!$A$8:$A$262,\"비래동\")","v":1},{"$f":"COUNTIFS('대상(전체)'!$E$6:$E$272,\"1\",'대상(전체)'!$A$6:$A$272,\"비래동\")","v":1}]
[null,null,"②착한농부",{"$f":"SUMIFS('대상(전체)'!$F$8:$F$262,'대상(전체)'!$E$8:$E$262,\"2\",'대상(전체)'!$A$8:$A$262,\"비래동\")","v":43},{"$f":"COUNTIFS('대상(전체)'!$E$6:$E$272,\"2\",'대상(전체)'!$A$6:$A$272,\"비래동\")","v":13}]
[null,null,"③숨쉬는원목",{"$f":"SUMIFS('대상(전체)'!$F$8:$F$262,'대상(전체)'!$E$8:$E$262,\"3\",'대상(전체)'!$A$8:$A$262,\"비래동\")","v":10},{"$f":"COUNTIFS('대상(전체)'!$E$6:$E$272,\"3\",'대상(전체)'!$A$6:$A$272,\"비래동\")","v":3}]
["송촌동",81,"소계",{"$f":"SUM(D27:D29)","v":81},{"$f":"SUM(E27:E29)","v":45}]
[null,null,"①기능성텃밭",{"$f":"SUMIFS('대상(전체)'!$F$8:$F$262,'대상(전체)'!$E$8:$E$262,\"1\",'대상(전체)'!$A$8:$A$262,\"송촌동\")","v":9},{"$f":"COUNTIFS('대상(전체)'!$E$6:$E$272,\"1\",'대상(전체)'!$A$6:$A$272,\"송촌동\")","v":6}]
[null,null,"②착한농부",{"$f":"SUMIFS('대상(전체)'!$F$8:$F$262,'대상(전체)'!$E$8:$E$262,\"2\",'대상(전체)'!$A$8:$A$262,\"송촌동\")","v":35},{"$f":"COUNTIFS('대상(전체)'!$E$6:$E$272,\"2\",'대상(전체)'!$A$6:$A$272,\"송촌동\")","v":20}]
[null,null,"③숨쉬는원목",{"$f":"SUMIFS('대상(전체)'!$F$8:$F$262,'대상(전체)'!$E$8:$E$262,\"3\",'대상(전체)'!$A$8:$A$262,\"송촌동\")","v":37},{"$f":"COUNTIFS('대상(전체)'!$E$6:$E$272,\"3\",'대상(전체)'!$A$6:$A$272,\"송촌동\")","v":19}]
["중리동",77,"소계",{"$f":"SUM(D31:D33)","v":77},{"$f":"SUM(E31:E33)","v":24}]
[null,null,"①기능성텃밭",{"$f":"SUMIFS('대상(전체)'!$F$8:$F$262,'대상(전체)'!$E$8:$E$262,\"1\",'대상(전체)'!$A$8:$A$262,\"중리동\")","v":14},{"$f":"COUNTIFS('대상(전체)'!$E$6:$E$272,\"1\",'대상(전체)'!$A$6:$A$272,\"중리동\")","v":4}]
[null,null,"②착한농부",{"$f":"SUMIFS('대상(전체)'!$F$8:$F$262,'대상(전체)'!$E$8:$E$262,\"2\",'대상(전체)'!$A$8:$A$262,\"중리동\")","v":20},{"$f":"COUNTIFS('대상(전체)'!$E$6:$E$272,\"2\",'대상(전체)'!$A$6:$A$272,\"중리동\")","v":8}]
[null,null,"③숨쉬는원목",{"$f":"SUMIFS('대상(전체)'!$F$8:$F$262,'대상(전체)'!$E$8:$E$262,\"3\",'대상(전체)'!$A$8:$A$262,\"중리동\")","v":43},{"$f":"COUNTIFS('대상(전체)'!$E$6:$E$272,\"3\",'대상(전체)'!$A$6:$A$272,\"중리동\")","v":12}]
["법1동",43,"소계",{"$f":"SUM(D35:D37)","v":43},{"$f":"SUM(E35:E37)","v":19}]
[null,null,"①기능성텃밭",{"$f":"SUMIFS('대상(전체)'!$F$8:$F$262,'대상(전체)'!$E$8:$E$262,\"1\",'대상(전체)'!$A$8:$A$262,\"법1동\")","v":1},{"$f":"COUNTIFS('대상(전체)'!$E$6:$E$272,\"1\",'대상(전체)'!$A$6:$A$272,\"법1동\")","v":1}]
[null,null,"②착한농부",{"$f":"SUMIFS('대상(전체)'!$F$8:$F$262,'대상(전체)'!$E$8:$E$262,\"2\",'대상(전체)'!$A$8:$A$262,\"법1동\")","v":10},{"$f":"COUNTIFS('대상(전체)'!$E$6:$E$272,\"2\",'대상(전체)'!$A$6:$A$272,\"법1동\")","v":5}]
[null,null,"③숨쉬는원목",{"$f":"SUMIFS('대상(전체)'!$F$8:$F$262,'대상(전체)'!$E$8:$E$262,\"3\",'대상(전체)'!$A$8:$A$262,\"법1동\")","v":32},{"$f":"COUNTIFS('대상(전체)'!$E$6:$E$272,\"3\",'대상(전체)'!$A$6:$A$272,\"법1동\")","v":13}]
["법2동",54,"소계",{"$f":"SUM(D39:D41)","v":54},{"$f":"SUM(E39:E41)","v":19}]
[null,null,"①기능성텃밭",{"$f":"SUMIFS('대상(전체)'!$F$8:$F$262,'대상(전체)'!$E$8:$E$262,\"1\",'대상(전체)'!$A$8:$A$262,\"법2동\")","v":8},{"$f":"COUNTIFS('대상(전체)'!$E$6:$E$272,\"1\",'대상(전체)'!$A$6:$A$272,\"법2동\")","v":2}]
[null,null,"②착한농부",{"$f":"SUMIFS('대상(전체)'!$F$8:$F$262,'대상(전체)'!$E$8:$E$262,\"2\",'대상(전체)'!$A$8:$A$262,\"법2동\")","v":21},{"$f":"COUNTIFS('대상(전체)'!$E$6:$E$272,\"2\",'대상(전체)'!$A$6:$A$272,\"법2동\")","v":9}]
[null,null,"③숨쉬는원목",{"$f":"SUMIFS('대상(전체)'!$F$8:$F$262,'대상(전체)'!$E$8:$E$262,\"3\",'대상(전체)'!$A$8:$A$262,\"법2동\")","v":25},{"$f":"COUNTIFS('대상(전체)'!$E$6:$E$272,\"3\",'대상(전체)'!$A$6:$A$272,\"법2동\")","v":8}]
["신탄진동",41,"소계",{"$f":"SUM(D43:D45)","v":41},{"$f":"SUM(E43:E45)","v":12}]
[null,null,"①기능성텃밭",{"$f":"SUMIFS('대상(전체)'!$F$8:$F$262,'대상(전체)'!$E$8:$E$262,\"1\",'대상(전체)'!$A$8:$A$262,\"신탄진동\")","v":4},{"$f":"COUNTIFS('대상(전체)'!$E$6:$E$272,\"1\",'대상(전체)'!$A$6:$A$272,\"신탄진동\")","v":1}]
[null,null,"②착한농부",{"$f":"SUMIFS('대상(전체)'!$F$8:$F$262,'대상(전체)'!$E$8:$E$262,\"2\",'대상(전체)'!$A$8:$A$262,\"신탄진동\")","v":16},{"$f":"COUNTIFS('대상(전체)'!$E$6:$E$272,\"2\",'대상(전체)'!$A$6:$A$272,\"신탄진동\")","v":4}]
[null,null,"③숨쉬는원목",{"$f":"SUMIFS('대상(전체)'!$F$8:$F$262,'대상(전체)'!$E$8:$E$262,\"3\",'대상(전체)'!$A$8:$A$262,\"신탄진동\")","v":21},{"$f":"COUNTIFS('대상(전체)'!$E$6:$E$272,\"3\",'대상(전체)'!$A$6:$A$272,\"신탄진동\")","v":7}]
["석봉동",37,"소계",{"$f":"SUM(D47:D49)","v":37},{"$f":"SUM(E47:E49)","v":12}]
[null,null,"①기능성텃밭",{"$f":"SUMIFS('대상(전체)'!$F$8:$F$262,'대상(전체)'!$E$8:$E$262,\"1\",'대상(전체)'!$A$8:$A$262,\"석봉동\")","v":0},{"$f":"COUNTIFS('대상(전체)'!$E$6:$E$272,\"1\",'대상(전체)'!$A$6:$A$272,\"석봉동\")","v":0}]
[null,null,"②착한농부",{"$f":"SUMIFS('대상(전체)'!$F$8:$F$262,'대상(전체)'!$E$8:$E$262,\"2\",'대상(전체)'!$A$8:$A$262,\"석봉동\")","v":28},{"$f":"COUNTIFS('대상(전체)'!$E$6:$E$272,\"2\",'대상(전체)'!$A$6:$A$272,\"석봉동\")","v":9}]
[null,null,"③숨쉬는원목",{"$f":"SUMIFS('대상(전체)'!$F$8:$F$262,'대상(전체)'!$E$8:$E$262,\"3\",'대상(전체)'!$A$8:$A$262,\"석봉동\")","v":9},{"$f":"COUNTIFS('대상(전체)'!$E$6:$E$272,\"3\",'대상(전체)'!$A$6:$A$272,\"석봉동\")","v":3}]
["덕암동",50,"소계",{"$f":"SUM(D51:D53)","v":50},{"$f":"SUM(E51:E53)","v":16}]
[null,null,"①기능성텃밭",{"$f":"SUMIFS('대상(전체)'!$F$8:$F$262,'대상(전체)'!$E$8:$E$262,\"1\",'대상(전체)'!$A$8:$A$262,\"덕암동\")","v":4},{"$f":"COUNTIFS('대상(전체)'!$E$6:$E$272,\"1\",'대상(전체)'!$A$6:$A$272,\"덕암동\")","v":1}]
[null,null,"②착한농부",{"$f":"SUMIFS('대상(전체)'!$F$8:$F$262,'대상(전체)'!$E$8:$E$262,\"2\",'대상(전체)'!$A$8:$A$262,\"덕암동\")","v":35},{"$f":"COUNTIFS('대상(전체)'!$E$6:$E$272,\"2\",'대상(전체)'!$A$6:$A$272,\"덕암동\")","v":11}]
[null,null,"③숨쉬는원목",{"$f":"SUMIFS('대상(전체)'!$F$8:$F$262,'대상(전체)'!$E$8:$E$262,\"3\",'대상(전체)'!$A$8:$A$262,\"덕암동\")","v":11},{"$f":"COUNTIFS('대상(전체)'!$E$6:$E$272,\"3\",'대상(전체)'!$A$6:$A$272,\"덕암동\")","v":4}]
["목상동",24,"소계",{"$f":"SUM(D55:D57)","v":24},{"$f":"SUM(E55:E57)","v":14}]
[null,null,"①기능성텃밭",{"$f":"SUMIFS('대상(전체)'!$F$8:$F$262,'대상(전체)'!$E$8:$E$262,\"1\",'대상(전체)'!$A$8:$A$262,\"목상동\")","v":1},{"$f":"COUNTIFS('대상(전체)'!$E$6:$E$272,\"1\",'대상(전체)'!$A$6:$A$272,\"목상동\")","v":1}]
[null,null,"②착한농부",{"$f":"SUMIFS('대상(전체)'!$F$8:$F$262,'대상(전체)'!$E$8:$E$262,\"2\",'대상(전체)'!$A$8:$A$262,\"목상동\")","v":17},{"$f":"COUNTIFS('대상(전체)'!$E$6:$E$272,\"2\",'대상(전체)'!$A$6:$A$272,\"목상동\")","v":10}]
[null,null,"③숨쉬는원목",{"$f":"SUMIFS('대상(전체)'!$F$8:$F$262,'대상(전체)'!$E$8:$E$262,\"3\",'대상(전체)'!$A$8:$A$262,\"목상동\")","v":6},{"$f":"COUNTIFS('대상(전체)'!$E$6:$E$272,\"3\",'대상(전체)'!$A$6:$A$272,\"목상동\")","v":3}]
["단체지원",200,"소계",{"$f":"SUM(D59:D61)","v":200},{"$f":"SUM(E59:E61)","v":19}]
[null,null,"①기능성텃밭",{"$f":"SUMIFS('대상(전체)'!$F$8:$F$262,'대상(전체)'!$E$8:$E$262,\"1\",'대상(전체)'!$A$8:$A$262,\"단체\")","v":0},{"$f":"COUNTIFS('대상(전체)'!$E$6:$E$272,\"1\",'대상(전체)'!$A$6:$A$272,\"단체\")","v":0}]
[null,null,"②착한농부",{"$f":"SUMIFS('대상(전체)'!$F$8:$F$262,'대상(전체)'!$E$8:$E$262,\"2\",'대상(전체)'!$A$8:$A$262,\"단체\")","v":121},{"$f":"COUNTIFS('대상(전체)'!$E$6:$E$272,\"2\",'대상(전체)'!$A$6:$A$272,\"단체\")","v":13}]
[null,null,"③숨쉬는원목",{"$f":"SUMIFS('대상(전체)'!$F$8:$F$262,'대상(전체)'!$E$8:$E$262,\"3\",'대상(전체)'!$A$8:$A$262,\"단체\")","v":79},{"$f":"COUNTIFS('대상(전체)'!$E$6:$E$272,\"3\",'대상(전체)'!$A$6:$A$272,\"단체\")","v":6}]

{"sheet":"대상(전체)","index":1,"n_rows":262,"n_cols":12,"rows_kept":262,"cut":false,"hidden":false,"merged":[[0,0,0,11],[2,11,4,11],[2,6,2,10],[3,10,4,10],[3,7,3,9],[3,6,4,6],[2,0,4,0],[2,1,4,1],[2,2,4,2],[2,4,4,4],[2,5,4,5],[2,3,4,3]]}
["2017년도 도시민 상자텃밭 지원사업 신청 및 선정내역"]
[]
["동명","연번","성명","전화번호\n(뒤 4자리)","종류","수량","총사업비",{"$nulls":4},"비고"]
[{"$nulls":6},"합계","보조금(80%)",null,null,"자부담\n(20%)"]
[{"$nulls":7},"소계","시비","구비"]
["합 계",null,{"$f":"COUNTA(C8:C27,C29:C37,C39:C48,C49:C55,C57:C73,C75:C90,C91:C95,C96:C119,C121:C144,C146:C164,C166:C184,C186:C197,C199:C210,C212:C224,C225:C227,C229:C242,C244:C262)","v":243},null,null,{"$f":"SUBTOTAL(9,F7,F28,F38,F56,F74,F120,F145,F165,F185,F198,F211,F228,F243)","v":800},{"$f":"SUBTOTAL(9,G7,G28,G38,G56,G74,G120,G145,G165,G185,G198,G211,G228,G243)","v":20000000},16000000,12000000,4000000,4000000]
["소계",null,{"$f":"COUNTA(C8:C27)&\"명\"","v":"20명"},null,null,{"$f":"SUM(F8:F27)","v":59},{"$f":"SUM(G8:G27)","v":1475000},1180000,885000,295000,295000,0]
["오정동",1,"양○순","6900",2,4,{"$f":"F8*25000","v":100000},{"$f":"SUM(I8:J8)","v":80000},{"$f":"G8*0.6","v":60000},{"$f":"G8*0.2","v":20000},{"$f":"G8*0.2","v":20000}]
["오정동",2,"정○희","5815",3,4,{"$f":"F9*25000","v":100000},{"$f":"SUM(I9:J9)","v":80000},{"$f":"G9*0.6","v":60000},{"$f":"G9*0.2","v":20000},{"$f":"G9*0.2","v":20000}]
["오정동",3,"서○미","4767",3,4,100000,80000,60000,20000,20000]
["오정동",4,"김○웅","5678",2,4,100000,80000,60000,20000,20000]
["오정동",5,"이○현","4778",3,4,100000,80000,60000,20000,20000]
["오정동",6,"신○선","0055",3,4,100000,80000,60000,20000,20000]
["오정동",7,"시○숙","5128",3,4,100000,80000,60000,20000,20000]
["오정동",8,"이○애","2412",3,4,100000,80000,60000,20000,20000]
["오정동",9,"박○연","5297",3,4,100000,80000,60000,20000,20000]
["오정동",10,"신○호","0028",3,1,25000,20000,15000,5000,5000]
["오정동",11,"박○연","4168",3,2,50000,40000,30000,10000,10000]
["오정동",12,"문○자","4821",3,2,50000,40000,30000,10000,10000]
["오정동",13,"김○영","1337",3,2,50000,40000,30000,10000,10000]
["오정동",14,"이○숙","7227",3,4,100000,80000,60000,20000,20000]
["오정동",15,"김○영","7743",3,2,50000,40000,30000,10000,10000]
["오정동",16,"함○자","3188",3,2,50000,40000,30000,10000,10000]
["오정동",17,"김○수","0056",3,2,50000,40000,30000,10000,10000]
["오정동",18,"강○희","5997",3,2,50000,40000,30000,10000,10000]
["오정동",19,"이○배","1122",2,2,50000,40000,30000,10000,10000]
["오정동",20,"고○분","0373",3,2,50000,40000,30000,10000,10000]
["소계",null,"8명","",null,{"$f":"SUM(F29:F37)","v":29},{"$f":"SUM(G29:G37)","v":725000},580000,435000,145000,145000,0]
["대화동",1,"김○숙","7576",3,4,100000,{"$f":"SUM(I29:J29)","v":80000},{"$f":"G29*0.6","v":60000},{"$f":"G29*0.2","v":20000},{"$f":"G29*0.2","v":20000}]
["대화동",2,"최○자","2034",3,4,100000,80000,60000,20000,20000]
["대화동",3,"정○문","1105",3,3,75000,60000,45000,15000,15000]
["대화동",4,"권○욱","1577",3,3,75000,60000,45000,15000,15000]
["대화동",5,"김○이","2372",3,4,100000,80000,60000,20000,20000]
["대화동",6,"조○순","2372",3,2,50000,40000,30000,10000,10000]
["대화동",7,"조○형","4429",2,4,100000,80000,60000,20000,20000]
["대화동",8,"최○식","1018",2,4,100000,80000,60000,20000,20000]
["대화동",9,"황○포","1120",2,1,25000,20000,15000,5000,5000]
["소계",null,"17명","",null,{"$f":"SUM(F39:F55)","v":51},{"$f":"SUM(G39:G55)","v":1275000},1020000,765000,255000,255000,0]
["회덕동",1,"송○수","2768",3,2,50000,{"$f":"SUM(I39:J39)","v":40000},{"$f":"G39*0.6","v":30000},{"$f":"G39*0.2","v":10000},{"$f":"G39*0.2","v":10000}]
["회덕동",2,"차○미","3465",3,2,50000,40000,30000,10000,10000]
["회덕동",3,"차○아","0909",2,2,50000,40000,30000,10000,10000]
["회덕동",4,"차○아","0909",3,2,50000,40000,30000,10000,10000]
["회덕동",5,"신○호","8105",2,2,50000,40000,30000,10000,10000]
["회덕동",6,"신○호","8105",3,2,50000,40000,30000,10000,10000]
["회덕동",7,"길○순","4732",3,4,100000,80000,60000,20000,20000]
["회덕동",8,"이○희","2387",3,4,100000,80000,60000,20000,20000]
["회덕동",9,"안○숙","3159",3,2,50000,40000,30000,10000,10000]
["회덕동",10,"조○학","7780",3,4,100000,80000,60000,20000,20000]
["회덕동",11,"이○민","0156",3,4,100000,80000,60000,20000,20000]
["회덕동",12,"조○희","1515",3,4,100000,80000,60000,20000,20000]
["회덕동",13,"강○미","1287",3,4,100000,80000,60000,20000,20000]
["회덕동",14,"김○희","3200",3,4,100000,80000,60000,20000,20000]
["회덕동",15,"김○숙","5646",3,4,100000,80000,60000,20000,20000]
["회덕동",16,"문○순","5646",2,2,50000,40000,30000,10000,10000]
["회덕동",17,"김○숙","0965",3,3,75000,60000,45000,15000,15000]
["소계",null,"17명","",null,{"$f":"SUM(F57:F73)","v":54},{"$f":"SUM(G57:G73)","v":1350000},1080000,810000,270000,270000,0]
["비래동",1,"김○희","1475",2,4,100000,{"$f":"SUM(I57:J57)","v":80000},{"$f":"G57*0.6","v":60000},{"$f":"G57*0.2","v":20000},{"$f":"G57*0.2","v":20000}]
["비래동",2,"이○연","2307",3,4,100000,80000,60000,20000,20000]
["비래동",3,"박○화","4322",2,4,100000,80000,60000,20000,20000]
["비래동",4,"이○덕","5984",2,4,100000,80000,60000,20000,20000]
["비래동",5,"임○묵","0309",2,1,25000,20000,15000,5000,5000]
["비래동",6,"신○환","2484",3,4,100000,80000,60000,20000,20000]
["비래동",7,"유○순","1138",3,2,50000,40000,30000,10000,10000]
["비래동",8,"김○현","3920",2,4,100000,80000,60000,20000,20000]
["비래동",9,"노○호","5931",2,4,100000,80000,60000,20000,20000]
["비래동",10,"유○열","7765",2,4,100000,80000,60000,20000,20000]
["비래동",11,"배○연","2786",2,4,100000,80000,60000,20000,20000]
["비래동",12,"장○영","7573",2,2,50000,40000,30000,10000,10000]
["비래동",13,"양○선","7512",2,4,100000,80000,60000,20000,20000]
["비래동",14,"유○자","8168",2,2,50000,40000,30000,10000,10000]
["비래동",15,"김○미","4633",2,4,100000,80000,60000,20000,20000]
["비래동",16,"이○숙","6027",2,2,50000,40000,30000,10000,10000]
["비래동",17,"오○배","8157",1,1,{"$f":"F73*25000","v":25000},20000,15000,5000,5000]
["소계",null,"45명","",null,{"$f":"SUM(F75:F119)","v":81},{"$f":"SUM(G75:G119)","v":2025000},1620000,1215000,405000,405000,0]
["송촌동",1,"김○용","3600",3,4,{"$f":"F75*25000","v":100000},{"$f":"SUM(I75:J75)","v":80000},{"$f":"G75*0.6","v":60000},{"$f":"G75*0.2","v":20000},{"$f":"G75*0.2","v":20000}]
["송촌동",2,"고○선","5850",1,2,50000,40000,30000,10000,10000]
["송촌동",3,"윤○란","2472",2,1,25000,20000,15000,5000,5000]
["송촌동",4,"윤○란","2472",3,1,25000,20000,15000,5000,5000]
["송촌동",5,"김○순","2214",2,2,50000,40000,30000,10000,10000]
["송촌동",6,"이○영","0410",3,4,100000,80000,60000,20000,20000]
["송촌동",7,"김○정","4920",2,1,25000,20000,15000,5000,5000]
["송촌동",8,"김○정","4920",3,1,25000,20000,15000,5000,5000]
["송촌동",9,"송○목","8431",3,2,50000,40000,30000,10000,10000]
["송촌동",10,"김○화","7679",2,2,50000,40000,30000,10000,10000]
["송촌동",11,"김○언","7055",2,2,50000,40000,30000,10000,10000]
["송촌동",12,"최○옥","7936",1,1,25000,20000,15000,5000,5000]
["송촌동",13,"김○현","3963",2,4,100000,80000,60000,20000,20000]
["송촌동",14,"채○권","5768",2,1,25000,20000,15000,5000,5000]
["송촌동",15,"채○권","5768",3,1,25000,20000,15000,5000,5000]
["송촌동",16,"문○희","7940",2,1,25000,20000,15000,5000,5000]
["송촌동",17,"최○호","2705",3,2,50000,40000,30000,10000,10000]
["송촌동",18,"송○영","5104",2,2,50000,40000,30000,10000,10000]
["송촌동",19,"노○연","1805",3,2,50000,40000,30000,10000,10000]
["송촌동",20,"김○분","0934",3,2,50000,40000,30000,10000,10000]
["송촌동",21,"손○주","1605",2,2,50000,40000,30000,10000,10000]
["송촌동",22,"채○순","2735",1,1,25000,20000,15000,5000,5000]
["송촌동",23,"곽○명","010",1,2,50000,40000,30000,10000,10000]
["송촌동",24,"곽○명","010",3,2,50000,40000,30000,10000,10000]
["송촌동",25,"안○숙","8637",2,2,50000,40000,30000,10000,10000]
["송촌동",26,"최○미","6516",3,2,50000,40000,30000,10000,10000]
["송촌동",27,"정○숙","7012",3,2,50000,40000,30000,10000,10000]
["송촌동",28,"김○민","4920",2,1,25000,20000,15000,5000,5000]
["송촌동",29,"김○민","4920",3,1,25000,20000,15000,5000,5000]
["송촌동",30,"이○자","3690",3,2,{"$f":"F104*25000","v":50000},{"$f":"SUM(I104:J104)","v":40000},{"$f":"G104*0.6","v":30000},{"$f":"G104*0.2","v":10000},{"$f":"G104*0.2","v":10000}]
["송촌동",31,"박○식","1005",3,4,100000,80000,60000,20000,20000]
["송촌동",32,"양○여","6191",2,2,50000,40000,30000,10000,10000]
["송촌동",33,"양○여","6191",3,2,50000,40000,30000,10000,10000]
["송촌동",34,"곽○현","2381",2,1,25000,20000,15000,5000,5000]
["송촌동",35,"최○대","7306",1,2,50000,40000,30000,10000,10000]
["송촌동",36,"최○대","7306",3,1,25000,20000,15000,5000,5000]
["송촌동",37,"최○희","2946",1,1,25000,20000,15000,5000,5000]
["송촌동",38,"최○희","2946",3,1,25000,20000,15000,5000,5000]
["송촌동",39,"전○자","9846",2,2,50000,40000,30000,10000,10000]
["송촌동",40,"김○숙","0535",2,2,50000,40000,30000,10000,10000]
["송촌동",41,"김○학","6487",2,2,50000,40000,30000,10000,10000]
["송촌동",42,"김○순","7756",2,2,50000,40000,30000,10000,10000]
["송촌동",43,"최○자","8030",2,1,25000,20000,15000,5000,5000]
["송촌동",44,"최○자","8030",3,1,25000,20000,15000,5000,5000]
["송촌동",45,"이○홍","4076",2,2,50000,40000,30000,10000,10000]
["소계",null,"24명","",null,{"$f":"SUM(F121:F144)","v":77},{"$f":"SUM(G121:G144)","v":1925000},1540000,1155000,385000,385000,0]
["중리동",1,"김○용","3963",1,4,{"$f":"F121*25000","v":100000},{"$f":"SUM(I121:J121)","v":80000},{"$f":"G121*0.6","v":60000},{"$f":"G121*0.2","v":20000},{"$f":"G121*0.2","v":20000}]
["중리동",2,"김○수","2495",1,4,100000,80000,60000,20000,20000]
["중리동",3,"김○경","3232",1,2,50000,40000,30000,10000,10000]
["중리동",4,"김○경","3232",2,2,50000,40000,30000,10000,10000]
["중리동",5,"임○선","5769",1,4,100000,80000,60000,20000,20000]
["중리동",6,"최○숙","8002",2,2,50000,40000,30000,10000,10000]
["중리동",7,"최○숙","8002",3,2,50000,40000,30000,10000,10000]
["중리동",8,"이○순","0704",3,4,100000,80000,60000,20000,20000]
["중리동",9,"엄○화","8413",2,1,25000,20000,15000,5000,5000]
["중리동",10,"박○현","2279",2,4,100000,80000,60000,20000,20000]
["중리동",11,"김○하","6723",3,4,100000,80000,60000,20000,20000]
["중리동",12,"박○서","2144",3,4,100000,80000,60000,20000,20000]
["중리동",13,"강○자","2176",3,4,100000,80000,60000,20000,20000]
["중리동",14,"박○기","9516",2,4,100000,80000,60000,20000,20000]
["중리동",15,"진○희","9046",3,2,50000,40000,30000,10000,10000]
["중리동",16,"이○종","2206",2,2,50000,40000,30000,10000,10000]
["중리동",17,"신○정","4527",3,4,100000,80000,60000,20000,20000]
["중리동",18,"김○애","4875",3,4,100000,80000,60000,20000,20000]
["중리동",19,"손○숙","2262",3,4,100000,80000,60000,20000,20000]
["중리동",20,"전○자","1664",3,4,100000,80000,60000,20000,20000]
["중리동",21,"전○영","0852",3,4,100000,80000,60000,20000,20000]
["중리동",22,"박○학","4700",3,3,75000,60000,45000,15000,15000]
["중리동",23,"이○숙","2851",2,3,75000,60000,45000,15000,15000]
["중리동",24,"이○화","9876",2,2,50000,40000,30000,10000,10000]
["소계",null,"19명","",null,{"$f":"SUM(F146:F164)","v":43},{"$f":"SUM(G146:G164)","v":1075000},860000,645000,215000,215000,0]
["법1동",1,"김○화","8536",1,1,{"$f":"F146*25000","v":25000},{"$f":"SUM(I146:J146)","v":20000},{"$f":"G146*0.6","v":15000},{"$f":"G146*0.2","v":5000},{"$f":"G146*0.2","v":5000}]
["법1동",2,"표○주","1649",2,2,50000,40000,30000,10000,10000]
["법1동",3,"안○숙","7164",2,2,50000,40000,30000,10000,10000]
["법1동",4,"구○선","6927",2,2,50000,40000,30000,10000,10000]
["법1동",5,"박○진","7221",2,2,50000,40000,30000,10000,10000]
["법1동",6,"천○경","3154",2,2,50000,40000,30000,10000,10000]
["법1동",7,"주○영","8683",3,2,50000,40000,30000,10000,10000]
["법1동",8,"최○이","4371",3,4,100000,80000,60000,20000,20000]
["법1동",9,"장○숙","5278",3,4,100000,80000,60000,20000,20000]
["법1동",10,"공○택","4101",3,2,50000,40000,30000,10000,10000]
["법1동",11,"이○남","4545",3,1,25000,20000,15000,5000,5000]
["법1동",12,"지○선","0995",3,1,25000,20000,15000,5000,5000]
["법1동",13,"문○자","8842",3,3,75000,60000,45000,15000,15000]
["법1동",14,"이○애","3972",3,3,75000,60000,45000,15000,15000]
["법1동",15,"남○○희","5079",3,2,50000,40000,30000,10000,10000]
["법1동",16,"한○숙","3244",3,2,50000,40000,30000,10000,10000]
["법1동",17,"신○옥","1711",3,2,50000,40000,30000,10000,10000]
["법1동",18,"임○채","1266",3,4,100000,80000,60000,20000,20000]
["법1동",19,"김○숙","1370",3,2,50000,40000,30000,10000,10000]
["소계",null,"19명","",null,{"$f":"SUM(F166:F184)","v":54},{"$f":"SUM(G166:G184)","v":1350000},1080000,810000,270000,270000,0]
["법2동",1,"이○선","9493",2,2,{"$f":"F166*25000","v":50000},{"$f":"SUM(I166:J166)","v":40000},{"$f":"G166*0.6","v":30000},{"$f":"G166*0.2","v":10000},{"$f":"G166*0.2","v":10000}]
["법2동",2,"김○용","9481",3,2,50000,40000,30000,10000,10000]
["법2동",3,"김○숙","5513",2,2,50000,40000,30000,10000,10000]
["법2동",4,"오○수","4163",1,4,100000,80000,60000,20000,20000]
["법2동",5,"김○경","4578",3,2,50000,40000,30000,10000,10000]
["법2동",6,"서○교","6374",1,4,100000,80000,60000,20000,20000]
["법2동",7,"이○우","9421",2,2,50000,40000,30000,10000,10000]
["법2동",8,"손○규","7804",2,2,50000,40000,30000,10000,10000]
["법2동",9,"박○현","3383",3,4,100000,80000,60000,20000,20000]
["법2동",10,"길○미","8117",3,4,100000,80000,60000,20000,20000]
["법2동",11,"문○란","6985",2,1,25000,20000,15000,5000,5000]
["법2동",12,"이○경","6050",3,2,50000,40000,30000,10000,10000]
["법2동",13,"최○준","9050",3,4,100000,80000,60000,20000,20000]
["법2동",14,"전○숙","5583",2,4,100000,80000,60000,20000,20000]
["법2동",15,"정○한","1996",2,4,100000,80000,60000,20000,20000]
["법2동",16,"이○묵","3596",3,4,100000,80000,60000,20000,20000]
["법2동",17,"김○옥","0594",3,3,75000,60000,45000,15000,15000]
["법2동",18,"이○욱","2146",2,2,50000,40000,30000,10000,10000]
["법2동",19,"김○진","8092",2,2,50000,40000,30000,10000,10000]
["소계",null,"12명","",null,{"$f":"SUM(F186:F197)","v":41},{"$f":"SUM(G186:G197)","v":1025000},820000,615000,205000,205000,0]
["신탄진동",1,"정○영","7256",3,1,{"$f":"F186*25000","v":25000},{"$f":"SUM(I186:J186)","v":20000},{"$f":"G186*0.6","v":15000},{"$f":"G186*0.2","v":5000},{"$f":"G186*0.2","v":5000}]
["신탄진동",2,"민○원","4518",3,4,100000,80000,60000,20000,20000]
["신탄진동",3,"김○미","0885",3,4,100000,80000,60000,20000,20000]
["신탄진동",4,"유○람","4481",3,4,100000,80000,60000,20000,20000]
["신탄진동",5,"장○선","5192",3,3,75000,60000,45000,15000,15000]
["신탄진동",6,"차○도","1745",1,4,100000,80000,60000,20000,20000]
["신탄진동",7,"김○원","7263",2,4,100000,80000,60000,20000,20000]
["신탄진동",8,"이○근","1918",2,4,100000,80000,60000,20000,20000]
["신탄진동",9,"한○우","8464",2,4,100000,80000,60000,20000,20000]
["신탄진동",10,"정○선","3345",2,4,100000,80000,60000,20000,20000]
["신탄진동",11,"전○자","9951",3,4,100000,80000,60000,20000,20000]
["신탄진동",12,"이○헌","7284",3,1,25000,20000,15000,5000,5000]
["소계",null,"12명","",null,{"$f":"SUM(F199:F210)","v":37},{"$f":"SUM(G199:G210)","v":925000},740000,555000,185000,185000,0]
["석봉동",1,"박○영","0943",2,3,{"$f":"F199*25000","v":75000},{"$f":"SUM(I199:J199)","v":60000},{"$f":"G199*0.6","v":45000},{"$f":"G199*0.2","v":15000},{"$f":"G199*0.2","v":15000}]
["석봉동",2,"성○희","0150",2,4,100000,80000,60000,20000,20000]
["석봉동",3,"한○옥","2792",3,4,100000,80000,60000,20000,20000]
["석봉동",4,"허○혜","4479",3,4,100000,80000,60000,20000,20000]
["석봉동",5,"어○","5300",2,4,100000,80000,60000,20000,20000]
["석봉동",6,"김○진","4553",2,4,100000,80000,60000,20000,20000]
["석봉동",7,"하○협","0582",2,4,100000,80000,60000,20000,20000]
["석봉동",8,"이○호","0401",2,2,50000,40000,30000,10000,10000]
["석봉동",9,"한○옥","4103",2,4,100000,80000,60000,20000,20000]
["석봉동",10,"성○윤","5819",3,1,25000,20000,15000,5000,5000]
["석봉동",11,"이○경","0539",2,1,25000,20000,15000,5000,5000]
["석봉동",12,"남○현","5728",2,2,50000,40000,30000,10000,10000]
["소계",null,"16명","",null,{"$f":"SUM(F212:F227)","v":50},{"$f":"SUM(G212:G227)","v":1250000},1000000,750000,250000,250000,0]
["덕암동",1,"강○진","9747",3,1,{"$f":"F212*25000","v":25000},{"$f":"SUM(I212:J212)","v":20000},{"$f":"G212*0.6","v":15000},{"$f":"G212*0.2","v":5000},{"$f":"G212*0.2","v":5000}]
["덕암동",2,"강○희","7616",3,2,50000,40000,30000,10000,10000]
["덕암동",3,"정○연","2746",3,4,100000,80000,60000,20000,20000]
["덕암동",4,"어○연","4234",2,4,100000,80000,60000,20000,20000]
["덕암동",5,"강○용","7841",2,4,100000,80000,60000,20000,20000]
["덕암동",6,"정○숙","1316",2,3,75000,60000,45000,15000,15000]
["덕암동",7,"한○민","8207",1,4,100000,80000,60000,20000,20000]
["덕암동",8,"지○현","7556",3,4,100000,80000,60000,20000,20000]
["덕암동",9,"손○구","1526",2,4,100000,80000,60000,20000,20000]
["덕암동",10,"정○호","4277",2,4,100000,80000,60000,20000,20000]
["덕암동",11,"김○환","1170",2,4,100000,80000,60000,20000,20000]
["덕암동",12,"이○덕","4759",2,2,50000,40000,30000,10000,10000]
["덕암동",13,"황○자","3067",2,3,75000,60000,45000,15000,15000]
["덕암동",14,"김○경","8304",2,4,100000,80000,60000,20000,20000]
["덕암동",15,"이○진","0495",2,2,50000,40000,30000,10000,10000]
["덕암동",16,"유○자","7910",2,1,25000,20000,15000,5000,5000]
["소계",null,"14명","",null,{"$f":"SUM(F229:F242)","v":24},{"$f":"SUM(G229:G242)","v":600000},480000,360000,120000,120000,0]
["목상동",1,"안○부","5087",3,1,{"$f":"F229*25000","v":25000},{"$f":"SUM(I229:J229)","v":20000},{"$f":"G229*0.6","v":15000},{"$f":"G229*0.2","v":5000},{"$f":"G229*0.2","v":5000}]
["목상동",2,"심○생","2898",3,1,25000,20000,15000,5000,5000]
["목상동",3,"설○옥","7110",2,2,50000,40000,30000,10000,10000]
["목상동",4,"남○팔","3838",2,2,50000,40000,30000,10000,10000]
["목상동",5,"이○수","4725",2,2,50000,40000,30000,10000,10000]
["목상동",6,"장○숙","9297",2,1,25000,20000,15000,5000,5000]
["목상동",7,"오○돈","9879",2,2,50000,40000,30000,10000,10000]
["목상동",8,"추○례","6485",1,1,25000,20000,15000,5000,5000]
["목상동",9,"추○례","6485",2,1,25000,20000,15000,5000,5000]
["목상동",10,"정○례","0072",2,2,50000,40000,30000,10000,10000]
["목상동",11,"이○정","5351",2,2,50000,40000,30000,10000,10000]
["목상동",12,"엄○화","9389",2,2,50000,40000,30000,10000,10000]
["목상동",13,"오○균","2898",3,4,100000,80000,60000,20000,20000]
["목상동",14,"손○숙","3429",2,1,25000,20000,15000,5000,5000]
["소계",null,"19명","",null,{"$f":"SUM(F244:F262)","v":200},{"$f":"SUM(G244:G262)","v":5000000},4000000,3000000,1000000,1000000,0]
["단체",1,"황○철","2508",3,13,{"$f":"F244*25000","v":325000},{"$f":"SUM(I244:J244)","v":260000},{"$f":"G244*0.6","v":195000},{"$f":"G244*0.2","v":65000},{"$f":"G244*0.2","v":65000},"장동경로당"]
["단체",2,"여○숙","9825",2,2,50000,40000,30000,10000,10000,"세원(아)경로당"]
["단체",3,"조○형","4429",2,2,50000,40000,30000,10000,10000,"대화중앙경로당"]
["단체",4,"김○진","0073",2,15,375000,300000,225000,75000,75000,"비래제2경로당"]
["단체",5,"이○호","0641",2,15,375000,300000,225000,75000,75000,"비래제1경로당"]
["단체",6,"박○혜","0975",2,15,375000,300000,225000,75000,75000,"삼호아파트경로당"]
["단체",7,"남○","2113",3,15,375000,300000,225000,75000,75000,"성덕요양원"]
["단체",8,"오○준","1086",3,6,150000,120000,90000,30000,30000,"선비2단지(아)경로당"]
["단체",9,"김○년","7774",3,15,375000,300000,225000,75000,75000,"선비5단지(아)경로당 "]
["단체",10,"이○옥","0424",3,15,375000,300000,225000,75000,75000,"해피엔젤요양센터"]
["단체",11,"박○산","8158",2,3,75000,60000,45000,15000,15000,"보람(아)경로당"]
["단체",12,"김○술","9250",2,4,100000,80000,60000,20000,20000,"선비1단지 경로당"]
["단체",13,"오○천","4478",2,15,375000,300000,225000,75000,75000,"대우(아)경로당"]
["단체",14,"변○익","9667",3,15,375000,300000,225000,75000,75000,"갈전경로당"]
["단체",15,"신○우","2945",2,14,350000,280000,210000,70000,70000,"라이프(아)경로당"]
["단체",16,"김○원","3031",2,15,375000,300000,225000,75000,75000,"행복한마을아파트경로당"]
["단체",17,"강○규","0188",2,15,375000,300000,225000,75000,75000,"덕화경로당"]
["단체",18,"이○우","0561",2,3,75000,60000,45000,15000,15000,"남해경로당"]
["단체",19,"서○연","5679",2,3,75000,60000,45000,15000,15000,"들말경로당"]