{"text_format":"2","workbook":"xlsx","n_sheets":1,"sheets":["수정 명세서 (변경만)"],"not_rendered":{"charts":0,"images":0,"macros":0,"external_links":2,"defined_names":3,"comments":0,"pivot_tables":0},"unopened":[],"bounds":{"document_bytes":16777216,"sheet_cells":100000,"run_cost":"one","rows_first":2000,"rows_last":500,"rows_between":2000,"halvings":0,"cell_chars":16384,"cell_head_chars":4096},"cells_cut":0,"cells_raw":0,"read":"whole","date_system":"1900"}

{"sheet":"수정 명세서 (변경만)","index":0,"n_rows":101,"n_cols":31,"rows_kept":101,"cut":false,"hidden":false,"merged":[[2,30,4,30],[3,27,5,27],[3,28,4,29],[4,22,5,22],[4,23,5,23],[4,24,5,24],[4,25,5,25],[3,22,3,23],[3,24,3,25],[3,26,5,26],[2,20,2,26],[2,27,2,29],[3,20,5,20],[3,21,5,21],[4,13,5,13],[4,14,5,14],[4,18,5,18],[3,12,3,14],[3,15,5,15],[3,16,5,16],[3,17,5,17],[2,1,5,1],[2,2,3,4],[2,5,3,7],[2,8,5,8],[2,11,2,19],[4,2,5,2],[4,4,5,4],[4,5,5,5],[4,7,5,7],[2,9,3,10],[3,18,3,19],[3,11,5,11],[4,3,5,3],[4,6,5,6],[4,19,5,19],[4,12,5,12]]}
[]
[null,"대화동1구역 재개발정비사업 (변경 명세서) 수용 또는 사용할 토지 또는 건축물의 명세 및 소유권외의 권리의 명세서"]
[null,"구분","연번",null,null,"소유자",null,null,"헹정동","권리소재지",null,"토지",{"$nulls":8},"건축물",{"$nulls":6},"소유권외의 권리",null,null,"비고"]
[{"$nulls":11},"지\n목","면적(㎡)",null,null,"공유","대지권","이용\n상황","소유자",null,"용도","동","면적(㎡)",null,"소유자",null,"공유","권리의 종류","권리자"]
[null,null,"본번",null,"부번","성명","생년월일","주소",null,"이동 전","이동 후",null,"공부면적","편입면적","소유면적",null,null,null,"성명","주소",null,null,"연면적","소유\n면적","성명","주소"]
[{"$nulls":9},"통합","통합",{"$nulls":17},"성명","주소","조합원 및 청산자 분류"]
[]
[null,"수용",1,"-",1,"정영훈",{"$f":"VLOOKUP(F8,'[1]현금청산자 명부'!$E$9:$G$389,2,FALSE)","v":"620902-1"},"인천광역시 부평구 부평문화로 216, 104동 1102호 (부개역코오롱아파트)","대화동","16-14","16-14","대",9,1.0351274787535412,1.0351274787535412,{"$nulls":5},"점포","대화아트빌\n점포1호",42.7,42.7,{"$nulls":6},{"$f":"VLOOKUP(F8,'[2]수정 명세서'!$E$9:$AH$873,28,FALSE)","v":"청산자"}]
[null,"수용",1,"-",2,"정영훈",{"$f":"VLOOKUP(F9,'[1]현금청산자 명부'!$E$9:$G$389,2,FALSE)","v":"620902-1"},"인천광역시 부평구 부평문화로 216, 104동 1102호 (부개역코오롱아파트)","대화동","16-14","16-315","대",179,20.587535410764875,20.587535410764875,{"$nulls":5},"점포","대화아트빌\n점포1호",{"$nulls":8},{"$f":"VLOOKUP(F9,'[2]수정 명세서'!$E$9:$AH$873,28,FALSE)","v":"청산자"}]
[null,"수용",2,"-",1,"김옥만",{"$f":"VLOOKUP(F10,'[1]현금청산자 명부'!$E$9:$G$389,2,FALSE)","v":"400122-2"},"대전광역시 대덕구 계족로690번길 21, 104동 1002호 (법동, 선비마을1단지)","대화동","16-14","16-14","대",9,1.4430594900849858,1.4430594900849858,{"$nulls":5},"점포","대화아트빌\n점포2호",59.53,59.53,{"$nulls":6},{"$f":"VLOOKUP(F10,'[2]수정 명세서'!$E$9:$AH$873,28,FALSE)","v":"청산자"}]
[null,"수용",2,"-",2,"김옥만",{"$f":"VLOOKUP(F11,'[1]현금청산자 명부'!$E$9:$G$389,2,FALSE)","v":"400122-2"},"대전광역시 대덕구 계족로690번길 21, 104동 1002호 (법동, 선비마을1단지)","대화동","16-14","16-315","대",179,28.700849858356943,28.700849858356943,{"$nulls":5},"점포","대화아트빌\n점포2호",{"$nulls":8},{"$f":"VLOOKUP(F11,'[2]수정 명세서'!$E$9:$AH$873,28,FALSE)","v":"청산자"}]
[null,"수용",3,"-",1,"문명희",{"$f":"VLOOKUP(F12,'[1]현금청산자 명부'!$E$9:$G$389,2,FALSE)","v":"630702-2"},"대전광역시 대덕구 대전로 1245, 102호 (대화동)","대화동","16-14","16-14","대",9,0.50481586402266287,0.50481586402266287,{"$nulls":5},"점포","대화아트빌\n점포3호",45.34,45.34,{"$nulls":6},{"$f":"VLOOKUP(F12,'[2]수정 명세서'!$E$9:$AH$873,28,FALSE)","v":"청산자"}]
[null,"수용",3,"-",2,"문명희",{"$f":"VLOOKUP(F13,'[1]현금청산자 명부'!$E$9:$G$389,2,FALSE)","v":"630702-2"},"대전광역시 대덕구 대전로 1245, 102호 (대화동)","대화동","16-14","16-315","대",179,10.040226628895184,10.040226628895184,{"$nulls":5},"점포","대화아트빌\n점포3호",{"$nulls":8},{"$f":"VLOOKUP(F13,'[2]수정 명세서'!$E$9:$AH$873,28,FALSE)","v":"청산자"}]
[null,"수용",4,"-",1,"문명희",{"$f":"VLOOKUP(F14,'[1]현금청산자 명부'!$E$9:$G$389,2,FALSE)","v":"630702-2"},"대전광역시 대덕구 대전로 1245, 102호 (대화동)","대화동","16-14","16-14","대",9,4.5025495750708222,4.5025495750708222,{"$nulls":5},"주택","대화아트빌\n102호",65.59,65.59,{"$nulls":6},{"$f":"VLOOKUP(F14,'[2]수정 명세서'!$E$9:$AH$873,28,FALSE)","v":"청산자"}]
[null,"수용",4,"-",2,"문명희",{"$f":"VLOOKUP(F15,'[1]현금청산자 명부'!$E$9:$G$389,2,FALSE)","v":"630702-2"},"대전광역시 대덕구 대전로 1245, 102호 (대화동)","대화동","16-14","16-315","대",179,89.550708215297462,89.550708215297462,{"$nulls":5},"주택","대화아트빌\n102호",{"$nulls":8},{"$f":"VLOOKUP(F15,'[2]수정 명세서'!$E$9:$AH$873,28,FALSE)","v":"청산자"}]
[null,"수용",5,"-",1,"최규혁",{"$f":"VLOOKUP(F16,'[1]현금청산자 명부'!$E$9:$G$389,2,FALSE)","v":"931111-1"},"대전광역시 대덕구 대전로 1245, 101호 (대화동)","대화동","16-14","16-14","대",9,0.50481586402266287,0.50481586402266287,{"$nulls":5},"주택","대화아트빌\n101호",56.36,56.36,{"$nulls":6},{"$f":"VLOOKUP(F16,'[2]수정 명세서'!$E$9:$AH$873,28,FALSE)","v":"청산자"}]
[null,"수용",5,"-",2,"최규혁",{"$f":"VLOOKUP(F17,'[1]현금청산자 명부'!$E$9:$G$389,2,FALSE)","v":"931111-1"},"대전광역시 대덕구 대전로 1245, 101호 (대화동)","대화동","16-14","16-315","대",179,10.040226628895184,10.040226628895184,{"$nulls":5},"주택","대화아트빌\n101호",{"$nulls":8},{"$f":"VLOOKUP(F17,'[2]수정 명세서'!$E$9:$AH$873,28,FALSE)","v":"청산자"}]
[null,"수용",6,"-",1,"최현숙",{"$f":"VLOOKUP(F18,'[1]현금청산자 명부'!$E$9:$G$389,2,FALSE)","v":"960907-2"},"대전광역시 대덕구 대전로 1245, 201호 (대화동)","대화동","16-14","16-14","대",9,0.50481586402266287,0.50481586402266287,{"$nulls":5},"주택","대화아트빌\n201호",56.36,56.36,{"$nulls":6},{"$f":"VLOOKUP(F18,'[2]수정 명세서'!$E$9:$AH$873,28,FALSE)","v":"청산자"}]
[null,"수용",6,"-",2,"최현숙",{"$f":"VLOOKUP(F19,'[1]현금청산자 명부'!$E$9:$G$389,2,FALSE)","v":"960907-2"},"대전광역시 대덕구 대전로 1245, 201호 (대화동)","대화동","16-14","16-315","대",179,10.040226628895184,10.040226628895184,{"$nulls":5},"주택","대화아트빌\n201호",{"$nulls":8},{"$f":"VLOOKUP(F19,'[2]수정 명세서'!$E$9:$AH$873,28,FALSE)","v":"청산자"}]
[null,"수용",7,"-",1,"최규하",{"$f":"VLOOKUP(F20,'[1]현금청산자 명부'!$E$9:$G$389,2,FALSE)","v":"871127-1"},"대전광역시 대덕구 대전로 1245, 202호 (대화동)","대화동","16-14","16-14","대",9,0.50481586402266287,0.50481586402266287,{"$nulls":5},"주택","대화아트빌\n202호",65.59,65.59,{"$nulls":6},{"$f":"VLOOKUP(F20,'[2]수정 명세서'!$E$9:$AH$873,28,FALSE)","v":"청산자"}]
[null,"수용",7,"-",2,"최규하",{"$f":"VLOOKUP(F21,'[1]현금청산자 명부'!$E$9:$G$389,2,FALSE)","v":"871127-1"},"대전광역시 대덕구 대전로 1245, 202호 (대화동)","대화동","16-14","16-315","대",179,10.040226628895184,10.040226628895184,{"$nulls":5},"주택","대화아트빌\n202호",{"$nulls":8},{"$f":"VLOOKUP(F21,'[2]수정 명세서'!$E$9:$AH$873,28,FALSE)","v":"청산자"}]
[null,"수용",1,"-",1,"정영훈",{"$f":"VLOOKUP(F22,'[1]현금청산자 명부'!$E$9:$G$389,2,FALSE)","v":"620902-1"},"인천광역시 부평구 부평문화로 216, 104동 1102호 (부개역코오롱아파트)","대화동","16-110","16-110","대",4,0.46005665722379607,0.46005665722379607,{"$nulls":5},"점포","대화아트빌\n점포1호",{"$nulls":8},{"$f":"VLOOKUP(F22,'[2]수정 명세서'!$E$9:$AH$873,28,FALSE)","v":"청산자"}]
[null,"수용",1,"-",2,"정영훈",{"$f":"VLOOKUP(F23,'[1]현금청산자 명부'!$E$9:$G$389,2,FALSE)","v":"620902-1"},"인천광역시 부평구 부평문화로 216, 104동 1102호 (부개역코오롱아파트)","대화동","16-110","16-316","대",161,18.517280453257793,18.517280453257793,{"$nulls":5},"점포","대화아트빌\n점포1호",{"$nulls":8},{"$f":"VLOOKUP(F23,'[2]수정 명세서'!$E$9:$AH$873,28,FALSE)","v":"청산자"}]
[null,"수용",2,"-",1,"김옥만",{"$f":"VLOOKUP(F24,'[1]현금청산자 명부'!$E$9:$G$389,2,FALSE)","v":"400122-2"},"대전광역시 대덕구 계족로690번길 21, 104동 1002호 (법동, 선비마을1단지)","대화동","16-110","16-110","대",4,0.64135977337110484,0.64135977337110484,{"$nulls":5},"점포","대화아트빌\n점포2호",{"$nulls":8},{"$f":"VLOOKUP(F24,'[2]수정 명세서'!$E$9:$AH$873,28,FALSE)","v":"청산자"}]
[null,"수용",2,"-",2,"김옥만",{"$f":"VLOOKUP(F25,'[1]현금청산자 명부'!$E$9:$G$389,2,FALSE)","v":"400122-2"},"대전광역시 대덕구 계족로690번길 21, 104동 1002호 (법동, 선비마을1단지)","대화동","16-110","16-316","대",161,25.814730878186971,25.814730878186971,{"$nulls":5},"점포","대화아트빌\n점포2호",{"$nulls":8},{"$f":"VLOOKUP(F25,'[2]수정 명세서'!$E$9:$AH$873,28,FALSE)","v":"청산자"}]
[null,"수용",3,"-",1,"문명희",{"$f":"VLOOKUP(F26,'[1]현금청산자 명부'!$E$9:$G$389,2,FALSE)","v":"630702-2"},"대전광역시 대덕구 대전로 1245, 102호 (대화동)","대화동","16-110","16-110","대",4,0.22436260623229462,0.22436260623229462,{"$nulls":5},"점포","대화아트빌\n점포3호",{"$nulls":8},{"$f":"VLOOKUP(F26,'[2]수정 명세서'!$E$9:$AH$873,28,FALSE)","v":"청산자"}]
[null,"수용",3,"-",2,"문명희",{"$f":"VLOOKUP(F27,'[1]현금청산자 명부'!$E$9:$G$389,2,FALSE)","v":"630702-2"},"대전광역시 대덕구 대전로 1245, 102호 (대화동)","대화동","16-110","16-316","대",161,9.0305949008498576,9.0305949008498576,{"$nulls":5},"점포","대화아트빌\n점포3호",{"$nulls":8},{"$f":"VLOOKUP(F27,'[2]수정 명세서'!$E$9:$AH$873,28,FALSE)","v":"청산자"}]
[null,"수용",4,"-",1,"문명희",{"$f":"VLOOKUP(F28,'[1]현금청산자 명부'!$E$9:$G$389,2,FALSE)","v":"630702-2"},"대전광역시 대덕구 대전로 1245, 102호 (대화동)","대화동","16-110","16-110","대",4,2.0011331444759208,2.0011331444759208,{"$nulls":5},"주택","대화아트빌\n102호",{"$nulls":8},{"$f":"VLOOKUP(F28,'[2]수정 명세서'!$E$9:$AH$873,28,FALSE)","v":"청산자"}]
[null,"수용",4,"-",2,"문명희",{"$f":"VLOOKUP(F29,'[1]현금청산자 명부'!$E$9:$G$389,2,FALSE)","v":"630702-2"},"대전광역시 대덕구 대전로 1245, 102호 (대화동)","대화동","16-110","16-316","대",161,80.545609065155816,80.545609065155816,{"$nulls":5},"주택","대화아트빌\n102호",{"$nulls":8},{"$f":"VLOOKUP(F29,'[2]수정 명세서'!$E$9:$AH$873,28,FALSE)","v":"청산자"}]
[null,"수용",5,"-",1,"최규혁",{"$f":"VLOOKUP(F30,'[1]현금청산자 명부'!$E$9:$G$389,2,FALSE)","v":"931111-1"},"대전광역시 대덕구 대전로 1245, 101호 (대화동)","대화동","16-110","16-110","대",4,0.22436260623229462,0.22436260623229462,{"$nulls":5},"주택","대화아트빌\n101호",{"$nulls":8},{"$f":"VLOOKUP(F30,'[2]수정 명세서'!$E$9:$AH$873,28,FALSE)","v":"청산자"}]
[null,"수용",5,"-",2,"최규혁",{"$f":"VLOOKUP(F31,'[1]현금청산자 명부'!$E$9:$G$389,2,FALSE)","v":"931111-1"},"대전광역시 대덕구 대전로 1245, 101호 (대화동)","대화동","16-110","16-316","대",161,9.0305949008498576,9.0305949008498576,{"$nulls":5},"주택","대화아트빌\n101호",{"$nulls":8},{"$f":"VLOOKUP(F31,'[2]수정 명세서'!$E$9:$AH$873,28,FALSE)","v":"청산자"}]
[null,"수용",6,"-",1,"최현숙",{"$f":"VLOOKUP(F32,'[1]현금청산자 명부'!$E$9:$G$389,2,FALSE)","v":"960907-2"},"대전광역시 대덕구 대전로 1245, 201호 (대화동)","대화동","16-110","16-110","대",4,0.22436260623229462,0.22436260623229462,{"$nulls":5},"주택","대화아트빌\n201호",{"$nulls":8},{"$f":"VLOOKUP(F32,'[2]수정 명세서'!$E$9:$AH$873,28,FALSE)","v":"청산자"}]
[null,"수용",6,"-",2,"최현숙",{"$f":"VLOOKUP(F33,'[1]현금청산자 명부'!$E$9:$G$389,2,FALSE)","v":"960907-2"},"대전광역시 대덕구 대전로 1245, 201호 (대화동)","대화동","16-110","16-316","대",161,9.0305949008498576,9.0305949008498576,{"$nulls":5},"주택","대화아트빌\n201호",{"$nulls":8},{"$f":"VLOOKUP(F33,'[2]수정 명세서'!$E$9:$AH$873,28,FALSE)","v":"청산자"}]
[null,"수용",7,"-",1,"최규하",{"$f":"VLOOKUP(F34,'[1]현금청산자 명부'!$E$9:$G$389,2,FALSE)","v":"871127-1"},"대전광역시 대덕구 대전로 1245, 202호 (대화동)","대화동","16-110","16-110","대",4,0.22436260623229462,0.22436260623229462,{"$nulls":5},"주택","대화아트빌\n202호",{"$nulls":8},{"$f":"VLOOKUP(F34,'[2]수정 명세서'!$E$9:$AH$873,28,FALSE)","v":"청산자"}]
[null,"수용",7,"-",2,"정영훈",{"$f":"VLOOKUP(F35,'[1]현금청산자 명부'!$E$9:$G$389,2,FALSE)","v":"620902-1"},"인천광역시 부평구 부평문화로 216, 104동 1102호 (부개역코오롱아파트)","대화동","16-110","16-110","대",76.461538461538495,10.4294617563739,10.4294617563739,{"$nulls":5},"점포","대화아트빌\n점포1호",{"$nulls":8},{"$f":"VLOOKUP(F35,'[2]수정 명세서'!$E$9:$AH$873,28,FALSE)","v":"청산자"}]
[null,"수용",8,"-",1,"정진섭","600201-1","대전광역시 대덕구 계족로761번길 24, 110동 1303호 (읍내동, 현대아파트)","대화동","16-257","16-257","대",8,2,2,"공유",{"$nulls":14},{"$f":"VLOOKUP(F36,'[2]수정 명세서'!$E$9:$AH$873,28,FALSE)","v":"조합원"}]
[null,"수용",8,"-",2,"정진섭","600201-1","대전광역시 대덕구 계족로761번길 24, 110동 1303호 (읍내동, 현대아파트)","대화동","16-257","16-324","대",180,45,45,"공유",{"$nulls":14},{"$f":"VLOOKUP(F37,'[2]수정 명세서'!$E$9:$AH$873,28,FALSE)","v":"조합원"}]
[null,"수용",8,"-",3,"정진섭","600201-1","대전광역시 대덕구 계족로761번길 24, 110동 1303호 (읍내동, 현대아파트)","대화동","16-257","16-325","대",3,0.75,0.75,"공유",{"$nulls":14},{"$f":"VLOOKUP(F38,'[2]수정 명세서'!$E$9:$AH$873,28,FALSE)","v":"조합원"}]
[null,"수용",8,"-",4,"최영복","400310-1","대전광역시 중구 보문로47번길 120, 3층 (석교동)","대화동","16-257","16-257","대",8,2,2,"공유",{"$nulls":14},{"$f":"VLOOKUP(F39,'[2]수정 명세서'!$E$9:$AH$873,28,FALSE)","v":"조합원"}]
[null,"수용",8,"-",5,"최영복","400310-1","대전광역시 중구 보문로47번길 120, 3층 (석교동)","대화동","16-257","16-324","대",180,45,45,"공유",{"$nulls":14},{"$f":"VLOOKUP(F40,'[2]수정 명세서'!$E$9:$AH$873,28,FALSE)","v":"조합원"}]
[null,"수용",8,"-",6,"최영복","400310-1","대전광역시 중구 보문로47번길 120, 3층 (석교동)","대화동","16-257","16-325","대",3,0.75,0.75,"공유",{"$nulls":14},{"$f":"VLOOKUP(F41,'[2]수정 명세서'!$E$9:$AH$873,28,FALSE)","v":"조합원"}]
[null,"수용",8,"-",7,"조현경","001107-4","울산광역시 동구 바드래길 110, 104동 1003호(전하동,대경넥스빌)","대화동","16-257","16-257","대",8,2,2,"공유",{"$nulls":14},{"$f":"VLOOKUP(F42,'[2]수정 명세서'!$E$9:$AH$873,28,FALSE)","v":"조합원"}]
[null,"수용",8,"-",8,"조현경","001107-4","울산광역시 동구 바드래길 110, 104동 1003호(전하동,대경넥스빌)","대화동","16-257","16-324","대",180,45,45,"공유",{"$nulls":14},{"$f":"VLOOKUP(F43,'[2]수정 명세서'!$E$9:$AH$873,28,FALSE)","v":"조합원"}]
[null,"수용",8,"-",9,"조현경","001107-4","울산광역시 동구 바드래길 110, 104동 1003호(전하동,대경넥스빌)","대화동","16-257","16-325","대",3,0.75,0.75,"공유",{"$nulls":14},{"$f":"VLOOKUP(F44,'[2]수정 명세서'!$E$9:$AH$873,28,FALSE)","v":"조합원"}]
[null,"수용",8,"-",10,"김종일",{"$f":"VLOOKUP(F45,'[1]현금청산자 명부'!$E$9:$G$389,2,FALSE)","v":"120820-1"},"대전광역시 대덕구 대화동 산4-29","대화동","16-257","16-257","대",8,1.6,1.6,"공유",{"$nulls":14},{"$f":"VLOOKUP(F45,'[2]수정 명세서'!$E$9:$AH$873,28,FALSE)","v":"청산자"}]
[null,"수용",8,"-",11,"김종일",{"$f":"VLOOKUP(F46,'[1]현금청산자 명부'!$E$9:$G$389,2,FALSE)","v":"120820-1"},"대전광역시 대덕구 대화동 산4-29","대화동","16-257","16-324","대",180,36,36,"공유",{"$nulls":14},{"$f":"VLOOKUP(F46,'[2]수정 명세서'!$E$9:$AH$873,28,FALSE)","v":"청산자"}]
[null,"수용",8,"-",12,"김종일",{"$f":"VLOOKUP(F47,'[1]현금청산자 명부'!$E$9:$G$389,2,FALSE)","v":"120820-1"},"대전광역시 대덕구 대화동 산4-29","대화동","16-257","16-325","대",3,0.60000000000000009,0.60000000000000009,"공유",{"$nulls":14},{"$f":"VLOOKUP(F47,'[2]수정 명세서'!$E$9:$AH$873,28,FALSE)","v":"청산자"}]
[null,"수용",8,"-",13,"김명희",{"$f":"VLOOKUP(F48,'[1]현금청산자 명부'!$E$9:$G$389,2,FALSE)","v":"730214-2"},"대전광역시 서구 도산로370번길 55, 102동 902호(용문동, 서우아파트)","대화동","16-257","16-257","대",8,0.4,0.4,"공유",{"$nulls":14},{"$f":"VLOOKUP(F48,'[2]수정 명세서'!$E$9:$AH$873,28,FALSE)","v":"청산자"}]
[null,"수용",8,"-",14,"김명희",{"$f":"VLOOKUP(F49,'[1]현금청산자 명부'!$E$9:$G$389,2,FALSE)","v":"730214-2"},"대전광역시 서구 도산로370번길 55, 102동 902호(용문동, 서우아파트)","대화동","16-257","16-324","대",180,9,9,"공유",{"$nulls":14},{"$f":"VLOOKUP(F49,'[2]수정 명세서'!$E$9:$AH$873,28,FALSE)","v":"청산자"}]
[null,"수용",8,"-",15,"김명희",{"$f":"VLOOKUP(F50,'[1]현금청산자 명부'!$E$9:$G$389,2,FALSE)","v":"730214-2"},"대전광역시 서구 도산로370번길 55, 102동 902호(용문동, 서우아파트)","대화동","16-257","16-325","대",3,0.15000000000000002,0.15000000000000002,"공유",{"$nulls":14},{"$f":"VLOOKUP(F50,'[2]수정 명세서'!$E$9:$AH$873,28,FALSE)","v":"청산자"}]
[null,"수용",9,"-",1,"대덕구",null,null,"대화동","16-261","16-326","도로",1,0.73857142857142855,0.73857142857142855,"공유"]
[null,"수용",9,"-",2,"대덕구",null,null,"대화동","16-261","16-327","도로",1,0.73857142857142855,0.73857142857142855,"공유"]
[null,"수용",9,"-",3,"대덕구",null,null,"대화동","16-261","16-328","도로",5,3.6928571428571426,3.6928571428571426,"공유"]
[null,"수용",9,"-",4,"서규석",{"$f":"VLOOKUP(F54,'[1]현금청산자 명부'!$E$9:$G$389,2,FALSE)","v":"570325-1"},"대전광역시 유성구 엑스포로123번길 26-30, 103동 1703호 (도룡동, 스마트시티 리버뷰)","대화동","16-261","16-326","도로",1,0.13071428571428573,0.13071428571428573,"공유",{"$nulls":14},{"$f":"VLOOKUP(F54,'[2]수정 명세서'!$E$9:$AH$873,28,FALSE)","v":"청산자"}]
[null,"수용",9,"-",5,"서규석",{"$f":"VLOOKUP(F55,'[1]현금청산자 명부'!$E$9:$G$389,2,FALSE)","v":"570325-1"},"대전광역시 유성구 엑스포로123번길 26-30, 103동 1703호 (도룡동, 스마트시티 리버뷰)","대화동","16-261","16-327","도로",1,0.13071428571428573,0.13071428571428573,"공유",{"$nulls":14},{"$f":"VLOOKUP(F55,'[2]수정 명세서'!$E$9:$AH$873,28,FALSE)","v":"청산자"}]
[null,"수용",9,"-",6,"서규석",{"$f":"VLOOKUP(F56,'[1]현금청산자 명부'!$E$9:$G$389,2,FALSE)","v":"570325-1"},"대전광역시 유성구 엑스포로123번길 26-30, 103동 1703호 (도룡동, 스마트시티 리버뷰)","대화동","16-261","16-328","도로",5,0.65357142857142869,0.65357142857142869,"공유",{"$nulls":14},{"$f":"VLOOKUP(F56,'[2]수정 명세서'!$E$9:$AH$873,28,FALSE)","v":"청산자"}]
[null,"수용",9,"-",7,"우의택",{"$f":"VLOOKUP(F57,'[1]현금청산자 명부'!$E$9:$G$389,2,FALSE)","v":"571006-1"},"경기 성남시 분당구 분당로263번길 24, 116동 602호 (분당동, 장안타운건영아파트)","대화동","16-261","16-326","도로",1,0.13071428571428573,0.13071428571428573,"공유",{"$nulls":14},{"$f":"VLOOKUP(F57,'[2]수정 명세서'!$E$9:$AH$873,28,FALSE)","v":"청산자"}]
[null,"수용",9,"-",8,"우의택",{"$f":"VLOOKUP(F58,'[1]현금청산자 명부'!$E$9:$G$389,2,FALSE)","v":"571006-1"},"경기 성남시 분당구 분당로263번길 24, 116동 602호 (분당동, 장안타운건영아파트)","대화동","16-261","16-327","도로",1,0.13071428571428573,0.13071428571428573,"공유",{"$nulls":14},{"$f":"VLOOKUP(F58,'[2]수정 명세서'!$E$9:$AH$873,28,FALSE)","v":"청산자"}]
[null,"수용",9,"-",9,"우의택",{"$f":"VLOOKUP(F59,'[1]현금청산자 명부'!$E$9:$G$389,2,FALSE)","v":"571006-1"},"경기 성남시 분당구 분당로263번길 24, 116동 602호 (분당동, 장안타운건영아파트)","대화동","16-261","16-328","도로",5,0.65357142857142869,0.65357142857142869,"공유",{"$nulls":14},{"$f":"VLOOKUP(F59,'[2]수정 명세서'!$E$9:$AH$873,28,FALSE)","v":"청산자"}]
[null,"수용",10,"-",1,"대덕구",null,null,"대화동","16-280","16-329","대",142,76.290000000000006,76.290000000000006,"공유"]
[null,"수용",10,"-",2,"정진섭","600201-1","대전광역시 대덕구 계족로761번길 24, 110동 1303호 (읍내동, 현대아파트)","대화동","16-280","16-329","대",142,6.3737500000000002,6.3737500000000002,"공유",{"$nulls":14},{"$f":"VLOOKUP(F61,'[2]수정 명세서'!$E$9:$AH$873,28,FALSE)","v":"조합원"}]
[null,"수용",10,"-",3,"조현경","001107-4","울산광역시 동구 바드래길 110, 104동 1003호(전하동,대경넥스빌)","대화동","16-280","16-329","대",142,6.3737500000000002,6.3737500000000002,"공유",{"$nulls":14},{"$f":"VLOOKUP(F62,'[2]수정 명세서'!$E$9:$AH$873,28,FALSE)","v":"조합원"}]
[null,"수용",10,"-",4,"서월석",{"$f":"VLOOKUP(F63,'[1]현금청산자 명부'!$E$9:$G$389,2,FALSE)","v":500429},"대전광역시 대덕구 비래서로25번길 37, 403호 (비래동, 흥진아파트)","대화동","16-280","16-329","대",142,8.1987500000000004,8.1987500000000004,"공유",{"$nulls":14},{"$f":"VLOOKUP(F63,'[2]수정 명세서'!$E$9:$AH$873,28,FALSE)","v":"청산자"}]
[null,"수용",10,"-",5,"김종일",{"$f":"VLOOKUP(F64,'[1]현금청산자 명부'!$E$9:$G$389,2,FALSE)","v":"120820-1"},"대전광역시 대덕구 대화동 산4-29","대화동","16-280","16-329","대",142,5.0997500000000002,5.0997500000000002,"공유",{"$nulls":14},{"$f":"VLOOKUP(F64,'[2]수정 명세서'!$E$9:$AH$873,28,FALSE)","v":"청산자"}]
[null,"수용",10,"-",6,"김명희",{"$f":"VLOOKUP(F65,'[1]현금청산자 명부'!$E$9:$G$389,2,FALSE)","v":"730214-2"},"대전광역시 서구 도산로370번길 55, 102동 902호(용문동, 서우아파트)","대화동","16-280","16-329","대",142,1.2757499999999999,1.2757499999999999,"공유",{"$nulls":14},{"$f":"VLOOKUP(F65,'[2]수정 명세서'!$E$9:$AH$873,28,FALSE)","v":"청산자"}]
[null,"수용",10,"-",7,"우의택",{"$f":"VLOOKUP(F66,'[1]현금청산자 명부'!$E$9:$G$389,2,FALSE)","v":"571006-1"},"경기 성남시 분당구 분당로263번길 24, 116동 602호 (분당동, 장안타운건영아파트)","대화동","16-280","16-329","대",142,0.82074999999999998,0.82074999999999998,"공유",{"$nulls":14},{"$f":"VLOOKUP(F66,'[2]수정 명세서'!$E$9:$AH$873,28,FALSE)","v":"청산자"}]
[null,"수용",10,"-",8,"김인태",{"$f":"VLOOKUP(F67,'[1]현금청산자 명부'!$E$9:$G$389,2,FALSE)","v":"611015-1"},"대전광역시 대덕구 대화동 산4-29","대화동","16-280","16-329","대",142,6.3737500000000002,6.3737500000000002,"공유",{"$nulls":14},{"$f":"VLOOKUP(F67,'[2]수정 명세서'!$E$9:$AH$873,28,FALSE)","v":"청산자"}]
[null,"수용",10,"-",9,"서무광",{"$f":"VLOOKUP(F68,'[1]현금청산자 명부'!$E$9:$G$389,2,FALSE)","v":"441018-1"},"대전광역시 대덕구 대화13길 16 (대화동)","대화동","16-280","16-329","대",142,23.81175,23.81175,"공유",{"$nulls":14},{"$f":"VLOOKUP(F68,'[2]수정 명세서'!$E$9:$AH$873,28,FALSE)","v":"청산자"}]
[null,"수용",10,"-",10,"우경자",{"$f":"VLOOKUP(F69,'[1]현금청산자 명부'!$E$9:$G$389,2,FALSE)","v":"551113-2"},"경기 성남시 분당구 양현로 272, 310동 803호 (야탑동, 탑마을경향아파트)","대화동","16-280","16-329","대",142,0.82074999999999998,0.82074999999999998,"공유",{"$nulls":14},{"$f":"VLOOKUP(F69,'[2]수정 명세서'!$E$9:$AH$873,28,FALSE)","v":"청산자"}]
[null,"수용",10,"-",11,"우숙희",{"$f":"VLOOKUP(F70,'[1]현금청산자 명부'!$E$9:$G$389,2,FALSE)","v":"531019-2"},"서울특별시 강남구 남부순환로 2907, 311동 301호 (주공고층아파트)","대화동","16-280","16-329","대",142,0.82074999999999998,0.82074999999999998,"공유",{"$nulls":14},{"$f":"VLOOKUP(F70,'[2]수정 명세서'!$E$9:$AH$873,28,FALSE)","v":"청산자"}]
[null,"수용",10,"-",12,"우순희",{"$f":"VLOOKUP(F71,'[1]현금청산자 명부'!$E$9:$G$389,2,FALSE)","v":"480420-2"},"경기도 성남시 분당구 불정로 308, 101동 302호 (분당동, 샛별마을현대빌라)","대화동","16-280","16-329","대",142,4.9197499999999996,4.9197499999999996,"공유",{"$nulls":14},{"$f":"VLOOKUP(F71,'[2]수정 명세서'!$E$9:$AH$873,28,FALSE)","v":"청산자"}]
[null,"수용",10,"-",13,"우연숙",{"$f":"VLOOKUP(F72,'[1]현금청산자 명부'!$E$9:$G$389,2,FALSE)","v":"600928-2"},"경기도 성남시 분당구 불정로 141, 102동 901호 (정든마을)","대화동","16-280","16-329","대",142,0.82074999999999998,0.82074999999999998,"공유",{"$nulls":14},{"$f":"VLOOKUP(F72,'[2]수정 명세서'!$E$9:$AH$873,28,FALSE)","v":"청산자"}]
[null,"수용",11,"-",1,"대덕구",null,null,"대화동","35-55","35-1258","대",1417,1376.35,1376.35,"공유"]
[null,"수용",11,"-",2,"백종석","871103-1","경기도 김포시 김포한강11로 179, 511동 205호 (한강신도시푸르지오)","대화동","35-55","35-1258","대",1417,11.86,11.86,"공유",{"$nulls":14},{"$f":"VLOOKUP(F74,'[2]수정 명세서'!$E$9:$AH$873,28,FALSE)","v":"조합원"}]
[null,"수용",11,"-",3,"윤승호",{"$f":"VLOOKUP(F75,'[1]현금청산자 명부'!$E$9:$G$389,2,FALSE)","v":"800611-1"},"인천광역시 남동구 포구로 35, 101동 2802호 (논현동, 논현유호엔시티1단지)","대화동","35-55","35-1258","대",1417,10.16,10.16,"공유",{"$nulls":14},{"$f":"VLOOKUP(F75,'[2]수정 명세서'!$E$9:$AH$873,28,FALSE)","v":"청산자"}]
[null,"수용",11,"-",4,"이계용",{"$f":"VLOOKUP(F76,'[1]현금청산자 명부'!$E$9:$G$389,2,FALSE)","v":"590119-1"},"대전광역시 대덕구 대화4길 2 (대화동)","대화동","35-55","35-1258","대",1417,18.63,18.63,"공유",{"$nulls":14},{"$f":"VLOOKUP(F76,'[2]수정 명세서'!$E$9:$AH$873,28,FALSE)","v":"청산자"}]
[null,"수용",12,"-",1,"오지연",{"$f":"VLOOKUP(F77,'[1]현금청산자 명부'!$E$9:$G$389,2,FALSE)","v":"691018-2"},"서울특별시 구로구 구일로4길 65, 108동 108호 (구로동, 주공아파트)","대화동","39-36","39-36","대",14,2.333333333333333,2.333333333333333,"공유",{"$nulls":4},"일반음식점 및 점포",null,180.3,60.1,null,null,"공유",null,null,null,{"$f":"VLOOKUP(F77,'[2]수정 명세서'!$E$9:$AH$873,28,FALSE)","v":"청산자"}]
[null,"수용",12,"-",2,"오지연",{"$f":"VLOOKUP(F78,'[1]현금청산자 명부'!$E$9:$G$389,2,FALSE)","v":"691018-2"},"서울특별시 구로구 구일로4길 65, 108동 108호 (구로동, 주공아파트)","대화동","39-36","39-81","대",446,74.333333333333329,74.333333333333329,"공유",{"$nulls":14},{"$f":"VLOOKUP(F78,'[2]수정 명세서'!$E$9:$AH$873,28,FALSE)","v":"청산자"}]
[null,"수용",12,"-",3,"오현미",{"$f":"VLOOKUP(F79,'[1]현금청산자 명부'!$E$9:$G$389,2,FALSE)","v":"730813-2"},"충남  태안군 태안읍 중앙로 177-9, 비동 302호 (에스알타운)","대화동","39-36","39-36","대",14,2.333333333333333,2.333333333333333,"공유",{"$nulls":4},"일반음식점 및 점포",null,180.3,60.1,null,null,"공유",null,null,null,{"$f":"VLOOKUP(F79,'[2]수정 명세서'!$E$9:$AH$873,28,FALSE)","v":"청산자"}]
[null,"수용",12,"-",4,"오현미",{"$f":"VLOOKUP(F80,'[1]현금청산자 명부'!$E$9:$G$389,2,FALSE)","v":"730813-2"},"충남  태안군 태안읍 중앙로 177-9, 비동 302호 (에스알타운)","대화동","39-36","39-81","대",446,74.333333333333329,74.333333333333329,"공유",{"$nulls":14},{"$f":"VLOOKUP(F80,'[2]수정 명세서'!$E$9:$AH$873,28,FALSE)","v":"청산자"}]
[null,"수용",12,"-",5,"오현주",{"$f":"VLOOKUP(F81,'[1]현금청산자 명부'!$E$9:$G$389,2,FALSE)","v":"750726-2"},"경기도 고양시 일산동구 위시티4로 79, 309동 1903호(식사동, 위시티블루밍3단지아파트)","대화동","39-36","39-36","대",14,2.333333333333333,2.333333333333333,"공유",{"$nulls":4},"일반음식점 및 점포",null,180.3,60.1,null,null,"공유",null,null,null,{"$f":"VLOOKUP(F81,'[2]수정 명세서'!$E$9:$AH$873,28,FALSE)","v":"청산자"}]
[null,"수용",12,"-",6,"오현주",{"$f":"VLOOKUP(F82,'[1]현금청산자 명부'!$E$9:$G$389,2,FALSE)","v":"750726-2"},"경기도 고양시 일산동구 위시티4로 79, 309동 1903호(식사동, 위시티블루밍3단지아파트)","대화동","39-36","39-81","대",446,74.333333333333329,74.333333333333329,"공유",{"$nulls":14},{"$f":"VLOOKUP(F82,'[2]수정 명세서'!$E$9:$AH$873,28,FALSE)","v":"청산자"}]
[null,"수용",12,"-",7,"이재석",{"$f":"VLOOKUP(F83,'[1]현금청산자 명부'!$E$9:$G$389,2,FALSE)","v":"600218-1"},"대전광역시 대덕구 대화1길 3 (대화동)","대화동","39-36","39-36","대",14,7,7,"공유",{"$nulls":4},"주택(3가구) 및 점포",null,248.66,248.66,{"$nulls":6},{"$f":"VLOOKUP(F83,'[2]수정 명세서'!$E$9:$AH$873,28,FALSE)","v":"청산자"}]
[null,"수용",12,"-",8,"이재석",{"$f":"VLOOKUP(F84,'[1]현금청산자 명부'!$E$9:$G$389,2,FALSE)","v":"600218-1"},"대전광역시 대덕구 대화1길 3 (대화동)","대화동","39-36","39-81","대",446,223,223,"공유",{"$nulls":14},{"$f":"VLOOKUP(F84,'[2]수정 명세서'!$E$9:$AH$873,28,FALSE)","v":"청산자"}]
[null,"수용",13,"-",null,"국(국토교통부)",null,null,"오정동","산13-5","산13-6","도로",1,1,1]
[null,"수용",14,"-",null,"대덕구",null,null,"대화동","16-216","16-322","도로",1073,1073,1073]
[null,"수용",15,"-",null,"대덕구",null,null,"대화동","16-291","16-330","도로",3,3,3]
[null,"수용",16,"-",null,"대덕구",null,null,"대화동","33-4","33-16","도로",404,404,404]
[null,"수용",16,"-",null,"대덕구",null,null,"대화동","33-4","33-17","도로",1,1,1]
[null,"수용",17,"-",null,"대덕구",null,null,"대화동","35-83","35-1256","도로",136,136,136]
[null,"수용",18,"-",null,"대덕구",null,null,"대화동","35-718","35-1261","도로",53,53,53]
[null,"수용",19,"-",null,"대덕구",null,null,"대화동","35-772","35-1262","도로",2,2,2]
[null,"수용",20,"-",null,"대덕구",null,null,"대화동","35-819","35-1263","도로",93,93,93]
[null,"수용",21,"-",null,"대덕구",null,null,"대화동","35-833","35-1264","도로",1,1,1]
[null,"수용",22,"-",null,"대전광역시",null,null,"대화동","38-39","38-67","도로",1,1,1]
[null,"수용",23,"-",1,"국(국토교통부)",null,null,"대화동","산4-8","산4-44","도로",2,2,2]
[null,"수용",23,"-",2,"국(국토교통부)",null,null,"대화동","산4-8","산4-37","도로",31,31,31]
[null,"수용",24,"-",null,"대덕구",null,null,"대화동","산4-43","산4-45","도로",90,90,90]
[null,"수용",25,"-",null,"국(국토교통부)",null,null,"대화동","산5-4","산5-91","도로",4,4,4]
[null,"수용",26,"-",1,"대전광역시",null,null,"대화동","산5-5","산5-92","도로",524,524,524]
[null,"수용",26,"-",2,"대전광역시",null,null,"대화동","산5-5","산5-93","도로",98,98,98]