Workbook

Sheet 원가계산서
B1: 공 사 원 가 계 산 서
B2: 공사명 : 대덕구청 청렴관 장애인편의시설 개선공사 | F2: ="금액 : "&NUMBERSTRING(E30,1)&"원" -> 금액 : 영원 | G2: =E30 -> 0
B3: 비 목 | E3: 금 액 | F3: 구 성 비 | G3: 비 고
A4: A1 | B4: 순 공 사 원 가 | C4: 재 료 비 | D4: 직 접 재 료 비 | E4: =TRUNC(공종별집계표!F5, 0) -> 0
A5: A2 | D5: 간 접 재 료 비 | E5: 0
A6: A3 | D6: 작업설, 부산물(△) | E6: 0
A7: AS | D7: [ 소 계 ] | E7: =TRUNC(E4+E5-E6, 0) -> 0
A8: B1 | C8: 노 무 비 | D8: 직 접 노 무 비 | E8: =TRUNC(공종별집계표!H5, 0) -> 0
A9: B2 | D9: 간 접 노 무 비 | E9: =TRUNC(E8*0.13, 0) -> 0 | F9: 직접노무비 * 13%
A10: BS | D10: [ 소 계 ] | E10: =TRUNC(E8+E9, 0) -> 0
A11: C2 | C11: 경 비 | D11: 경 비 | E11: =TRUNC(공종별집계표!J5, 0) -> 0
A12: C4 | D12: 산 재 보 험 료 | E12: =TRUNC(E10*0.037, 0) -> 0 | F12: 노무비 * 3.7% | G12: 모든건설공사
A13: C5 | D13: 고 용 보 험 료 | E13: =TRUNC(E10*0.0101, 0) -> 0 | F13: 노무비 * 1.01% | G13: 모든건설공사
A14: C6 | D14: 국민 건강 보험료 | E14: =TRUNC(E8*0, 0) -> 0 | G14: 공사기간1개월(30일)미만
A15: CB | D15: 노인장기요양보험료 | E15: =TRUNC(E14*0, 0) -> 0 | G15: 공사기간1개월(30일)미만
A16: C7 | D16: 국민 연금 보험료 | E16: =TRUNC(E8*0, 0) -> 0 | G16: 공사기간1개월(30일)미만
A17: CA | D17: 산업안전보건관리비 | E17: =TRUNC((E7+E8)*0.0293, 0) -> 0 | F17: (재료비+직노)*2.93% | G17: 총공사금액2천만원이상
A18: CH | D18: 환 경 보 전 비 | E18: =TRUNC((E7+E8+E11)*0.003, 0) -> 0 | F18: (재료비+직노+경비) * 0.3%
A19: CG | D19: 기 타 경 비 | E19: =TRUNC((E7+E10)*0.058, 0) -> 0 | F19: (재료비+노무비) * 5.8%
A20: CL | D20: 건설기계대여금지급보증서발급수수료 | E20: =TRUNC((E7+E8+E11)*0.0032, 0) -> 0 | F20: (재료비+직노+경비) * 0.32% | G20: 시설물유지관리
A21: CS | D21: [ 소 계 ] | E21: =TRUNC(E11+E12+E13+E14+E15+E16+E17+E18+E19+E20, 0) -> 0
A22: S1 | B22: 계 | E22: =TRUNC(E7+E10+E21, 0) -> 0
A23: D1 | B23: 일 반 관 리 비 | E23: =TRUNC(E22*0.03, 0) -> 0 | F23: 계 * 3%
A24: D2 | B24: 이 윤 | E24: =TRUNC((E10+E21+E23)*0.08, 0) -> 0 | F24: (노무비+경비+일반관리비) * 8%
A25: D4 | B25: 철거고재(공제) | E25: =TRUNC(공종별집계표!T15, 0) -> 0
A26: D5 | B26: 건 설 폐 기 물 | E26: =TRUNC(공종별집계표!T16, 0) -> 0
A27: D9 | B27: 공 급 가 액 | E27: =TRUNC(E22+E23+E24+E25+E26, 0) -> 0
A28: DB | B28: 부 가 가 치 세 | E28: =TRUNC(E27*0.1, 0) -> 0 | F28: 공급가액 * 10%
A29: DH | B29: 도 급 액 | E29: =TRUNC(E27+E28, 0) -> 0
A30: S2 | B30: 총 공 사 비 | E30: =TRUNC(E29+0, 0) -> 0

Sheet 공종별집계표
A1: 공 종 별 집 계 표
A2: [ 대덕구청 청렴관 장애인편의시설 개선공사 ]
A3: 품 명 | B3: 규 격 | C3: 단위 | D3: 수량 | E3: 재 료 비 | G3: 노 무 비 | I3: 경 비 | K3: 합 계 | M3: 비 고 | N3: 공종코드 | O3: 변수 | P3: 상위공종 | Q3: 공종구분 | R3: 공종레벨 | S3: 공종소계 | T3: 원가계산서 연결금액
E4: 단 가 | F4: 금 액 | G4: 단 가 | H4: 금 액 | I4: 단 가 | J4: 금 액 | K4: 단 가 | L4: 금 액
A5: 01 대덕구청대회의실무대리모델링공사 | D5: 1 | N5: 01 | R5: 1
A6: 0101 ◈ 건축공사 | D6: 1 | N6: 0101 | P6: 01 | R6: 2
A7: 010101 가 설 공 사 | D7: 1 | N7: 010101 | P7: 0101 | R7: 3
A8: 010102 철근콘크리트공사 | D8: 1 | N8: 010102 | P8: 0101 | R8: 3
A9: 010103 조 적 공 사 | D9: 1 | N9: 010103 | P9: 0101 | R9: 3
A10: 010104 돌 공 사 | D10: 1 | N10: 010104 | P10: 0101 | R10: 3
A11: 010105 목 공 사 | D11: 1 | N11: 010105 | P11: 0101 | R11: 3
A12: 010106 금 속 공 사 | D12: 1 | N12: 010106 | P12: 0101 | R12: 3
A13: 010107 철 거 공 사 | D13: 1 | N13: 010107 | P13: 0101 | R13: 3
A14: 010108 골 재 대 | D14: 1 | N14: 010108 | P14: 0101 | R14: 3
A15: 010109 철거고재(공제) | B15: [집계제외] | D15: 1 | N15: 010109 | Q15: 5 | R15: 3 | T15: =L15*1 -> 0
A16: 010110 건 설 폐 기 물 | B16: [집계제외] | D16: 1 | N16: 010110 | Q16: 6 | R16: 3 | T16: =L16*1 -> 0
A27: [ 합 계 ] | F27: =F5 -> 0 | H27: =H5 -> 0 | J27: =J5 -> 0 | L27: =L5 -> 0

Sheet 공종별내역서
A1: [ 대덕구청 청렴관 장애인편의시설 개선공사 ]
A2: 품 명 | B2: 규 격 | C2: 단위 | D2: 수량 | E2: 재 료 비 | G2: 노 무 비 | I2: 경 비 | K2: 합 계 | M2: 비 고 | N2: 품목코드 | O2: 변수 | P2: 설정 | Q2: 공종코드 | R2: 일위 | S2: 단산 | T2: 자재 | U2: 손료적용 | V2: 손료저장 | W2: 적용율 | X2: JUK1 | Y2: JUK2 | Z2: JUK3 | AA2: JUK4 | AB2: JUK5 | AC2: JUK6 | AD2: JUK7 | AE2: JUK8 | AF2: JUK9 | AG2: JUK10 | AH2: JUK11 | AI2: JUK12 | AJ2: JUK13 | AK2: JUK14 | AL2: JUK15 | AM2: JUK16 | AN2: JUK17 | AO2: JUK18 | AP2: JUK19 | AQ2: JUK20 | AR2: 자재구분 | AS2: 공종구분 | AT2: 공종레벨 | AU2: 공종+자재 | AV2: 고유번호
E3: 단 가 | F3: 금 액 | G3: 단 가 | H3: 금 액 | I3: 단 가 | J3: 금 액 | K3: 단 가 | L3: 금 액
A4: 010101 가 설 공 사 | Q4: 010101
A5: 건축물보양 - 기존마감보호 | B5: 합판12mm,부직포2겹 | C5: M2 | D5: 84 | M5: 호표 2 | N5: 57A0215264D16AE6056FFC85618EAA | Q5: 010101 | R5: T | S5: F | T5: F | AU5: 01010157A0215264D16AE6056FFC85618EAA | AV5: 5
A6: 현장정리및준공청소 | B6: 수선 | C6: M2 | D6: 53 | M6: 호표 3 | N6: 57A0215264E16B3A666341252521ED | Q6: 010101 | R6: T | S6: F | T6: F | AU6: 01010157A0215264E16B3A666341252521ED | AV6: 54
A27: [ 합 계 ] | N27: TOTAL
A28: 010102 철근콘크리트공사 | Q28: 010102
A29: 레미콘 - 대전 | B29: 25-24-15 | C29: M3 | D29: 8 | N29: 508B215597D16E367D67A46145FF0A0BC5B4B8 | Q29: 010102 | R29: F | S29: F | T29: T | AU29: 010102508B215597D16E367D67A46145FF0A0BC5B4B8 | AV29: 20
A30: 레디믹스트콘크리트 인력운반 타설 | B30: 소형구조물 | C30: M3 | D30: 8 | M30: 호표 4 | N30: 57A0715A220166A8E76DB4494A9D56 | Q30: 010102 | R30: T | S30: F | T30: F | AU30: 01010257A0715A220166A8E76DB4494A9D56 | AV30: 95
A31: 철근콘크리트용봉강 | B31: 이형봉강(SD350/400), HD-10, 지정장소도 | C31: TON | D31: 0.3 | N31: 508B215597C16DA45566B3418D90151903BA18 | Q31: 010102 | R31: F | S31: F | T31: T | AU31: 010102508B215597C16DA45566B3418D90151903BA18 | AV31: 14
A32: 철근콘크리트용봉강 | B32: 이형봉강(SD350/400), HD-13, 지정장소도 | C32: TON | D32: 0.7 | N32: 508B215597C16DA45566B3418D90151900E6B9 | Q32: 010102 | R32: F | S32: F | T32: T | AU32: 010102508B215597C16DA45566B3418D90151900E6B9 | AV32: 15
A33: 철근 현장가공 및 현장조립 | B33: Type-Ⅰ(일반)/소형구조물 | C33: TON | D33: 0.9 | M33: 호표 5 | N33: 57833154DE8160BF2D6BDA6D15BE38 | Q33: 010102 | R33: T | S33: F | T33: F | AU33: 01010257833154DE8160BF2D6BDA6D15BE38 | AV33: 91
A34: EPS블록 채움 | B34: EPS블록 4호(비중 0.015) | C34: M3 | D34: 90 | M34: 호표 6 | N34: 57A0C15224E169474464F3131CEB29 | Q34: 010102 | R34: T | S34: F | T34: F | AU34: 01010257A0C15224E169474464F3131CEB29 | AV34: 99
A35: 방습필름 설치 - 바닥 | B35: 폴리에틸렌필름, 두께, 0.03mm, 2겹 | C35: M2 | D35: 53 | M35: 호표 7 | N35: 57A0C15224E169474464F3131CEB2C | Q35: 010102 | R35: T | S35: F | T35: F | AU35: 01010257A0C15224E169474464F3131CEB2C | AV35: 86
A51: [ 합 계 ] | N51: TOTAL
A52: 010103 조 적 공 사 | Q52: 010103
A53: 콘크리트벽돌 | B53: 콘크리트벽돌, 190*57*90mm, 대전, C종2급 | C53: 매 | D53: 945 | N53: 508B215597F1691D846D04F961DB5392AA6B76 | Q53: 010103 | R53: F | S53: F | T53: T | AU53: 010103508B215597F1691D846D04F961DB5392AA6B76 | AV53: 52
A54: 0.5B 벽돌쌓기 | B54: 3.6m 이하 | C54: M2 | D54: 12 | M54: 호표 8 | N54: 57A0515563B16D8AA662CC7BE011A6 | Q54: 010103 | R54: T | S54: F | T54: F | AU54: 01010357A0515563B16D8AA662CC7BE011A6 | AV54: 29
A75: [ 합 계 ] | N75: TOTAL
A76: 010104 돌 공 사 | Q76: 010104
A77: 화강석붙임(습식, 물갈기) | B77: 바닥, 포천석 30mm, 모르타르 30mm | C77: M2 | D77: 16 | M77: 호표 9 | N77: 57A0E1571041632A1D63CDDFC05A81 | Q77: 010104 | R77: T | S77: F | T77: F | AU77: 01010457A0E1571041632A1D63CDDFC05A81 | AV77: 31
A78: 화강석붙임(습식, 물갈기) | B78: 바닥, 포천석 30mm, 모르타르 150mm | C78: M2 | D78: 35 | M78: 호표 10 | N78: 57A0E1571041632A1D63CDDFC05A83 | Q78: 010104 | R78: T | S78: F | T78: F | AU78: 01010457A0E1571041632A1D63CDDFC05A83 | AV78: 32
A79: 화강석 두겁돌(습식) | B79: 포천석 200*180mm, 모르타르 30mm | C79: M | D79: 12 | M79: 호표 11 | N79: 57A0E15710016541F46A088B291D2F | Q79: 010104 | R79: T | S79: F | T79: F | AU79: 01010457A0E15710016541F46A088B291D2F | AV79: 33
A80: 광택작업 | B80: 화강석면 | C80: M2 | D80: 55 | M80: 호표 12 | N80: 57A191544331669A256D269E883F68 | Q80: 010104 | R80: T | S80: F | T80: F | AU80: 01010457A191544331669A256D269E883F68 | AV80: 34
A99: [ 합 계 ] | N99: TOTAL
A100: 010105 목 공 사 | Q100: 010105
A101: 목재 걸레받이 | B101: 라왕 H120*24mm,방염도장 | C101: M | D101: 22 | M101: 호표 13 | N101: 57A0A15DAE016314D666809178B0EA | Q101: 010105 | R101: T | S101: F | T101: F | AU101: 01010557A0A15DAE016314D666809178B0EA | AV101: 36
A102: 중간몰딩설치 | B102: 라왕가공 30*30,방염도장 | C102: M | D102: 22 | M102: 호표 14 | N102: 57A0A15DAE016314D666825F8B9CC4 | Q102: 010105 | R102: T | S102: F | T102: F | AU102: 01010557A0A15DAE016314D666825F8B9CC4 | AV102: 37
A103: MDF위인테리어필름설치 | B103: 합판30*9mm@450,MDF12mm,인테리어필름(방염) | C103: M2 | D103: 16 | M103: 호표 15 | N103: 57A0C1525051611FCA6A61033232B4 | Q103: 010105 | R103: T | S103: F | T103: F | AU103: 01010557A0C1525051611FCA6A61033232B4 | AV103: 38
A123: [ 합 계 ] | N123: TOTAL
A124: 010106 금 속 공 사 | Q124: 010106
A125: 철판계단설치 | B125: W975*L875*H650, 각관틀위무늬강판4.5t | C125: EA | D125: 2 | M125: 호표 16 | N125: 57A0915F0D01679E06600AA8FC1A64 | Q125: 010106 | R125: T | S125: F | T125: F | AU125: 01010657A0915F0D01679E06600AA8FC1A64 | AV125: 41
A126: 스테인리스재료분리대 | B126: 바닥, W20*H20*1.5t | C126: M | D126: 14 | M126: 호표 17 | N126: 57A0C1521A71628B85649B4215A8CD | Q126: 010106 | R126: T | S126: F | T126: F | AU126: 01010657A0C1521A71628B85649B4215A8CD | AV126: 42
A147: [ 합 계 ] | N147: TOTAL
A148: 010107 철 거 공 사 | Q148: 010107
A149: 콘크리트구조물 헐기(소형장비) | B149: 전기식, 철근 | C149: M3 | D149: 12 | M149: 호표 18 | N149: 57A12158F78165FE4360A161C003B4 | Q149: 010107 | R149: T | S149: F | T149: F | AU149: 01010757A12158F78165FE4360A161C003B4 | AV149: 84
A150: 마루틀및마루널 철거(계단포함) | B150: 육송45*90@900/45*45@450,합판12mm,미송후로링12mm | C150: M2 | D150: 53 | M150: 호표 19 | N150: 57A12158F7316D9317678D8B4D310A | Q150: 010107 | R150: T | S150: F | T150: F | AU150: 01010757A12158F7316D9317678D8B4D310A | AV150: 46
A151: 벽틀및무늬목(마루귀틀포함) 철거 | B151: 라왕45*45/45*45,나무라이트위무늬목,라왕90*150 | C151: M2 | D151: 11 | M151: 호표 20 | N151: 57A12158F7316D9317678D8B4D310E | Q151: 010107 | R151: T | S151: F | T151: F | AU151: 01010757A12158F7316D9317678D8B4D310E | AV151: 47
A152: 걸레받이 철거 | C152: M | D152: 24 | M152: 호표 21 | N152: 57A12158F7316D9317678D88F63D51 | Q152: 010107 | R152: T | S152: F | T152: F | AU152: 01010757A12158F7316D9317678D88F63D51 | AV152: 48
...

Sheet 일위대가목록
A1: 일 위 대 가 목 록
A2: [ 대덕구청 청렴관 장애인편의시설 개선공사 ]
A3: 코 드 | B3: 품 명 | C3: 규 격 | D3: 단위 | E3: 재 료 비 | F3: 노 무 비 | G3: 경 비 | H3: 합 계 | I3: 번 호 | J3: 비 고 | K3: 노임계수 | L3: 할증 | M3: 품셈개요 | N3: 장비일위
A4: 57A0215264D16AE6056FFC85618EAA | B4: 건축물보양 - 기존마감보호 | C4: 합판12mm,부직포2겹 | D4: M2 | I4: 호표 2
A5: 57A0215264E16B3A666341252521ED | B5: 현장정리및준공청소 | C5: 수선 | D5: M2 | I5: 호표 3 | M5: 공통 2-9-2
A6: 57A0715A220166A8E76DB4494A9D56 | B6: 레디믹스트콘크리트 인력운반 타설 | C6: 소형구조물 | D6: M3 | I6: 호표 4 | M6: 공통 6-1-1
A7: 57833154DE8160BF2D6BDA6D15BE38 | B7: 철근 현장가공 및 현장조립 | C7: Type-Ⅰ(일반)/소형구조물 | D7: TON | I7: 호표 5 | M7: 공통 6-2-2.3
A8: 57A0C15224E169474464F3131CEB29 | B8: EPS블록 채움 | C8: EPS블록 4호(비중 0.015) | D8: M3 | I8: 호표 6
A9: 57A0C15224E169474464F3131CEB2C | B9: 방습필름 설치 - 바닥 | C9: 폴리에틸렌필름, 두께, 0.03mm, 2겹 | D9: M2 | I9: 호표 7 | M9: 건축 5-4-8
A10: 57A0515563B16D8AA662CC7BE011A6 | B10: 0.5B 벽돌쌓기 | C10: 3.6m 이하 | D10: M2 | I10: 호표 8 | M10: 건축 2-1-1
A11: 57A0E1571041632A1D63CDDFC05A81 | B11: 화강석붙임(습식, 물갈기) | C11: 바닥, 포천석 30mm, 모르타르 30mm | D11: M2 | I11: 호표 9 | M11: 조달시장시공
A12: 57A0E1571041632A1D63CDDFC05A83 | B12: 화강석붙임(습식, 물갈기) | C12: 바닥, 포천석 30mm, 모르타르 150mm | D12: M2 | I12: 호표 10 | M12: 조달시장시공
A13: 57A0E15710016541F46A088B291D2F | B13: 화강석 두겁돌(습식) | C13: 포천석 200*180mm, 모르타르 30mm | D13: M | I13: 호표 11 | M13: 조달시장시공
A14: 57A191544331669A256D269E883F68 | B14: 광택작업 | C14: 화강석면 | D14: M2 | I14: 호표 12 | M14: 조달시장시공
A15: 57A0A15DAE016314D666809178B0EA | B15: 목재 걸레받이 | C15: 라왕 H120*24mm,방염도장 | D15: M | I15: 호표 13
A16: 57A0A15DAE016314D666825F8B9CC4 | B16: 중간몰딩설치 | C16: 라왕가공 30*30,방염도장 | D16: M | I16: 호표 14
A17: 57A0C1525051611FCA6A61033232B4 | B17: MDF위인테리어필름설치 | C17: 합판30*9mm@450,MDF12mm,인테리어필름(방염) | D17: M2 | I17: 호표 15
A18: 57A0915F0D01679E06600AA8FC1A64 | B18: 철판계단설치 | C18: W975*L875*H650, 각관틀위무늬강판4.5t | D18: EA | I18: 호표 16
A19: 57A0C1521A71628B85649B4215A8CD | B19: 스테인리스재료분리대 | C19: 바닥, W20*H20*1.5t | D19: M | I19: 호표 17
A20: 57A12158F78165FE4360A161C003B4 | B20: 콘크리트구조물 헐기(소형장비) | C20: 전기식, 철근 | D20: M3 | I20: 호표 18 | M20: 건축 12-1-1
A21: 57A12158F7316D9317678D8B4D310A | B21: 마루틀및마루널 철거(계단포함) | C21: 육송45*90@900/45*45@450,합판12mm,미송후로링12mm | D21: M2 | I21: 호표 19
A22: 57A12158F7316D9317678D8B4D310E | B22: 벽틀및무늬목(마루귀틀포함) 철거 | C22: 라왕45*45/45*45,나무라이트위무늬목,라왕90*150 | D22: M2 | I22: 호표 20
A23: 57A12158F7316D9317678D88F63D51 | B23: 걸레받이 철거 | D23: M | I23: 호표 21 | M23: 설치품의40%
A24: 57A12158F78165FE4360A161C000E2 | B24: 콘크리트절단 | D24: M | I24: 호표 22
A25: 57A0715A220166A8E76DB67745172F | B25: 레디믹스트콘크리트 인력운반 타설 | C25: 무근구조물 | D25: M3 | I25: 호표 26 | M25: 공통 6-1-1
A26: 50B0715BE461645EBC62B71AFB5106D02D6C5A75 | B26: 굴삭기(무한궤도) | C26: 0.2㎥ | D26: HR | I26: 호표 27 | K26: A | M26: 공통 8-3,4(0201) | N26: T
A27: 57833154DE8160BF2D692B29EC0D79 | B27: 철근 현장가공 | C27: Type-Ⅰ(일반) | D27: TON | I27: 호표 28 | M27: 공통 6-2-2
A28: 57833154DE8160BF2D69285467CACE | B28: 철근 현장조립 | C28: Type-Ⅰ(일반)/소형구조물 | D28: TON | I28: 호표 29 | M28: 공통 6-2-3
A29: 57A0C15224E169476761E84247B7C7 | B29: 방습필름 설치 | C29: 바닥 | D29: M2 | I29: 호표 30 | M29: 건축 5-4-8
A30: 57A041571AF16C72836C8B1D623923 | B30: 모르타르 배합(배합품 포함) | C30: 배합용적비 1:3, 시멘트, 모래 별도 | D30: M3 | I30: 호표 31 | M30: 건축 9-1-1
A31: 57A0E1571071684F206FBAC87033FB | B31: 모르타르비빔 - 돌붙임(바닥) | C31: 배합용적비 1:3, 시멘트, 모래 별도 | D31: M3 | I31: 호표 32 | M31: 건축 9-1-1
A32: 57A0C1527CA16074B7661DBB21C589 | B32: 걸레받이 설치 | C32: 중밀도섬유판, H=75~120mm 기준 | D32: M | I32: 호표 33 | M32: 건축 5-3-5
A33: 57A0D150BB41612CCD60D6BDEEB1F2 | B33: 친환경방염페인트칠 | C33: 수성무광,방염도장3회,방염필증제품 | D33: M2 | I33: 호표 34
A34: 57A0C152D5316B27C361F3972049D4 | B34: 마루귀틀 설치 | D34: M | I34: 호표 35 | M34: 건축 5-3-6
A35: 57A0A15DAE216E08D3648012AB3F45 | B35: 벽체틀 설치 | C35: 자재 별도 | D35: M2 | I35: 호표 36 | M35: 건축 4-2-1
A36: 57A0C1525051611F9D668537964781 | B36: 벽체합판 설치 | C36: 합판 별도 | D36: M2 | I36: 호표 37 | M36: 건축 4-2-3
A37: 57A0915FF5C16107A069B45122E769 | B37: (하위)무늬강판 현장제작설치 | C37: 무늬강판, 4.5mm, 녹막이1회,도장마감 | D37: M2 | I37: 호표 38
A38: 57A0915FF5C16107A06A58059E2CED | B38: (하위)각형강관 규격철물설치 | C38: 아연도각관 ㅁ50*50*1.6t | D38: M | I38: 호표 39
A39: 57A0915FF5A1663A536124FC9E7872 | B39: 잡철물 제작 및 설치 | C39: 현장제작 설치, 일반철재 | D39: kg | I39: 호표 40 | M39: 건축 8-3-1
A40: 57A0D150C5B169AC7C6FEBE8B9EB2B | B40: 녹막이페인트 붓칠 | C40: 철재면, 1회 2종 | D40: M2 | I40: 호표 41 | M40: 건축 11-2-6
...

Sheet 일위대가
A1: [ 대덕구청 청렴관 장애인편의시설 개선공사 ]
A2: 품 명 | B2: 규 격 | C2: 단위 | D2: 수량 | E2: 재 료 비 | G2: 노 무 비 | I2: 경 비 | K2: 합 계 | M2: 비 고 | N2: 일위대가 | O2: 품목코드 | P2: 일위 | Q2: 단산 | R2: 자재 | S2: 손료적용 | T2: 손료저장 | U2: 적용율 | V2: JUK1 | W2: JUK2 | X2: JUK3 | Y2: JUK4 | Z2: JUK5 | AA2: JUK6 | AB2: JUK7 | AC2: JUK8 | AD2: JUK9 | AE2: JUK10 | AF2: JUK11 | AG2: JUK12 | AH2: JUK13 | AI2: JUK14 | AJ2: JUK15 | AK2: JUK16 | AL2: JUK17 | AM2: JUK18 | AN2: JUK19 | AO2: JUK20 | AP2: 할증적용 | AQ2: 할증저장 | AR2: 할증율 | AS2: HAL1 | AT2: HAL2 | AU2: HAL3 | AV2: 자재구분 | AW2: 일위대가+자재 | AX2: 장비일위 | AY2: 설정
E3: 단 가 | F3: 금 액 | G3: 단 가 | H3: 금 액 | I3: 단 가 | J3: 금 액 | K3: 단 가 | L3: 금 액
A4: 건축물보양 - 기존마감보호 합판12mm,부직포2겹 M2 ( 호표 2 ) | N4: 57A0215264D16AE6056FFC85618EAA
A5: 보통합판 | B5: 보통합판, 1급, 12*1220*2440mm | C5: M2 | D5: 1.03 | N5: 57A0215264D16AE6056FFC85618EAA | O5: 50A6115DA2216332D76CD602CCEED6B5F81093 | P5: F | Q5: F | R5: T | AW5: 57A0215264D16AE6056FFC85618EAA50A6115DA2216332D76CD602CCEED6B5F81093
A6: 토목용부직포 | B6: 토목용부직포, 부직포, 장섬유 | C6: M2 | D6: 2.2 | N6: 57A0215264D16AE6056FFC85618EAA | O6: 508B215597E168839661B6CB2AF4644261CB0D | P6: F | Q6: F | R6: T | AW6: 57A0215264D16AE6056FFC85618EAA508B215597E168839661B6CB2AF4644261CB0D
A7: 보통인부 | B7: 일반공사 직종 | C7: 인 | D7: 0.03 | N7: 57A0215264D16AE6056FFC85618EAA | O7: 577BF1546D216936C1629E41ED9DD3C23C8267 | P7: F | Q7: F | R7: T | V7: 1 | AW7: 57A0215264D16AE6056FFC85618EAA577BF1546D216936C1629E41ED9DD3C23C8267
A8: 해체품 | B8: 인력품의 40% | C8: 식 | D8: 1 | N8: 57A0215264D16AE6056FFC85618EAA | O8: 56BEE15E6AD1655AC6625B148B36001 | P8: F | Q8: F | R8: F | S8: 1 | T8: 1 | U8: 0.4 | AW8: 57A0215264D16AE6056FFC85618EAA56BEE15E6AD1655AC6625B148B36001
A9: [ 합 계 ] | N9: TOTAL | O9: TOTAL
A11: 현장정리및준공청소 수선 M2 공통 2-9-2 ( 호표 3 ) | N11: 57A0215264E16B3A666341252521ED
A12: 보통인부 | B12: 일반공사 직종 | C12: 인 | D12: 0.03 | N12: 57A0215264E16B3A666341252521ED | O12: 577BF1546D216936C1629E41ED9DD3C23C8267 | P12: F | Q12: F | R12: T | AW12: 57A0215264E16B3A666341252521ED577BF1546D216936C1629E41ED9DD3C23C8267
A13: [ 합 계 ] | N13: TOTAL | O13: TOTAL
A15: 레디믹스트콘크리트 인력운반 타설 소형구조물 M3 공통 6-1-1 ( 호표 4 ) | N15: 57A0715A220166A8E76DB4494A9D56
A16: 콘크리트공 | B16: 일반공사 직종 | C16: 인 | D16: 0.24 | N16: 57A0715A220166A8E76DB4494A9D56 | O16: 577BF1546D216936C1629E41ED9DD3C23C8308 | P16: F | Q16: F | R16: T | V16: 1 | AW16: 57A0715A220166A8E76DB4494A9D56577BF1546D216936C1629E41ED9DD3C23C8308
A17: 보통인부 | B17: 일반공사 직종 | C17: 인 | D17: 0.3 | N17: 57A0715A220166A8E76DB4494A9D56 | O17: 577BF1546D216936C1629E41ED9DD3C23C8267 | P17: F | Q17: F | R17: T | V17: 1 | AW17: 57A0715A220166A8E76DB4494A9D56577BF1546D216936C1629E41ED9DD3C23C8267
A18: 공구손료 | B18: 인력품의 2% | C18: 식 | D18: 1 | N18: 57A0715A220166A8E76DB4494A9D56 | O18: 56BEE15E6AD1655AC6625B148B36001 | P18: F | Q18: F | R18: F | S18: 1 | T18: 2 | U18: 0.02 | AW18: 57A0715A220166A8E76DB4494A9D5656BEE15E6AD1655AC6625B148B36001
A19: [ 합 계 ] | N19: TOTAL | O19: TOTAL
A21: 철근 현장가공 및 현장조립 Type-Ⅰ(일반)/소형구조물 TON 공통 6-2-2.3 ( 호표 5 ) | N21: 57833154DE8160BF2D6BDA6D15BE38
A22: 철근 현장가공 | B22: Type-Ⅰ(일반) | C22: TON | D22: 1 | M22: 호표 28 | N22: 57833154DE8160BF2D6BDA6D15BE38 | O22: 57833154DE8160BF2D692B29EC0D79 | P22: T | Q22: F | R22: F | AW22: 57833154DE8160BF2D6BDA6D15BE3857833154DE8160BF2D692B29EC0D79
A23: 철근 현장조립 | B23: Type-Ⅰ(일반)/소형구조물 | C23: TON | D23: 1 | M23: 호표 29 | N23: 57833154DE8160BF2D6BDA6D15BE38 | O23: 57833154DE8160BF2D69285467CACE | P23: T | Q23: F | R23: F | AW23: 57833154DE8160BF2D6BDA6D15BE3857833154DE8160BF2D69285467CACE
A24: [ 합 계 ] | N24: TOTAL | O24: TOTAL
A26: EPS블록 채움 EPS블록 4호(비중 0.015) M3 ( 호표 6 ) | N26: 57A0C15224E169474464F3131CEB29
A27: 토목용EPS블록 | B27: 900*1800mm*600T | C27: 개 | D27: 1.1317 | N27: 57A0C15224E169474464F3131CEB29 | O27: 508B215597816616D46CEC70058E84FCAF181B | P27: F | Q27: F | R27: T | AW27: 57A0C15224E169474464F3131CEB29508B215597816616D46CEC70058E84FCAF181B
A28: 보통인부 | B28: 일반공사 직종 | C28: 인 | D28: 0.04 | N28: 57A0C15224E169474464F3131CEB29 | O28: 577BF1546D216936C1629E41ED9DD3C23C8267 | P28: F | Q28: F | R28: T | AW28: 57A0C15224E169474464F3131CEB29577BF1546D216936C1629E41ED9DD3C23C8267
A29: [ 합 계 ] | N29: TOTAL | O29: TOTAL
A31: 방습필름 설치 - 바닥 폴리에틸렌필름, 두께, 0.03mm, 2겹 M2 건축 5-4-8 ( 호표 7 ) | N31: 57A0C15224E169474464F3131CEB2C
A32: 폴리에틸렌필름 | B32: 폴리에틸렌필름, 두께, 0.03mm | C32: M2 | D32: 2.3 | N32: 57A0C15224E169474464F3131CEB2C | O32: 50A631589A316F47AD6967CB584C1442DB1F79 | P32: F | Q32: F | R32: T | AW32: 57A0C15224E169474464F3131CEB2C50A631589A316F47AD6967CB584C1442DB1F79
A33: 방습필름 설치 | B33: 바닥 | C33: M2 | D33: 1 | M33: 호표 30 | N33: 57A0C15224E169474464F3131CEB2C | O33: 57A0C15224E169476761E84247B7C7 | P33: T | Q33: F | R33: F | AW33: 57A0C15224E169474464F3131CEB2C57A0C15224E169476761E84247B7C7
A34: [ 합 계 ] | N34: TOTAL | O34: TOTAL
A36: 0.5B 벽돌쌓기 3.6m 이하 M2 건축 2-1-1 ( 호표 8 ) | N36: 57A0515563B16D8AA662CC7BE011A6
A37: 조적공 | B37: 일반공사 직종 | C37: 인 | D37: 0.11 | N37: 57A0515563B16D8AA662CC7BE011A6 | O37: 577BF1546D216936C1629E41ED9DD3C23C80B6 | P37: F | Q37: F | R37: T | V37: 1 | AW37: 57A0515563B16D8AA662CC7BE011A6577BF1546D216936C1629E41ED9DD3C23C80B6
A38: 보통인부 | B38: 일반공사 직종 | C38: 인 | D38: 0.03 | N38: 57A0515563B16D8AA662CC7BE011A6 | O38: 577BF1546D216936C1629E41ED9DD3C23C8267 | P38: F | Q38: F | R38: T | V38: 1 | AW38: 57A0515563B16D8AA662CC7BE011A6577BF1546D216936C1629E41ED9DD3C23C8267
A39: 공구손료 | B39: 인력품의 2% | C39: 식 | D39: 1 | N39: 57A0515563B16D8AA662CC7BE011A6 | O39: 56BEE15E6AD1655AC6625B148B36001 | P39: F | Q39: F | R39: F | S39: 1 | T39: 2 | U39: 0.02 | AW39: 57A0515563B16D8AA662CC7BE011A656BEE15E6AD1655AC6625B148B36001
A40: 콘크리트벽돌 | B40: 콘크리트벽돌, 190*57*90mm, C종2급 | C40: 매 | D40: 75 | M40: 별도 | N40: 57A0515563B16D8AA662CC7BE011A6 | O40: 508B215597F1691D846D04FA06909C85C1B987 | P40: F | Q40: F | R40: T | AW40: 57A0515563B16D8AA662CC7BE011A6508B215597F1691D846D04FA06909C85C1B987
A41: 모르타르 배합(배합품 포함) | B41: 배합용적비 1:3, 시멘트, 모래 별도 | C41: M3 | D41: 0.019 | M41: 호표 31 | N41: 57A0515563B16D8AA662CC7BE011A6 | O41: 57A041571AF16C72836C8B1D623923 | P41: T | Q41: F | R41: F | AW41: 57A0515563B16D8AA662CC7BE011A657A041571AF16C72836C8B1D623923
A42: [ 합 계 ] | N42: TOTAL | O42: TOTAL
A44: 화강석붙임(습식, 물갈기) 바닥, 포천석 30mm, 모르타르 30mm M2 조달시장시공 ( 호표 9 ) | N44: 57A0E1571041632A1D63CDDFC05A81
A45: ★자연석판석 | B45: 자연석판석, 물갈기, 30mm, 포천석판재 | C45: M2 | D45: 1.1 | N45: 57A0E1571041632A1D63CDDFC05A81 | O45: 508B215597F1691D956350EE33ED7F57FF8CC0 | P45: F | Q45: F | R45: T | AW45: 57A0E1571041632A1D63CDDFC05A81508B215597F1691D956350EE33ED7F57FF8CC0
A46: 모르타르비빔 - 돌붙임(바닥) | B46: 배합용적비 1:3, 시멘트, 모래 별도 | C46: M3 | D46: 0.03 | M46: 호표 32 | N46: 57A0E1571041632A1D63CDDFC05A81 | O46: 57A0E1571071684F206FBAC87033FB | P46: T | Q46: F | R46: F | AW46: 57A0E1571041632A1D63CDDFC05A8157A0E1571071684F206FBAC87033FB
A47: 화강석붙임(바닥) | B47: t=30mm | C47: ㎡ | D47: 1 | N47: 57A0E1571041632A1D63CDDFC05A81 | O47: 57A0C152CB4161BD71643625419483 | P47: F | Q47: F | R47: T | AW47: 57A0E1571041632A1D63CDDFC05A8157A0C152CB4161BD71643625419483
...

Sheet 단가대비표
A1: 단 가 대 비 표
A2: [ 대덕구청 청렴관 장애인편의시설 개선공사 ]
A3: 코 드 | B3: 품 명 | C3: 규격 | D3: 단위 | E3: 재 료 비 | P3: 노 무 비 | Q3: 경 비 | W3: 번 호 | X3: 비 고 | Y3: 품목구분 | Z3: 노임구분 | AA3: 소수점처리 | AB3: 자재구분
E4: 조달청가격 | F4: PAGE | G4: 거래가격 | H4: PAGE | I4: 유통물가 | J4: PAGE | K4: 물가자료 | L4: PAGE | M4: 조사가격 | N4: PAGE | O4: 적용단가 | Q4: 조달청가격 | R4: 거래가격 | S4: 유통물가 | T4: 물가자료 | U4: 조사가격 | V4: 적용단가
A5: 50B0715BE461645EBC62B71AFB5106D02D6C5A | B5: 굴삭기(무한궤도) | C5: 0.2㎥ | D5: 대 | W5: 자재 1 | X5: 천원
A6: 50B0715BE4616410A269AA54C83123BC6147A6 | B6: 커터(콘크리트 및 아스팔트용) | C6: 320∼400mm | D6: 대 | W6: 자재 2 | X6: 천원
A7: 50B0715BE4616406566FE2FA46C66FC8614AE5 | B7: 소형브레이커(전기식) | C7: 1.5kw | D7: 대 | W7: 자재 3 | X7: 천원
A8: 50A6115DA21162A0BF6CB2ADF32446D4C3AE07 | B8: 화강석 | C8: 화강석, 포천석, 원석, A급 | D8: M3 | W8: 자재 4
A9: 50A6115DA21162A0AD65ACA2EE71E735AF2A5C | B9: 모래 | C9: (별도) | D9: M3 | W9: 자재 5 | X9: 별도
A10: 50A6115DA21162A0AD65ACA2EE71E735AF2B78 | B10: 모래 | C10: 모래, 대전, 도착도 | D10: M3 | W10: 자재 6
A11: 50A6115DA2216332D76CD602CCEED6B5F81091 | B11: 보통합판 | C11: 보통합판, 1급, 9.0*1220*2440mm | D11: M2 | W11: 자재 7
A12: 50A6115DA2216332D76CD602CCEED6B5F81093 | B12: 보통합판 | C12: 보통합판, 1급, 12*1220*2440mm | D12: M2 | W12: 자재 8
A13: 50A6115DA2216332D76CD4519CA9CB581BCB03 | B13: 중밀도섬유판 | C13: 중밀도섬유판, 12*1220*2440mm | D13: M2 | W13: 자재 9
A14: 50A6115DA291660C8660A259A94DA144FEADA5 | B14: 철강설 | C14: 철강설, 고철, 작업설부산물 | D14: kg | W14: 자재 10 | X14: 수집상차도
A15: 50A6115DA291660C8660A259A94DA144FEAC81 | B15: 철강설 | C15: 철강설, 스텐레스, 작업설부산물 | D15: kg | W15: 자재 11 | X15: 수집상차도
A16: 50A631589A316F47AD6967CB584C1442DB1F79 | B16: 폴리에틸렌필름 | C16: 폴리에틸렌필름, 두께, 0.03mm | D16: M2 | W16: 자재 12
A17: 50A6515B7BD16017AD60E6D24BAB737D283244 | B17: 경유 | C17: 경유, 저유황 | D17: L | W17: 자재 13
A18: 50A6515B7BD16017AD60E5C885711E31E43AD0 | B18: 공업용휘발유 | C18: 공업용휘발유, 무연 | D18: L | W18: 자재 14
A19: 508B215597C16DA45566B3418D90151903BA18 | B19: 철근콘크리트용봉강 | C19: 이형봉강(SD350/400), HD-10, 지정장소도 | D19: TON | W19: 자재 15
A20: 508B215597C16DA45566B3418D90151900E6B9 | B20: 철근콘크리트용봉강 | C20: 이형봉강(SD350/400), HD-13, 지정장소도 | D20: TON | W20: 자재 16
A21: 508B215597C16D9BE865E66FC6966361225897 | B21: 무늬강판 | C21: 무늬강판, 4.5mm | D21: kg | W21: 자재 17
A22: 508B215597C16D9BE865E66FC69663600767AE | B22: 일반구조용압연강판 | C22: 일반구조용압연강판, 1.6mm | D22: kg | W22: 자재 18
A23: 508B215597C16D9BE865E77638CEEC7C5B1972 | B23: 스테인리스강판 | C23: 스테인리스강판, STS304, 1.5mm | D23: kg | W23: 자재 19
A24: 508B215597C16D89306074266FA3CB31720D8D | B24: 판재 | C24: 판재, 라왕, 일반증기건조 | D24: 재 | W24: 자재 20
A25: 508B215597C16D893069667E049F83DCC11A13 | B25: 각재 | C25: 각재, 라왕, 일반증기건조 | D25: 재 | W25: 자재 21
A26: 508B215597D16E367D67A46145FF0A0A3E2263 | B26: 레미콘 - 서울 | C26: 25-18-08 | D26: M3 | W26: 자재 22
A27: 508B215597D16E367D67A46145FF0A0BC5B4B8 | B27: 레미콘 - 대전 | C27: 25-24-15 | D27: M3 | W27: 자재 23
A28: 508B215597D16E3640630219969296C0896A5F | B28: 시멘트 | C28: 시멘트(별도) | D28: kg | W28: 자재 24 | X28: 별도
A29: 508B215597D16E3640630219969296C0896A5B | B29: 시멘트 | C29: 40KG | D29: 포 | W29: 자재 25
A30: 508B215597E168839661B6CB2AF4644261CB0D | B30: 토목용부직포 | C30: 토목용부직포, 부직포, 장섬유 | D30: M2 | W30: 자재 26
A31: 508B215597F1691D846D04F961DB5392AA6B76 | B31: 콘크리트벽돌 | C31: 콘크리트벽돌, 190*57*90mm, 대전, C종2급 | D31: 매 | W31: 자재 27
A32: 508B215597F1691D846D04FA06909C85C1B987 | B32: 콘크리트벽돌 | C32: 콘크리트벽돌, 190*57*90mm, C종2급 | D32: 매 | W32: 자재 28 | X32: 별도
A33: 508B215597F1691D956350EE33ED7F57FF8CC0 | B33: ★자연석판석 | C33: 자연석판석, 물갈기, 30mm, 포천석판재 | D33: M2 | W33: 자재 29
A34: 508B215597F1691D956350EE32CD877F9356FC | B34: 자연석판석 | C34: 자연석판석, 물갈기, 50mm, 포천석판재 | D34: M2 | W34: 자재 30
A35: 508B215597816616D46CEC70058E84FCAF181B | B35: 토목용EPS블록 | C35: 900*1800mm*600T | D35: 개 | W35: 자재 31
A36: 508B215597A162FF98619A053C5F65641F2A9B | B36: 인테리어필름 | C36: 0.4~0.42, 방염(우드),시공비포함 | D36: M2 | W36: 자재 32
A37: 508B215597516ADA486A47507902A2FE051A74 | B37: 강관비계 | C37: 강관비계, 비계파이프, 48.6*2.3mm | D37: M | W37: 자재 33
A38: 508B215597516ADA486A47507902A2FE047641 | B38: 강관비계 부속철물 | C38: 이음철물, 연결핀 | D38: 개 | W38: 자재 34
A39: 508B215597516ADA486A47507902A2FE047646 | B39: 강관비계 부속철물 | C39: 클램프 고정, 자동 | D39: 개 | W39: 자재 35
A40: 508B215597516ADA756E2569A149B7FC2921D7 | B40: 조립식 가설울타리 부재 | C40: EGI철판, 550*2400 | D40: 매 | W40: 자재 36
...

Sheet Sheet1
